BEGIN:VCALENDAR
VERSION:2.0
PRODID:-//JF Kicks Restaurant - ECPv6.15.18//NONSGML v1.0//EN
CALSCALE:GREGORIAN
METHOD:PUBLISH
X-ORIGINAL-URL:https://jfkicksrestaurant.com
X-WR-CALDESC:Events for JF Kicks Restaurant
REFRESH-INTERVAL;VALUE=DURATION:PT1H
X-Robots-Tag:noindex
X-PUBLISHED-TTL:PT1H
BEGIN:VTIMEZONE
TZID:America/New_York
BEGIN:DAYLIGHT
TZOFFSETFROM:-0500
TZOFFSETTO:-0400
TZNAME:EDT
DTSTART:20280312T070000
END:DAYLIGHT
BEGIN:STANDARD
TZOFFSETFROM:-0400
TZOFFSETTO:-0500
TZNAME:EST
DTSTART:20281105T060000
END:STANDARD
BEGIN:DAYLIGHT
TZOFFSETFROM:-0500
TZOFFSETTO:-0400
TZNAME:EDT
DTSTART:20290311T070000
END:DAYLIGHT
BEGIN:STANDARD
TZOFFSETFROM:-0400
TZOFFSETTO:-0500
TZNAME:EST
DTSTART:20291104T060000
END:STANDARD
BEGIN:DAYLIGHT
TZOFFSETFROM:-0500
TZOFFSETTO:-0400
TZNAME:EDT
DTSTART:20300310T070000
END:DAYLIGHT
BEGIN:STANDARD
TZOFFSETFROM:-0400
TZOFFSETTO:-0500
TZNAME:EST
DTSTART:20301103T060000
END:STANDARD
BEGIN:DAYLIGHT
TZOFFSETFROM:-0500
TZOFFSETTO:-0400
TZNAME:EDT
DTSTART:20310309T070000
END:DAYLIGHT
BEGIN:STANDARD
TZOFFSETFROM:-0400
TZOFFSETTO:-0500
TZNAME:EST
DTSTART:20311102T060000
END:STANDARD
BEGIN:DAYLIGHT
TZOFFSETFROM:-0500
TZOFFSETTO:-0400
TZNAME:EDT
DTSTART:20320314T070000
END:DAYLIGHT
BEGIN:STANDARD
TZOFFSETFROM:-0400
TZOFFSETTO:-0500
TZNAME:EST
DTSTART:20321107T060000
END:STANDARD
END:VTIMEZONE
BEGIN:VEVENT
DTSTART;TZID=America/New_York:20290601T200000
DTEND;TZID=America/New_York:20290601T235900
DTSTAMP:20260419T220059
CREATED:20251124T112117Z
LAST-MODIFIED:20260413T125442Z
UID:10005842-1875038400-1875052740@jfkicksrestaurant.com
SUMMARY:Gene Cannon
DESCRIPTION:Instrumentalist and vocalist Gene Cannon provides the perfect musical accompaniment to your Friday evening on the Kicks patio!
URL:https://jfkicksrestaurant.com/event/gene-cannon-music-2-2/2029-06-01/
LOCATION:Outdoor Covered Patio Stage
CATEGORIES:Music
ATTACH;FMTTYPE=image/jpeg:https://jfkicksrestaurant.com/wp-content/uploads/2024/01/Gene-Cannon.jpeg
END:VEVENT
BEGIN:VEVENT
DTSTART;TZID=America/New_York:20290706T200000
DTEND;TZID=America/New_York:20290706T235900
DTSTAMP:20260419T220059
CREATED:20251124T112117Z
LAST-MODIFIED:20260413T125442Z
UID:10005843-1878062400-1878076740@jfkicksrestaurant.com
SUMMARY:Gene Cannon
DESCRIPTION:Instrumentalist and vocalist Gene Cannon provides the perfect musical accompaniment to your Friday evening on the Kicks patio!
URL:https://jfkicksrestaurant.com/event/gene-cannon-music-2-2/2029-07-06/
LOCATION:Outdoor Covered Patio Stage
CATEGORIES:Music
ATTACH;FMTTYPE=image/jpeg:https://jfkicksrestaurant.com/wp-content/uploads/2024/01/Gene-Cannon.jpeg
END:VEVENT
BEGIN:VEVENT
DTSTART;TZID=America/New_York:20290803T200000
DTEND;TZID=America/New_York:20290803T235900
DTSTAMP:20260419T220059
CREATED:20251124T112117Z
LAST-MODIFIED:20260413T125442Z
UID:10005844-1880481600-1880495940@jfkicksrestaurant.com
SUMMARY:Gene Cannon
DESCRIPTION:Instrumentalist and vocalist Gene Cannon provides the perfect musical accompaniment to your Friday evening on the Kicks patio!
URL:https://jfkicksrestaurant.com/event/gene-cannon-music-2-2/2029-08-03/
LOCATION:Outdoor Covered Patio Stage
CATEGORIES:Music
ATTACH;FMTTYPE=image/jpeg:https://jfkicksrestaurant.com/wp-content/uploads/2024/01/Gene-Cannon.jpeg
END:VEVENT
BEGIN:VEVENT
DTSTART;TZID=America/New_York:20290907T200000
DTEND;TZID=America/New_York:20290907T235900
DTSTAMP:20260419T220059
CREATED:20251124T112117Z
LAST-MODIFIED:20260413T125442Z
UID:10005845-1883505600-1883519940@jfkicksrestaurant.com
SUMMARY:Gene Cannon
DESCRIPTION:Instrumentalist and vocalist Gene Cannon provides the perfect musical accompaniment to your Friday evening on the Kicks patio!
URL:https://jfkicksrestaurant.com/event/gene-cannon-music-2-2/2029-09-07/
LOCATION:Outdoor Covered Patio Stage
CATEGORIES:Music
ATTACH;FMTTYPE=image/jpeg:https://jfkicksrestaurant.com/wp-content/uploads/2024/01/Gene-Cannon.jpeg
END:VEVENT
BEGIN:VEVENT
DTSTART;TZID=America/New_York:20291005T200000
DTEND;TZID=America/New_York:20291005T235900
DTSTAMP:20260419T220059
CREATED:20251124T112117Z
LAST-MODIFIED:20260413T125442Z
UID:10005846-1885924800-1885939140@jfkicksrestaurant.com
SUMMARY:Gene Cannon
DESCRIPTION:Instrumentalist and vocalist Gene Cannon provides the perfect musical accompaniment to your Friday evening on the Kicks patio!
URL:https://jfkicksrestaurant.com/event/gene-cannon-music-2-2/2029-10-05/
LOCATION:Outdoor Covered Patio Stage
CATEGORIES:Music
ATTACH;FMTTYPE=image/jpeg:https://jfkicksrestaurant.com/wp-content/uploads/2024/01/Gene-Cannon.jpeg
END:VEVENT
BEGIN:VEVENT
DTSTART;TZID=America/New_York:20291102T200000
DTEND;TZID=America/New_York:20291102T235900
DTSTAMP:20260419T220059
CREATED:20251124T112117Z
LAST-MODIFIED:20260413T125442Z
UID:10005847-1888344000-1888358340@jfkicksrestaurant.com
SUMMARY:Gene Cannon
DESCRIPTION:Instrumentalist and vocalist Gene Cannon provides the perfect musical accompaniment to your Friday evening on the Kicks patio!
URL:https://jfkicksrestaurant.com/event/gene-cannon-music-2-2/2029-11-02/
LOCATION:Outdoor Covered Patio Stage
CATEGORIES:Music
ATTACH;FMTTYPE=image/jpeg:https://jfkicksrestaurant.com/wp-content/uploads/2024/01/Gene-Cannon.jpeg
END:VEVENT
BEGIN:VEVENT
DTSTART;TZID=America/New_York:20291207T200000
DTEND;TZID=America/New_York:20291207T235900
DTSTAMP:20260419T220059
CREATED:20251124T112117Z
LAST-MODIFIED:20260413T125442Z
UID:10006407-1891368000-1891382340@jfkicksrestaurant.com
SUMMARY:Gene Cannon
DESCRIPTION:Instrumentalist and vocalist Gene Cannon provides the perfect musical accompaniment to your Friday evening on the Kicks patio!
URL:https://jfkicksrestaurant.com/event/gene-cannon-music-2-2/2029-12-07/
LOCATION:Outdoor Covered Patio Stage
CATEGORIES:Music
ATTACH;FMTTYPE=image/jpeg:https://jfkicksrestaurant.com/wp-content/uploads/2024/01/Gene-Cannon.jpeg
END:VEVENT
BEGIN:VEVENT
DTSTART;TZID=America/New_York:20300104T200000
DTEND;TZID=America/New_York:20300104T235900
DTSTAMP:20260419T220059
CREATED:20251124T112117Z
LAST-MODIFIED:20260413T125442Z
UID:10006408-1893787200-1893801540@jfkicksrestaurant.com
SUMMARY:Gene Cannon
DESCRIPTION:Instrumentalist and vocalist Gene Cannon provides the perfect musical accompaniment to your Friday evening on the Kicks patio!
URL:https://jfkicksrestaurant.com/event/gene-cannon-music-2-2/2030-01-04/
LOCATION:Outdoor Covered Patio Stage
CATEGORIES:Music
ATTACH;FMTTYPE=image/jpeg:https://jfkicksrestaurant.com/wp-content/uploads/2024/01/Gene-Cannon.jpeg
END:VEVENT
BEGIN:VEVENT
DTSTART;TZID=America/New_York:20300201T200000
DTEND;TZID=America/New_York:20300201T235900
DTSTAMP:20260419T220059
CREATED:20251124T112117Z
LAST-MODIFIED:20260413T125442Z
UID:10006409-1896206400-1896220740@jfkicksrestaurant.com
SUMMARY:Gene Cannon
DESCRIPTION:Instrumentalist and vocalist Gene Cannon provides the perfect musical accompaniment to your Friday evening on the Kicks patio!
URL:https://jfkicksrestaurant.com/event/gene-cannon-music-2-2/2030-02-01/
LOCATION:Outdoor Covered Patio Stage
CATEGORIES:Music
ATTACH;FMTTYPE=image/jpeg:https://jfkicksrestaurant.com/wp-content/uploads/2024/01/Gene-Cannon.jpeg
END:VEVENT
BEGIN:VEVENT
DTSTART;TZID=America/New_York:20300301T200000
DTEND;TZID=America/New_York:20300301T235900
DTSTAMP:20260419T220059
CREATED:20251124T112117Z
LAST-MODIFIED:20260413T125442Z
UID:10007032-1898625600-1898639940@jfkicksrestaurant.com
SUMMARY:Gene Cannon
DESCRIPTION:Instrumentalist and vocalist Gene Cannon provides the perfect musical accompaniment to your Friday evening on the Kicks patio!
URL:https://jfkicksrestaurant.com/event/gene-cannon-music-2-2/2030-03-01/
LOCATION:Outdoor Covered Patio Stage
CATEGORIES:Music
ATTACH;FMTTYPE=image/jpeg:https://jfkicksrestaurant.com/wp-content/uploads/2024/01/Gene-Cannon.jpeg
END:VEVENT
BEGIN:VEVENT
DTSTART;TZID=America/New_York:20300405T200000
DTEND;TZID=America/New_York:20300405T235900
DTSTAMP:20260419T220059
CREATED:20251124T112117Z
LAST-MODIFIED:20260413T125442Z
UID:10007033-1901649600-1901663940@jfkicksrestaurant.com
SUMMARY:Gene Cannon
DESCRIPTION:Instrumentalist and vocalist Gene Cannon provides the perfect musical accompaniment to your Friday evening on the Kicks patio!
URL:https://jfkicksrestaurant.com/event/gene-cannon-music-2-2/2030-04-05/
LOCATION:Outdoor Covered Patio Stage
CATEGORIES:Music
ATTACH;FMTTYPE=image/jpeg:https://jfkicksrestaurant.com/wp-content/uploads/2024/01/Gene-Cannon.jpeg
END:VEVENT
BEGIN:VEVENT
DTSTART;TZID=America/New_York:20300503T200000
DTEND;TZID=America/New_York:20300503T235900
DTSTAMP:20260419T220059
CREATED:20251124T112117Z
LAST-MODIFIED:20260413T125442Z
UID:10007034-1904068800-1904083140@jfkicksrestaurant.com
SUMMARY:Gene Cannon
DESCRIPTION:Instrumentalist and vocalist Gene Cannon provides the perfect musical accompaniment to your Friday evening on the Kicks patio!
URL:https://jfkicksrestaurant.com/event/gene-cannon-music-2-2/2030-05-03/
LOCATION:Outdoor Covered Patio Stage
CATEGORIES:Music
ATTACH;FMTTYPE=image/jpeg:https://jfkicksrestaurant.com/wp-content/uploads/2024/01/Gene-Cannon.jpeg
END:VEVENT
BEGIN:VEVENT
DTSTART;TZID=America/New_York:20300607T200000
DTEND;TZID=America/New_York:20300607T235900
DTSTAMP:20260419T220100
CREATED:20251124T112117Z
LAST-MODIFIED:20260413T125442Z
UID:10007035-1907092800-1907107140@jfkicksrestaurant.com
SUMMARY:Gene Cannon
DESCRIPTION:Instrumentalist and vocalist Gene Cannon provides the perfect musical accompaniment to your Friday evening on the Kicks patio!
URL:https://jfkicksrestaurant.com/event/gene-cannon-music-2-2/2030-06-07/
LOCATION:Outdoor Covered Patio Stage
CATEGORIES:Music
ATTACH;FMTTYPE=image/jpeg:https://jfkicksrestaurant.com/wp-content/uploads/2024/01/Gene-Cannon.jpeg
END:VEVENT
BEGIN:VEVENT
DTSTART;TZID=America/New_York:20300705T200000
DTEND;TZID=America/New_York:20300705T235900
DTSTAMP:20260419T220100
CREATED:20251124T112117Z
LAST-MODIFIED:20260413T125442Z
UID:10007036-1909512000-1909526340@jfkicksrestaurant.com
SUMMARY:Gene Cannon
DESCRIPTION:Instrumentalist and vocalist Gene Cannon provides the perfect musical accompaniment to your Friday evening on the Kicks patio!
URL:https://jfkicksrestaurant.com/event/gene-cannon-music-2-2/2030-07-05/
LOCATION:Outdoor Covered Patio Stage
CATEGORIES:Music
ATTACH;FMTTYPE=image/jpeg:https://jfkicksrestaurant.com/wp-content/uploads/2024/01/Gene-Cannon.jpeg
END:VEVENT
BEGIN:VEVENT
DTSTART;TZID=America/New_York:20300802T200000
DTEND;TZID=America/New_York:20300802T235900
DTSTAMP:20260419T220100
CREATED:20251124T112117Z
LAST-MODIFIED:20260413T125442Z
UID:10007037-1911931200-1911945540@jfkicksrestaurant.com
SUMMARY:Gene Cannon
DESCRIPTION:Instrumentalist and vocalist Gene Cannon provides the perfect musical accompaniment to your Friday evening on the Kicks patio!
URL:https://jfkicksrestaurant.com/event/gene-cannon-music-2-2/2030-08-02/
LOCATION:Outdoor Covered Patio Stage
CATEGORIES:Music
ATTACH;FMTTYPE=image/jpeg:https://jfkicksrestaurant.com/wp-content/uploads/2024/01/Gene-Cannon.jpeg
END:VEVENT
BEGIN:VEVENT
DTSTART;TZID=America/New_York:20300906T200000
DTEND;TZID=America/New_York:20300906T235900
DTSTAMP:20260419T220100
CREATED:20251124T112117Z
LAST-MODIFIED:20260413T125442Z
UID:10008573-1914955200-1914969540@jfkicksrestaurant.com
SUMMARY:Gene Cannon
DESCRIPTION:Instrumentalist and vocalist Gene Cannon provides the perfect musical accompaniment to your Friday evening on the Kicks patio!
URL:https://jfkicksrestaurant.com/event/gene-cannon-music-2-2/2030-09-06/
LOCATION:Outdoor Covered Patio Stage
CATEGORIES:Music
ATTACH;FMTTYPE=image/jpeg:https://jfkicksrestaurant.com/wp-content/uploads/2024/01/Gene-Cannon.jpeg
END:VEVENT
BEGIN:VEVENT
DTSTART;TZID=America/New_York:20301004T200000
DTEND;TZID=America/New_York:20301004T235900
DTSTAMP:20260419T220100
CREATED:20251124T112117Z
LAST-MODIFIED:20260413T125442Z
UID:10008574-1917374400-1917388740@jfkicksrestaurant.com
SUMMARY:Gene Cannon
DESCRIPTION:Instrumentalist and vocalist Gene Cannon provides the perfect musical accompaniment to your Friday evening on the Kicks patio!
URL:https://jfkicksrestaurant.com/event/gene-cannon-music-2-2/2030-10-04/
LOCATION:Outdoor Covered Patio Stage
CATEGORIES:Music
ATTACH;FMTTYPE=image/jpeg:https://jfkicksrestaurant.com/wp-content/uploads/2024/01/Gene-Cannon.jpeg
END:VEVENT
BEGIN:VEVENT
DTSTART;TZID=America/New_York:20301101T200000
DTEND;TZID=America/New_York:20301101T235900
DTSTAMP:20260419T220100
CREATED:20251124T112117Z
LAST-MODIFIED:20260413T125442Z
UID:10008575-1919793600-1919807940@jfkicksrestaurant.com
SUMMARY:Gene Cannon
DESCRIPTION:Instrumentalist and vocalist Gene Cannon provides the perfect musical accompaniment to your Friday evening on the Kicks patio!
URL:https://jfkicksrestaurant.com/event/gene-cannon-music-2-2/2030-11-01/
LOCATION:Outdoor Covered Patio Stage
CATEGORIES:Music
ATTACH;FMTTYPE=image/jpeg:https://jfkicksrestaurant.com/wp-content/uploads/2024/01/Gene-Cannon.jpeg
END:VEVENT
BEGIN:VEVENT
DTSTART;TZID=America/New_York:20301206T200000
DTEND;TZID=America/New_York:20301206T235900
DTSTAMP:20260419T220100
CREATED:20251124T112117Z
LAST-MODIFIED:20260413T125442Z
UID:10010646-1922817600-1922831940@jfkicksrestaurant.com
SUMMARY:Gene Cannon
DESCRIPTION:Instrumentalist and vocalist Gene Cannon provides the perfect musical accompaniment to your Friday evening on the Kicks patio!
URL:https://jfkicksrestaurant.com/event/gene-cannon-music-2-2/2030-12-06/
LOCATION:Outdoor Covered Patio Stage
CATEGORIES:Music
ATTACH;FMTTYPE=image/jpeg:https://jfkicksrestaurant.com/wp-content/uploads/2024/01/Gene-Cannon.jpeg
END:VEVENT
BEGIN:VEVENT
DTSTART;TZID=America/New_York:20310103T200000
DTEND;TZID=America/New_York:20310103T235900
DTSTAMP:20260419T220100
CREATED:20251124T112117Z
LAST-MODIFIED:20260413T125442Z
UID:10010647-1925236800-1925251140@jfkicksrestaurant.com
SUMMARY:Gene Cannon
DESCRIPTION:Instrumentalist and vocalist Gene Cannon provides the perfect musical accompaniment to your Friday evening on the Kicks patio!
URL:https://jfkicksrestaurant.com/event/gene-cannon-music-2-2/2031-01-03/
LOCATION:Outdoor Covered Patio Stage
CATEGORIES:Music
ATTACH;FMTTYPE=image/jpeg:https://jfkicksrestaurant.com/wp-content/uploads/2024/01/Gene-Cannon.jpeg
END:VEVENT
BEGIN:VEVENT
DTSTART;TZID=America/New_York:20310207T200000
DTEND;TZID=America/New_York:20310207T235900
DTSTAMP:20260419T220100
CREATED:20251124T112117Z
LAST-MODIFIED:20260413T125442Z
UID:10010648-1928260800-1928275140@jfkicksrestaurant.com
SUMMARY:Gene Cannon
DESCRIPTION:Instrumentalist and vocalist Gene Cannon provides the perfect musical accompaniment to your Friday evening on the Kicks patio!
URL:https://jfkicksrestaurant.com/event/gene-cannon-music-2-2/2031-02-07/
LOCATION:Outdoor Covered Patio Stage
CATEGORIES:Music
ATTACH;FMTTYPE=image/jpeg:https://jfkicksrestaurant.com/wp-content/uploads/2024/01/Gene-Cannon.jpeg
END:VEVENT
BEGIN:VEVENT
DTSTART;TZID=America/New_York:20310307T200000
DTEND;TZID=America/New_York:20310307T235900
DTSTAMP:20260419T220100
CREATED:20251124T112117Z
LAST-MODIFIED:20260413T125442Z
UID:10010649-1930680000-1930694340@jfkicksrestaurant.com
SUMMARY:Gene Cannon
DESCRIPTION:Instrumentalist and vocalist Gene Cannon provides the perfect musical accompaniment to your Friday evening on the Kicks patio!
URL:https://jfkicksrestaurant.com/event/gene-cannon-music-2-2/2031-03-07/
LOCATION:Outdoor Covered Patio Stage
CATEGORIES:Music
ATTACH;FMTTYPE=image/jpeg:https://jfkicksrestaurant.com/wp-content/uploads/2024/01/Gene-Cannon.jpeg
END:VEVENT
BEGIN:VEVENT
DTSTART;TZID=America/New_York:20310404T200000
DTEND;TZID=America/New_York:20310404T235900
DTSTAMP:20260419T220100
CREATED:20251124T112117Z
LAST-MODIFIED:20260413T125442Z
UID:10010650-1933099200-1933113540@jfkicksrestaurant.com
SUMMARY:Gene Cannon
DESCRIPTION:Instrumentalist and vocalist Gene Cannon provides the perfect musical accompaniment to your Friday evening on the Kicks patio!
URL:https://jfkicksrestaurant.com/event/gene-cannon-music-2-2/2031-04-04/
LOCATION:Outdoor Covered Patio Stage
CATEGORIES:Music
ATTACH;FMTTYPE=image/jpeg:https://jfkicksrestaurant.com/wp-content/uploads/2024/01/Gene-Cannon.jpeg
END:VEVENT
END:VCALENDAR