BEGIN:VCALENDAR
VERSION:2.0
PRODID:-//JF Kicks Restaurant - ECPv6.15.18//NONSGML v1.0//EN
CALSCALE:GREGORIAN
METHOD:PUBLISH
X-WR-CALNAME:JF Kicks Restaurant
X-ORIGINAL-URL:https://jfkicksrestaurant.com
X-WR-CALDESC:Events for JF Kicks Restaurant
REFRESH-INTERVAL;VALUE=DURATION:PT1H
X-Robots-Tag:noindex
X-PUBLISHED-TTL:PT1H
BEGIN:VTIMEZONE
TZID:America/New_York
BEGIN:DAYLIGHT
TZOFFSETFROM:-0500
TZOFFSETTO:-0400
TZNAME:EDT
DTSTART:20260308T070000
END:DAYLIGHT
BEGIN:STANDARD
TZOFFSETFROM:-0400
TZOFFSETTO:-0500
TZNAME:EST
DTSTART:20261101T060000
END:STANDARD
BEGIN:DAYLIGHT
TZOFFSETFROM:-0500
TZOFFSETTO:-0400
TZNAME:EDT
DTSTART:20270314T070000
END:DAYLIGHT
BEGIN:STANDARD
TZOFFSETFROM:-0400
TZOFFSETTO:-0500
TZNAME:EST
DTSTART:20271107T060000
END:STANDARD
BEGIN:DAYLIGHT
TZOFFSETFROM:-0500
TZOFFSETTO:-0400
TZNAME:EDT
DTSTART:20280312T070000
END:DAYLIGHT
BEGIN:STANDARD
TZOFFSETFROM:-0400
TZOFFSETTO:-0500
TZNAME:EST
DTSTART:20281105T060000
END:STANDARD
BEGIN:DAYLIGHT
TZOFFSETFROM:-0500
TZOFFSETTO:-0400
TZNAME:EDT
DTSTART:20290311T070000
END:DAYLIGHT
BEGIN:STANDARD
TZOFFSETFROM:-0400
TZOFFSETTO:-0500
TZNAME:EST
DTSTART:20291104T060000
END:STANDARD
BEGIN:DAYLIGHT
TZOFFSETFROM:-0500
TZOFFSETTO:-0400
TZNAME:EDT
DTSTART:20300310T070000
END:DAYLIGHT
BEGIN:STANDARD
TZOFFSETFROM:-0400
TZOFFSETTO:-0500
TZNAME:EST
DTSTART:20301103T060000
END:STANDARD
BEGIN:DAYLIGHT
TZOFFSETFROM:-0500
TZOFFSETTO:-0400
TZNAME:EDT
DTSTART:20310309T070000
END:DAYLIGHT
BEGIN:STANDARD
TZOFFSETFROM:-0400
TZOFFSETTO:-0500
TZNAME:EST
DTSTART:20311102T060000
END:STANDARD
END:VTIMEZONE
BEGIN:VEVENT
DTSTART;TZID=America/New_York:20271001T200000
DTEND;TZID=America/New_York:20271001T235900
DTSTAMP:20260419T201522
CREATED:20251124T112117Z
LAST-MODIFIED:20260413T125442Z
UID:10005822-1822420800-1822435140@jfkicksrestaurant.com
SUMMARY:Gene Cannon
DESCRIPTION:Instrumentalist and vocalist Gene Cannon provides the perfect musical accompaniment to your Friday evening on the Kicks patio!
URL:https://jfkicksrestaurant.com/event/gene-cannon-music-2-2/2027-10-01/
LOCATION:Outdoor Covered Patio Stage
CATEGORIES:Music
ATTACH;FMTTYPE=image/jpeg:https://jfkicksrestaurant.com/wp-content/uploads/2024/01/Gene-Cannon.jpeg
END:VEVENT
BEGIN:VEVENT
DTSTART;TZID=America/New_York:20271105T200000
DTEND;TZID=America/New_York:20271105T235900
DTSTAMP:20260419T201522
CREATED:20251124T112117Z
LAST-MODIFIED:20260413T125442Z
UID:10005823-1825444800-1825459140@jfkicksrestaurant.com
SUMMARY:Gene Cannon
DESCRIPTION:Instrumentalist and vocalist Gene Cannon provides the perfect musical accompaniment to your Friday evening on the Kicks patio!
URL:https://jfkicksrestaurant.com/event/gene-cannon-music-2-2/2027-11-05/
LOCATION:Outdoor Covered Patio Stage
CATEGORIES:Music
ATTACH;FMTTYPE=image/jpeg:https://jfkicksrestaurant.com/wp-content/uploads/2024/01/Gene-Cannon.jpeg
END:VEVENT
BEGIN:VEVENT
DTSTART;TZID=America/New_York:20271203T200000
DTEND;TZID=America/New_York:20271203T235900
DTSTAMP:20260419T201523
CREATED:20251124T112117Z
LAST-MODIFIED:20260413T125442Z
UID:10005824-1827864000-1827878340@jfkicksrestaurant.com
SUMMARY:Gene Cannon
DESCRIPTION:Instrumentalist and vocalist Gene Cannon provides the perfect musical accompaniment to your Friday evening on the Kicks patio!
URL:https://jfkicksrestaurant.com/event/gene-cannon-music-2-2/2027-12-03/
LOCATION:Outdoor Covered Patio Stage
CATEGORIES:Music
ATTACH;FMTTYPE=image/jpeg:https://jfkicksrestaurant.com/wp-content/uploads/2024/01/Gene-Cannon.jpeg
END:VEVENT
BEGIN:VEVENT
DTSTART;TZID=America/New_York:20280107T200000
DTEND;TZID=America/New_York:20280107T235900
DTSTAMP:20260419T201523
CREATED:20251124T112117Z
LAST-MODIFIED:20260413T125442Z
UID:10005825-1830888000-1830902340@jfkicksrestaurant.com
SUMMARY:Gene Cannon
DESCRIPTION:Instrumentalist and vocalist Gene Cannon provides the perfect musical accompaniment to your Friday evening on the Kicks patio!
URL:https://jfkicksrestaurant.com/event/gene-cannon-music-2-2/2028-01-07/
LOCATION:Outdoor Covered Patio Stage
CATEGORIES:Music
ATTACH;FMTTYPE=image/jpeg:https://jfkicksrestaurant.com/wp-content/uploads/2024/01/Gene-Cannon.jpeg
END:VEVENT
BEGIN:VEVENT
DTSTART;TZID=America/New_York:20280204T200000
DTEND;TZID=America/New_York:20280204T235900
DTSTAMP:20260419T201523
CREATED:20251124T112117Z
LAST-MODIFIED:20260413T125442Z
UID:10005826-1833307200-1833321540@jfkicksrestaurant.com
SUMMARY:Gene Cannon
DESCRIPTION:Instrumentalist and vocalist Gene Cannon provides the perfect musical accompaniment to your Friday evening on the Kicks patio!
URL:https://jfkicksrestaurant.com/event/gene-cannon-music-2-2/2028-02-04/
LOCATION:Outdoor Covered Patio Stage
CATEGORIES:Music
ATTACH;FMTTYPE=image/jpeg:https://jfkicksrestaurant.com/wp-content/uploads/2024/01/Gene-Cannon.jpeg
END:VEVENT
BEGIN:VEVENT
DTSTART;TZID=America/New_York:20280303T200000
DTEND;TZID=America/New_York:20280303T235900
DTSTAMP:20260419T201523
CREATED:20251124T112117Z
LAST-MODIFIED:20260413T125442Z
UID:10005827-1835726400-1835740740@jfkicksrestaurant.com
SUMMARY:Gene Cannon
DESCRIPTION:Instrumentalist and vocalist Gene Cannon provides the perfect musical accompaniment to your Friday evening on the Kicks patio!
URL:https://jfkicksrestaurant.com/event/gene-cannon-music-2-2/2028-03-03/
LOCATION:Outdoor Covered Patio Stage
CATEGORIES:Music
ATTACH;FMTTYPE=image/jpeg:https://jfkicksrestaurant.com/wp-content/uploads/2024/01/Gene-Cannon.jpeg
END:VEVENT
BEGIN:VEVENT
DTSTART;TZID=America/New_York:20280407T200000
DTEND;TZID=America/New_York:20280407T235900
DTSTAMP:20260419T201523
CREATED:20251124T112117Z
LAST-MODIFIED:20260413T125442Z
UID:10005828-1838750400-1838764740@jfkicksrestaurant.com
SUMMARY:Gene Cannon
DESCRIPTION:Instrumentalist and vocalist Gene Cannon provides the perfect musical accompaniment to your Friday evening on the Kicks patio!
URL:https://jfkicksrestaurant.com/event/gene-cannon-music-2-2/2028-04-07/
LOCATION:Outdoor Covered Patio Stage
CATEGORIES:Music
ATTACH;FMTTYPE=image/jpeg:https://jfkicksrestaurant.com/wp-content/uploads/2024/01/Gene-Cannon.jpeg
END:VEVENT
BEGIN:VEVENT
DTSTART;TZID=America/New_York:20280505T200000
DTEND;TZID=America/New_York:20280505T235900
DTSTAMP:20260419T201523
CREATED:20251124T112117Z
LAST-MODIFIED:20260413T125442Z
UID:10005829-1841169600-1841183940@jfkicksrestaurant.com
SUMMARY:Gene Cannon
DESCRIPTION:Instrumentalist and vocalist Gene Cannon provides the perfect musical accompaniment to your Friday evening on the Kicks patio!
URL:https://jfkicksrestaurant.com/event/gene-cannon-music-2-2/2028-05-05/
LOCATION:Outdoor Covered Patio Stage
CATEGORIES:Music
ATTACH;FMTTYPE=image/jpeg:https://jfkicksrestaurant.com/wp-content/uploads/2024/01/Gene-Cannon.jpeg
END:VEVENT
BEGIN:VEVENT
DTSTART;TZID=America/New_York:20280602T200000
DTEND;TZID=America/New_York:20280602T235900
DTSTAMP:20260419T201523
CREATED:20251124T112117Z
LAST-MODIFIED:20260413T125442Z
UID:10005830-1843588800-1843603140@jfkicksrestaurant.com
SUMMARY:Gene Cannon
DESCRIPTION:Instrumentalist and vocalist Gene Cannon provides the perfect musical accompaniment to your Friday evening on the Kicks patio!
URL:https://jfkicksrestaurant.com/event/gene-cannon-music-2-2/2028-06-02/
LOCATION:Outdoor Covered Patio Stage
CATEGORIES:Music
ATTACH;FMTTYPE=image/jpeg:https://jfkicksrestaurant.com/wp-content/uploads/2024/01/Gene-Cannon.jpeg
END:VEVENT
BEGIN:VEVENT
DTSTART;TZID=America/New_York:20280707T200000
DTEND;TZID=America/New_York:20280707T235900
DTSTAMP:20260419T201523
CREATED:20251124T112117Z
LAST-MODIFIED:20260413T125442Z
UID:10005831-1846612800-1846627140@jfkicksrestaurant.com
SUMMARY:Gene Cannon
DESCRIPTION:Instrumentalist and vocalist Gene Cannon provides the perfect musical accompaniment to your Friday evening on the Kicks patio!
URL:https://jfkicksrestaurant.com/event/gene-cannon-music-2-2/2028-07-07/
LOCATION:Outdoor Covered Patio Stage
CATEGORIES:Music
ATTACH;FMTTYPE=image/jpeg:https://jfkicksrestaurant.com/wp-content/uploads/2024/01/Gene-Cannon.jpeg
END:VEVENT
BEGIN:VEVENT
DTSTART;TZID=America/New_York:20280804T200000
DTEND;TZID=America/New_York:20280804T235900
DTSTAMP:20260419T201523
CREATED:20251124T112117Z
LAST-MODIFIED:20260413T125442Z
UID:10005832-1849032000-1849046340@jfkicksrestaurant.com
SUMMARY:Gene Cannon
DESCRIPTION:Instrumentalist and vocalist Gene Cannon provides the perfect musical accompaniment to your Friday evening on the Kicks patio!
URL:https://jfkicksrestaurant.com/event/gene-cannon-music-2-2/2028-08-04/
LOCATION:Outdoor Covered Patio Stage
CATEGORIES:Music
ATTACH;FMTTYPE=image/jpeg:https://jfkicksrestaurant.com/wp-content/uploads/2024/01/Gene-Cannon.jpeg
END:VEVENT
BEGIN:VEVENT
DTSTART;TZID=America/New_York:20280901T200000
DTEND;TZID=America/New_York:20280901T235900
DTSTAMP:20260419T201523
CREATED:20251124T112117Z
LAST-MODIFIED:20260413T125442Z
UID:10005833-1851451200-1851465540@jfkicksrestaurant.com
SUMMARY:Gene Cannon
DESCRIPTION:Instrumentalist and vocalist Gene Cannon provides the perfect musical accompaniment to your Friday evening on the Kicks patio!
URL:https://jfkicksrestaurant.com/event/gene-cannon-music-2-2/2028-09-01/
LOCATION:Outdoor Covered Patio Stage
CATEGORIES:Music
ATTACH;FMTTYPE=image/jpeg:https://jfkicksrestaurant.com/wp-content/uploads/2024/01/Gene-Cannon.jpeg
END:VEVENT
BEGIN:VEVENT
DTSTART;TZID=America/New_York:20281006T200000
DTEND;TZID=America/New_York:20281006T235900
DTSTAMP:20260419T201523
CREATED:20251124T112117Z
LAST-MODIFIED:20260413T125442Z
UID:10005834-1854475200-1854489540@jfkicksrestaurant.com
SUMMARY:Gene Cannon
DESCRIPTION:Instrumentalist and vocalist Gene Cannon provides the perfect musical accompaniment to your Friday evening on the Kicks patio!
URL:https://jfkicksrestaurant.com/event/gene-cannon-music-2-2/2028-10-06/
LOCATION:Outdoor Covered Patio Stage
CATEGORIES:Music
ATTACH;FMTTYPE=image/jpeg:https://jfkicksrestaurant.com/wp-content/uploads/2024/01/Gene-Cannon.jpeg
END:VEVENT
BEGIN:VEVENT
DTSTART;TZID=America/New_York:20281103T200000
DTEND;TZID=America/New_York:20281103T235900
DTSTAMP:20260419T201523
CREATED:20251124T112117Z
LAST-MODIFIED:20260413T125442Z
UID:10005835-1856894400-1856908740@jfkicksrestaurant.com
SUMMARY:Gene Cannon
DESCRIPTION:Instrumentalist and vocalist Gene Cannon provides the perfect musical accompaniment to your Friday evening on the Kicks patio!
URL:https://jfkicksrestaurant.com/event/gene-cannon-music-2-2/2028-11-03/
LOCATION:Outdoor Covered Patio Stage
CATEGORIES:Music
ATTACH;FMTTYPE=image/jpeg:https://jfkicksrestaurant.com/wp-content/uploads/2024/01/Gene-Cannon.jpeg
END:VEVENT
BEGIN:VEVENT
DTSTART;TZID=America/New_York:20281201T200000
DTEND;TZID=America/New_York:20281201T235900
DTSTAMP:20260419T201523
CREATED:20251124T112117Z
LAST-MODIFIED:20260413T125442Z
UID:10005836-1859313600-1859327940@jfkicksrestaurant.com
SUMMARY:Gene Cannon
DESCRIPTION:Instrumentalist and vocalist Gene Cannon provides the perfect musical accompaniment to your Friday evening on the Kicks patio!
URL:https://jfkicksrestaurant.com/event/gene-cannon-music-2-2/2028-12-01/
LOCATION:Outdoor Covered Patio Stage
CATEGORIES:Music
ATTACH;FMTTYPE=image/jpeg:https://jfkicksrestaurant.com/wp-content/uploads/2024/01/Gene-Cannon.jpeg
END:VEVENT
BEGIN:VEVENT
DTSTART;TZID=America/New_York:20290105T200000
DTEND;TZID=America/New_York:20290105T235900
DTSTAMP:20260419T201523
CREATED:20251124T112117Z
LAST-MODIFIED:20260413T125442Z
UID:10005837-1862337600-1862351940@jfkicksrestaurant.com
SUMMARY:Gene Cannon
DESCRIPTION:Instrumentalist and vocalist Gene Cannon provides the perfect musical accompaniment to your Friday evening on the Kicks patio!
URL:https://jfkicksrestaurant.com/event/gene-cannon-music-2-2/2029-01-05/
LOCATION:Outdoor Covered Patio Stage
CATEGORIES:Music
ATTACH;FMTTYPE=image/jpeg:https://jfkicksrestaurant.com/wp-content/uploads/2024/01/Gene-Cannon.jpeg
END:VEVENT
BEGIN:VEVENT
DTSTART;TZID=America/New_York:20290202T200000
DTEND;TZID=America/New_York:20290202T235900
DTSTAMP:20260419T201523
CREATED:20251124T112117Z
LAST-MODIFIED:20260413T125442Z
UID:10005838-1864756800-1864771140@jfkicksrestaurant.com
SUMMARY:Gene Cannon
DESCRIPTION:Instrumentalist and vocalist Gene Cannon provides the perfect musical accompaniment to your Friday evening on the Kicks patio!
URL:https://jfkicksrestaurant.com/event/gene-cannon-music-2-2/2029-02-02/
LOCATION:Outdoor Covered Patio Stage
CATEGORIES:Music
ATTACH;FMTTYPE=image/jpeg:https://jfkicksrestaurant.com/wp-content/uploads/2024/01/Gene-Cannon.jpeg
END:VEVENT
BEGIN:VEVENT
DTSTART;TZID=America/New_York:20290302T200000
DTEND;TZID=America/New_York:20290302T235900
DTSTAMP:20260419T201523
CREATED:20251124T112117Z
LAST-MODIFIED:20260413T125442Z
UID:10005839-1867176000-1867190340@jfkicksrestaurant.com
SUMMARY:Gene Cannon
DESCRIPTION:Instrumentalist and vocalist Gene Cannon provides the perfect musical accompaniment to your Friday evening on the Kicks patio!
URL:https://jfkicksrestaurant.com/event/gene-cannon-music-2-2/2029-03-02/
LOCATION:Outdoor Covered Patio Stage
CATEGORIES:Music
ATTACH;FMTTYPE=image/jpeg:https://jfkicksrestaurant.com/wp-content/uploads/2024/01/Gene-Cannon.jpeg
END:VEVENT
BEGIN:VEVENT
DTSTART;TZID=America/New_York:20290406T200000
DTEND;TZID=America/New_York:20290406T235900
DTSTAMP:20260419T201523
CREATED:20251124T112117Z
LAST-MODIFIED:20260413T125442Z
UID:10005840-1870200000-1870214340@jfkicksrestaurant.com
SUMMARY:Gene Cannon
DESCRIPTION:Instrumentalist and vocalist Gene Cannon provides the perfect musical accompaniment to your Friday evening on the Kicks patio!
URL:https://jfkicksrestaurant.com/event/gene-cannon-music-2-2/2029-04-06/
LOCATION:Outdoor Covered Patio Stage
CATEGORIES:Music
ATTACH;FMTTYPE=image/jpeg:https://jfkicksrestaurant.com/wp-content/uploads/2024/01/Gene-Cannon.jpeg
END:VEVENT
BEGIN:VEVENT
DTSTART;TZID=America/New_York:20290504T200000
DTEND;TZID=America/New_York:20290504T235900
DTSTAMP:20260419T201523
CREATED:20251124T112117Z
LAST-MODIFIED:20260413T125442Z
UID:10005841-1872619200-1872633540@jfkicksrestaurant.com
SUMMARY:Gene Cannon
DESCRIPTION:Instrumentalist and vocalist Gene Cannon provides the perfect musical accompaniment to your Friday evening on the Kicks patio!
URL:https://jfkicksrestaurant.com/event/gene-cannon-music-2-2/2029-05-04/
LOCATION:Outdoor Covered Patio Stage
CATEGORIES:Music
ATTACH;FMTTYPE=image/jpeg:https://jfkicksrestaurant.com/wp-content/uploads/2024/01/Gene-Cannon.jpeg
END:VEVENT
BEGIN:VEVENT
DTSTART;TZID=America/New_York:20290601T200000
DTEND;TZID=America/New_York:20290601T235900
DTSTAMP:20260419T201523
CREATED:20251124T112117Z
LAST-MODIFIED:20260413T125442Z
UID:10005842-1875038400-1875052740@jfkicksrestaurant.com
SUMMARY:Gene Cannon
DESCRIPTION:Instrumentalist and vocalist Gene Cannon provides the perfect musical accompaniment to your Friday evening on the Kicks patio!
URL:https://jfkicksrestaurant.com/event/gene-cannon-music-2-2/2029-06-01/
LOCATION:Outdoor Covered Patio Stage
CATEGORIES:Music
ATTACH;FMTTYPE=image/jpeg:https://jfkicksrestaurant.com/wp-content/uploads/2024/01/Gene-Cannon.jpeg
END:VEVENT
BEGIN:VEVENT
DTSTART;TZID=America/New_York:20290706T200000
DTEND;TZID=America/New_York:20290706T235900
DTSTAMP:20260419T201523
CREATED:20251124T112117Z
LAST-MODIFIED:20260413T125442Z
UID:10005843-1878062400-1878076740@jfkicksrestaurant.com
SUMMARY:Gene Cannon
DESCRIPTION:Instrumentalist and vocalist Gene Cannon provides the perfect musical accompaniment to your Friday evening on the Kicks patio!
URL:https://jfkicksrestaurant.com/event/gene-cannon-music-2-2/2029-07-06/
LOCATION:Outdoor Covered Patio Stage
CATEGORIES:Music
ATTACH;FMTTYPE=image/jpeg:https://jfkicksrestaurant.com/wp-content/uploads/2024/01/Gene-Cannon.jpeg
END:VEVENT
BEGIN:VEVENT
DTSTART;TZID=America/New_York:20290803T200000
DTEND;TZID=America/New_York:20290803T235900
DTSTAMP:20260419T201523
CREATED:20251124T112117Z
LAST-MODIFIED:20260413T125442Z
UID:10005844-1880481600-1880495940@jfkicksrestaurant.com
SUMMARY:Gene Cannon
DESCRIPTION:Instrumentalist and vocalist Gene Cannon provides the perfect musical accompaniment to your Friday evening on the Kicks patio!
URL:https://jfkicksrestaurant.com/event/gene-cannon-music-2-2/2029-08-03/
LOCATION:Outdoor Covered Patio Stage
CATEGORIES:Music
ATTACH;FMTTYPE=image/jpeg:https://jfkicksrestaurant.com/wp-content/uploads/2024/01/Gene-Cannon.jpeg
END:VEVENT
BEGIN:VEVENT
DTSTART;TZID=America/New_York:20290907T200000
DTEND;TZID=America/New_York:20290907T235900
DTSTAMP:20260419T201523
CREATED:20251124T112117Z
LAST-MODIFIED:20260413T125442Z
UID:10005845-1883505600-1883519940@jfkicksrestaurant.com
SUMMARY:Gene Cannon
DESCRIPTION:Instrumentalist and vocalist Gene Cannon provides the perfect musical accompaniment to your Friday evening on the Kicks patio!
URL:https://jfkicksrestaurant.com/event/gene-cannon-music-2-2/2029-09-07/
LOCATION:Outdoor Covered Patio Stage
CATEGORIES:Music
ATTACH;FMTTYPE=image/jpeg:https://jfkicksrestaurant.com/wp-content/uploads/2024/01/Gene-Cannon.jpeg
END:VEVENT
BEGIN:VEVENT
DTSTART;TZID=America/New_York:20291005T200000
DTEND;TZID=America/New_York:20291005T235900
DTSTAMP:20260419T201523
CREATED:20251124T112117Z
LAST-MODIFIED:20260413T125442Z
UID:10005846-1885924800-1885939140@jfkicksrestaurant.com
SUMMARY:Gene Cannon
DESCRIPTION:Instrumentalist and vocalist Gene Cannon provides the perfect musical accompaniment to your Friday evening on the Kicks patio!
URL:https://jfkicksrestaurant.com/event/gene-cannon-music-2-2/2029-10-05/
LOCATION:Outdoor Covered Patio Stage
CATEGORIES:Music
ATTACH;FMTTYPE=image/jpeg:https://jfkicksrestaurant.com/wp-content/uploads/2024/01/Gene-Cannon.jpeg
END:VEVENT
BEGIN:VEVENT
DTSTART;TZID=America/New_York:20291102T200000
DTEND;TZID=America/New_York:20291102T235900
DTSTAMP:20260419T201523
CREATED:20251124T112117Z
LAST-MODIFIED:20260413T125442Z
UID:10005847-1888344000-1888358340@jfkicksrestaurant.com
SUMMARY:Gene Cannon
DESCRIPTION:Instrumentalist and vocalist Gene Cannon provides the perfect musical accompaniment to your Friday evening on the Kicks patio!
URL:https://jfkicksrestaurant.com/event/gene-cannon-music-2-2/2029-11-02/
LOCATION:Outdoor Covered Patio Stage
CATEGORIES:Music
ATTACH;FMTTYPE=image/jpeg:https://jfkicksrestaurant.com/wp-content/uploads/2024/01/Gene-Cannon.jpeg
END:VEVENT
BEGIN:VEVENT
DTSTART;TZID=America/New_York:20291207T200000
DTEND;TZID=America/New_York:20291207T235900
DTSTAMP:20260419T201523
CREATED:20251124T112117Z
LAST-MODIFIED:20260413T125442Z
UID:10006407-1891368000-1891382340@jfkicksrestaurant.com
SUMMARY:Gene Cannon
DESCRIPTION:Instrumentalist and vocalist Gene Cannon provides the perfect musical accompaniment to your Friday evening on the Kicks patio!
URL:https://jfkicksrestaurant.com/event/gene-cannon-music-2-2/2029-12-07/
LOCATION:Outdoor Covered Patio Stage
CATEGORIES:Music
ATTACH;FMTTYPE=image/jpeg:https://jfkicksrestaurant.com/wp-content/uploads/2024/01/Gene-Cannon.jpeg
END:VEVENT
BEGIN:VEVENT
DTSTART;TZID=America/New_York:20300104T200000
DTEND;TZID=America/New_York:20300104T235900
DTSTAMP:20260419T201523
CREATED:20251124T112117Z
LAST-MODIFIED:20260413T125442Z
UID:10006408-1893787200-1893801540@jfkicksrestaurant.com
SUMMARY:Gene Cannon
DESCRIPTION:Instrumentalist and vocalist Gene Cannon provides the perfect musical accompaniment to your Friday evening on the Kicks patio!
URL:https://jfkicksrestaurant.com/event/gene-cannon-music-2-2/2030-01-04/
LOCATION:Outdoor Covered Patio Stage
CATEGORIES:Music
ATTACH;FMTTYPE=image/jpeg:https://jfkicksrestaurant.com/wp-content/uploads/2024/01/Gene-Cannon.jpeg
END:VEVENT
BEGIN:VEVENT
DTSTART;TZID=America/New_York:20300201T200000
DTEND;TZID=America/New_York:20300201T235900
DTSTAMP:20260419T201523
CREATED:20251124T112117Z
LAST-MODIFIED:20260413T125442Z
UID:10006409-1896206400-1896220740@jfkicksrestaurant.com
SUMMARY:Gene Cannon
DESCRIPTION:Instrumentalist and vocalist Gene Cannon provides the perfect musical accompaniment to your Friday evening on the Kicks patio!
URL:https://jfkicksrestaurant.com/event/gene-cannon-music-2-2/2030-02-01/
LOCATION:Outdoor Covered Patio Stage
CATEGORIES:Music
ATTACH;FMTTYPE=image/jpeg:https://jfkicksrestaurant.com/wp-content/uploads/2024/01/Gene-Cannon.jpeg
END:VEVENT
BEGIN:VEVENT
DTSTART;TZID=America/New_York:20300301T200000
DTEND;TZID=America/New_York:20300301T235900
DTSTAMP:20260419T201523
CREATED:20251124T112117Z
LAST-MODIFIED:20260413T125442Z
UID:10007032-1898625600-1898639940@jfkicksrestaurant.com
SUMMARY:Gene Cannon
DESCRIPTION:Instrumentalist and vocalist Gene Cannon provides the perfect musical accompaniment to your Friday evening on the Kicks patio!
URL:https://jfkicksrestaurant.com/event/gene-cannon-music-2-2/2030-03-01/
LOCATION:Outdoor Covered Patio Stage
CATEGORIES:Music
ATTACH;FMTTYPE=image/jpeg:https://jfkicksrestaurant.com/wp-content/uploads/2024/01/Gene-Cannon.jpeg
END:VEVENT
END:VCALENDAR