BEGIN:VCALENDAR
VERSION:2.0
PRODID:-//JF Kicks Restaurant - ECPv6.15.18//NONSGML v1.0//EN
CALSCALE:GREGORIAN
METHOD:PUBLISH
X-ORIGINAL-URL:https://jfkicksrestaurant.com
X-WR-CALDESC:Events for JF Kicks Restaurant
REFRESH-INTERVAL;VALUE=DURATION:PT1H
X-Robots-Tag:noindex
X-PUBLISHED-TTL:PT1H
BEGIN:VTIMEZONE
TZID:America/New_York
BEGIN:DAYLIGHT
TZOFFSETFROM:-0500
TZOFFSETTO:-0400
TZNAME:EDT
DTSTART:20270314T070000
END:DAYLIGHT
BEGIN:STANDARD
TZOFFSETFROM:-0400
TZOFFSETTO:-0500
TZNAME:EST
DTSTART:20271107T060000
END:STANDARD
BEGIN:DAYLIGHT
TZOFFSETFROM:-0500
TZOFFSETTO:-0400
TZNAME:EDT
DTSTART:20280312T070000
END:DAYLIGHT
BEGIN:STANDARD
TZOFFSETFROM:-0400
TZOFFSETTO:-0500
TZNAME:EST
DTSTART:20281105T060000
END:STANDARD
BEGIN:DAYLIGHT
TZOFFSETFROM:-0500
TZOFFSETTO:-0400
TZNAME:EDT
DTSTART:20290311T070000
END:DAYLIGHT
BEGIN:STANDARD
TZOFFSETFROM:-0400
TZOFFSETTO:-0500
TZNAME:EST
DTSTART:20291104T060000
END:STANDARD
BEGIN:DAYLIGHT
TZOFFSETFROM:-0500
TZOFFSETTO:-0400
TZNAME:EDT
DTSTART:20300310T070000
END:DAYLIGHT
BEGIN:STANDARD
TZOFFSETFROM:-0400
TZOFFSETTO:-0500
TZNAME:EST
DTSTART:20301103T060000
END:STANDARD
END:VTIMEZONE
BEGIN:VEVENT
DTSTART;TZID=America/New_York:20280812T160000
DTEND;TZID=America/New_York:20280812T210000
DTSTAMP:20260420T140312
CREATED:20231220T071858Z
LAST-MODIFIED:20240115T134139Z
UID:10003456-1849708800-1849726800@jfkicksrestaurant.com
SUMMARY:Half Priced Peel-N-Eat Shrimp Dinner Special
DESCRIPTION:Saturdays we offer Half Priced Peel-N-Eat Shrimp from 4-9pm!
URL:https://jfkicksrestaurant.com/event/half-price-peel-n-eat-shrimp/2028-08-12/
CATEGORIES:Food
ATTACH;FMTTYPE=image/jpeg:https://jfkicksrestaurant.com/wp-content/uploads/2023/12/410739926_777516257729740_5467180394573693269_n.jpg
END:VEVENT
BEGIN:VEVENT
DTSTART;TZID=America/New_York:20280819T160000
DTEND;TZID=America/New_York:20280819T210000
DTSTAMP:20260420T140312
CREATED:20231220T071858Z
LAST-MODIFIED:20240115T134139Z
UID:10003457-1850313600-1850331600@jfkicksrestaurant.com
SUMMARY:Half Priced Peel-N-Eat Shrimp Dinner Special
DESCRIPTION:Saturdays we offer Half Priced Peel-N-Eat Shrimp from 4-9pm!
URL:https://jfkicksrestaurant.com/event/half-price-peel-n-eat-shrimp/2028-08-19/
CATEGORIES:Food
ATTACH;FMTTYPE=image/jpeg:https://jfkicksrestaurant.com/wp-content/uploads/2023/12/410739926_777516257729740_5467180394573693269_n.jpg
END:VEVENT
BEGIN:VEVENT
DTSTART;TZID=America/New_York:20280826T160000
DTEND;TZID=America/New_York:20280826T210000
DTSTAMP:20260420T140312
CREATED:20231220T071858Z
LAST-MODIFIED:20240115T134139Z
UID:10003458-1850918400-1850936400@jfkicksrestaurant.com
SUMMARY:Half Priced Peel-N-Eat Shrimp Dinner Special
DESCRIPTION:Saturdays we offer Half Priced Peel-N-Eat Shrimp from 4-9pm!
URL:https://jfkicksrestaurant.com/event/half-price-peel-n-eat-shrimp/2028-08-26/
CATEGORIES:Food
ATTACH;FMTTYPE=image/jpeg:https://jfkicksrestaurant.com/wp-content/uploads/2023/12/410739926_777516257729740_5467180394573693269_n.jpg
END:VEVENT
BEGIN:VEVENT
DTSTART;TZID=America/New_York:20280902T160000
DTEND;TZID=America/New_York:20280902T210000
DTSTAMP:20260420T140312
CREATED:20231220T071858Z
LAST-MODIFIED:20240115T134139Z
UID:10003459-1851523200-1851541200@jfkicksrestaurant.com
SUMMARY:Half Priced Peel-N-Eat Shrimp Dinner Special
DESCRIPTION:Saturdays we offer Half Priced Peel-N-Eat Shrimp from 4-9pm!
URL:https://jfkicksrestaurant.com/event/half-price-peel-n-eat-shrimp/2028-09-02/
CATEGORIES:Food
ATTACH;FMTTYPE=image/jpeg:https://jfkicksrestaurant.com/wp-content/uploads/2023/12/410739926_777516257729740_5467180394573693269_n.jpg
END:VEVENT
BEGIN:VEVENT
DTSTART;TZID=America/New_York:20280909T160000
DTEND;TZID=America/New_York:20280909T210000
DTSTAMP:20260420T140312
CREATED:20231220T071858Z
LAST-MODIFIED:20240115T134139Z
UID:10003460-1852128000-1852146000@jfkicksrestaurant.com
SUMMARY:Half Priced Peel-N-Eat Shrimp Dinner Special
DESCRIPTION:Saturdays we offer Half Priced Peel-N-Eat Shrimp from 4-9pm!
URL:https://jfkicksrestaurant.com/event/half-price-peel-n-eat-shrimp/2028-09-09/
CATEGORIES:Food
ATTACH;FMTTYPE=image/jpeg:https://jfkicksrestaurant.com/wp-content/uploads/2023/12/410739926_777516257729740_5467180394573693269_n.jpg
END:VEVENT
BEGIN:VEVENT
DTSTART;TZID=America/New_York:20280916T160000
DTEND;TZID=America/New_York:20280916T210000
DTSTAMP:20260420T140312
CREATED:20231220T071858Z
LAST-MODIFIED:20240115T134139Z
UID:10003461-1852732800-1852750800@jfkicksrestaurant.com
SUMMARY:Half Priced Peel-N-Eat Shrimp Dinner Special
DESCRIPTION:Saturdays we offer Half Priced Peel-N-Eat Shrimp from 4-9pm!
URL:https://jfkicksrestaurant.com/event/half-price-peel-n-eat-shrimp/2028-09-16/
CATEGORIES:Food
ATTACH;FMTTYPE=image/jpeg:https://jfkicksrestaurant.com/wp-content/uploads/2023/12/410739926_777516257729740_5467180394573693269_n.jpg
END:VEVENT
BEGIN:VEVENT
DTSTART;TZID=America/New_York:20280923T160000
DTEND;TZID=America/New_York:20280923T210000
DTSTAMP:20260420T140312
CREATED:20231220T071858Z
LAST-MODIFIED:20240115T134139Z
UID:10003462-1853337600-1853355600@jfkicksrestaurant.com
SUMMARY:Half Priced Peel-N-Eat Shrimp Dinner Special
DESCRIPTION:Saturdays we offer Half Priced Peel-N-Eat Shrimp from 4-9pm!
URL:https://jfkicksrestaurant.com/event/half-price-peel-n-eat-shrimp/2028-09-23/
CATEGORIES:Food
ATTACH;FMTTYPE=image/jpeg:https://jfkicksrestaurant.com/wp-content/uploads/2023/12/410739926_777516257729740_5467180394573693269_n.jpg
END:VEVENT
BEGIN:VEVENT
DTSTART;TZID=America/New_York:20280930T160000
DTEND;TZID=America/New_York:20280930T210000
DTSTAMP:20260420T140312
CREATED:20231220T071858Z
LAST-MODIFIED:20240115T134139Z
UID:10003463-1853942400-1853960400@jfkicksrestaurant.com
SUMMARY:Half Priced Peel-N-Eat Shrimp Dinner Special
DESCRIPTION:Saturdays we offer Half Priced Peel-N-Eat Shrimp from 4-9pm!
URL:https://jfkicksrestaurant.com/event/half-price-peel-n-eat-shrimp/2028-09-30/
CATEGORIES:Food
ATTACH;FMTTYPE=image/jpeg:https://jfkicksrestaurant.com/wp-content/uploads/2023/12/410739926_777516257729740_5467180394573693269_n.jpg
END:VEVENT
BEGIN:VEVENT
DTSTART;TZID=America/New_York:20281007T160000
DTEND;TZID=America/New_York:20281007T210000
DTSTAMP:20260420T140312
CREATED:20231220T071858Z
LAST-MODIFIED:20240115T134139Z
UID:10003464-1854547200-1854565200@jfkicksrestaurant.com
SUMMARY:Half Priced Peel-N-Eat Shrimp Dinner Special
DESCRIPTION:Saturdays we offer Half Priced Peel-N-Eat Shrimp from 4-9pm!
URL:https://jfkicksrestaurant.com/event/half-price-peel-n-eat-shrimp/2028-10-07/
CATEGORIES:Food
ATTACH;FMTTYPE=image/jpeg:https://jfkicksrestaurant.com/wp-content/uploads/2023/12/410739926_777516257729740_5467180394573693269_n.jpg
END:VEVENT
BEGIN:VEVENT
DTSTART;TZID=America/New_York:20281014T160000
DTEND;TZID=America/New_York:20281014T210000
DTSTAMP:20260420T140312
CREATED:20231220T071858Z
LAST-MODIFIED:20240115T134139Z
UID:10003465-1855152000-1855170000@jfkicksrestaurant.com
SUMMARY:Half Priced Peel-N-Eat Shrimp Dinner Special
DESCRIPTION:Saturdays we offer Half Priced Peel-N-Eat Shrimp from 4-9pm!
URL:https://jfkicksrestaurant.com/event/half-price-peel-n-eat-shrimp/2028-10-14/
CATEGORIES:Food
ATTACH;FMTTYPE=image/jpeg:https://jfkicksrestaurant.com/wp-content/uploads/2023/12/410739926_777516257729740_5467180394573693269_n.jpg
END:VEVENT
BEGIN:VEVENT
DTSTART;TZID=America/New_York:20281021T160000
DTEND;TZID=America/New_York:20281021T210000
DTSTAMP:20260420T140312
CREATED:20231220T071858Z
LAST-MODIFIED:20240115T134139Z
UID:10003466-1855756800-1855774800@jfkicksrestaurant.com
SUMMARY:Half Priced Peel-N-Eat Shrimp Dinner Special
DESCRIPTION:Saturdays we offer Half Priced Peel-N-Eat Shrimp from 4-9pm!
URL:https://jfkicksrestaurant.com/event/half-price-peel-n-eat-shrimp/2028-10-21/
CATEGORIES:Food
ATTACH;FMTTYPE=image/jpeg:https://jfkicksrestaurant.com/wp-content/uploads/2023/12/410739926_777516257729740_5467180394573693269_n.jpg
END:VEVENT
BEGIN:VEVENT
DTSTART;TZID=America/New_York:20281028T160000
DTEND;TZID=America/New_York:20281028T210000
DTSTAMP:20260420T140312
CREATED:20231220T071858Z
LAST-MODIFIED:20240115T134139Z
UID:10003467-1856361600-1856379600@jfkicksrestaurant.com
SUMMARY:Half Priced Peel-N-Eat Shrimp Dinner Special
DESCRIPTION:Saturdays we offer Half Priced Peel-N-Eat Shrimp from 4-9pm!
URL:https://jfkicksrestaurant.com/event/half-price-peel-n-eat-shrimp/2028-10-28/
CATEGORIES:Food
ATTACH;FMTTYPE=image/jpeg:https://jfkicksrestaurant.com/wp-content/uploads/2023/12/410739926_777516257729740_5467180394573693269_n.jpg
END:VEVENT
BEGIN:VEVENT
DTSTART;TZID=America/New_York:20281104T160000
DTEND;TZID=America/New_York:20281104T210000
DTSTAMP:20260420T140312
CREATED:20231220T071858Z
LAST-MODIFIED:20240115T134139Z
UID:10003468-1856966400-1856984400@jfkicksrestaurant.com
SUMMARY:Half Priced Peel-N-Eat Shrimp Dinner Special
DESCRIPTION:Saturdays we offer Half Priced Peel-N-Eat Shrimp from 4-9pm!
URL:https://jfkicksrestaurant.com/event/half-price-peel-n-eat-shrimp/2028-11-04/
CATEGORIES:Food
ATTACH;FMTTYPE=image/jpeg:https://jfkicksrestaurant.com/wp-content/uploads/2023/12/410739926_777516257729740_5467180394573693269_n.jpg
END:VEVENT
BEGIN:VEVENT
DTSTART;TZID=America/New_York:20281111T160000
DTEND;TZID=America/New_York:20281111T210000
DTSTAMP:20260420T140312
CREATED:20231220T071858Z
LAST-MODIFIED:20240115T134139Z
UID:10003469-1857571200-1857589200@jfkicksrestaurant.com
SUMMARY:Half Priced Peel-N-Eat Shrimp Dinner Special
DESCRIPTION:Saturdays we offer Half Priced Peel-N-Eat Shrimp from 4-9pm!
URL:https://jfkicksrestaurant.com/event/half-price-peel-n-eat-shrimp/2028-11-11/
CATEGORIES:Food
ATTACH;FMTTYPE=image/jpeg:https://jfkicksrestaurant.com/wp-content/uploads/2023/12/410739926_777516257729740_5467180394573693269_n.jpg
END:VEVENT
BEGIN:VEVENT
DTSTART;TZID=America/New_York:20281118T160000
DTEND;TZID=America/New_York:20281118T210000
DTSTAMP:20260420T140312
CREATED:20231220T071858Z
LAST-MODIFIED:20240115T134139Z
UID:10003470-1858176000-1858194000@jfkicksrestaurant.com
SUMMARY:Half Priced Peel-N-Eat Shrimp Dinner Special
DESCRIPTION:Saturdays we offer Half Priced Peel-N-Eat Shrimp from 4-9pm!
URL:https://jfkicksrestaurant.com/event/half-price-peel-n-eat-shrimp/2028-11-18/
CATEGORIES:Food
ATTACH;FMTTYPE=image/jpeg:https://jfkicksrestaurant.com/wp-content/uploads/2023/12/410739926_777516257729740_5467180394573693269_n.jpg
END:VEVENT
BEGIN:VEVENT
DTSTART;TZID=America/New_York:20281125T160000
DTEND;TZID=America/New_York:20281125T210000
DTSTAMP:20260420T140312
CREATED:20231220T071858Z
LAST-MODIFIED:20240115T134139Z
UID:10003471-1858780800-1858798800@jfkicksrestaurant.com
SUMMARY:Half Priced Peel-N-Eat Shrimp Dinner Special
DESCRIPTION:Saturdays we offer Half Priced Peel-N-Eat Shrimp from 4-9pm!
URL:https://jfkicksrestaurant.com/event/half-price-peel-n-eat-shrimp/2028-11-25/
CATEGORIES:Food
ATTACH;FMTTYPE=image/jpeg:https://jfkicksrestaurant.com/wp-content/uploads/2023/12/410739926_777516257729740_5467180394573693269_n.jpg
END:VEVENT
BEGIN:VEVENT
DTSTART;TZID=America/New_York:20281202T160000
DTEND;TZID=America/New_York:20281202T210000
DTSTAMP:20260420T140312
CREATED:20231220T071858Z
LAST-MODIFIED:20240115T134139Z
UID:10003472-1859385600-1859403600@jfkicksrestaurant.com
SUMMARY:Half Priced Peel-N-Eat Shrimp Dinner Special
DESCRIPTION:Saturdays we offer Half Priced Peel-N-Eat Shrimp from 4-9pm!
URL:https://jfkicksrestaurant.com/event/half-price-peel-n-eat-shrimp/2028-12-02/
CATEGORIES:Food
ATTACH;FMTTYPE=image/jpeg:https://jfkicksrestaurant.com/wp-content/uploads/2023/12/410739926_777516257729740_5467180394573693269_n.jpg
END:VEVENT
BEGIN:VEVENT
DTSTART;TZID=America/New_York:20281209T160000
DTEND;TZID=America/New_York:20281209T210000
DTSTAMP:20260420T140312
CREATED:20231220T071858Z
LAST-MODIFIED:20240115T134139Z
UID:10003473-1859990400-1860008400@jfkicksrestaurant.com
SUMMARY:Half Priced Peel-N-Eat Shrimp Dinner Special
DESCRIPTION:Saturdays we offer Half Priced Peel-N-Eat Shrimp from 4-9pm!
URL:https://jfkicksrestaurant.com/event/half-price-peel-n-eat-shrimp/2028-12-09/
CATEGORIES:Food
ATTACH;FMTTYPE=image/jpeg:https://jfkicksrestaurant.com/wp-content/uploads/2023/12/410739926_777516257729740_5467180394573693269_n.jpg
END:VEVENT
BEGIN:VEVENT
DTSTART;TZID=America/New_York:20281216T160000
DTEND;TZID=America/New_York:20281216T210000
DTSTAMP:20260420T140312
CREATED:20231220T071858Z
LAST-MODIFIED:20240115T134139Z
UID:10003474-1860595200-1860613200@jfkicksrestaurant.com
SUMMARY:Half Priced Peel-N-Eat Shrimp Dinner Special
DESCRIPTION:Saturdays we offer Half Priced Peel-N-Eat Shrimp from 4-9pm!
URL:https://jfkicksrestaurant.com/event/half-price-peel-n-eat-shrimp/2028-12-16/
CATEGORIES:Food
ATTACH;FMTTYPE=image/jpeg:https://jfkicksrestaurant.com/wp-content/uploads/2023/12/410739926_777516257729740_5467180394573693269_n.jpg
END:VEVENT
BEGIN:VEVENT
DTSTART;TZID=America/New_York:20281223T160000
DTEND;TZID=America/New_York:20281223T210000
DTSTAMP:20260420T140312
CREATED:20231220T071858Z
LAST-MODIFIED:20240115T134139Z
UID:10003475-1861200000-1861218000@jfkicksrestaurant.com
SUMMARY:Half Priced Peel-N-Eat Shrimp Dinner Special
DESCRIPTION:Saturdays we offer Half Priced Peel-N-Eat Shrimp from 4-9pm!
URL:https://jfkicksrestaurant.com/event/half-price-peel-n-eat-shrimp/2028-12-23/
CATEGORIES:Food
ATTACH;FMTTYPE=image/jpeg:https://jfkicksrestaurant.com/wp-content/uploads/2023/12/410739926_777516257729740_5467180394573693269_n.jpg
END:VEVENT
BEGIN:VEVENT
DTSTART;TZID=America/New_York:20281230T160000
DTEND;TZID=America/New_York:20281230T210000
DTSTAMP:20260420T140312
CREATED:20231220T071858Z
LAST-MODIFIED:20240115T134139Z
UID:10003476-1861804800-1861822800@jfkicksrestaurant.com
SUMMARY:Half Priced Peel-N-Eat Shrimp Dinner Special
DESCRIPTION:Saturdays we offer Half Priced Peel-N-Eat Shrimp from 4-9pm!
URL:https://jfkicksrestaurant.com/event/half-price-peel-n-eat-shrimp/2028-12-30/
CATEGORIES:Food
ATTACH;FMTTYPE=image/jpeg:https://jfkicksrestaurant.com/wp-content/uploads/2023/12/410739926_777516257729740_5467180394573693269_n.jpg
END:VEVENT
BEGIN:VEVENT
DTSTART;TZID=America/New_York:20290106T160000
DTEND;TZID=America/New_York:20290106T210000
DTSTAMP:20260420T140312
CREATED:20231220T071858Z
LAST-MODIFIED:20240115T134139Z
UID:10003477-1862409600-1862427600@jfkicksrestaurant.com
SUMMARY:Half Priced Peel-N-Eat Shrimp Dinner Special
DESCRIPTION:Saturdays we offer Half Priced Peel-N-Eat Shrimp from 4-9pm!
URL:https://jfkicksrestaurant.com/event/half-price-peel-n-eat-shrimp/2029-01-06/
CATEGORIES:Food
ATTACH;FMTTYPE=image/jpeg:https://jfkicksrestaurant.com/wp-content/uploads/2023/12/410739926_777516257729740_5467180394573693269_n.jpg
END:VEVENT
BEGIN:VEVENT
DTSTART;TZID=America/New_York:20290113T160000
DTEND;TZID=America/New_York:20290113T210000
DTSTAMP:20260420T140312
CREATED:20231220T071858Z
LAST-MODIFIED:20240115T134139Z
UID:10003478-1863014400-1863032400@jfkicksrestaurant.com
SUMMARY:Half Priced Peel-N-Eat Shrimp Dinner Special
DESCRIPTION:Saturdays we offer Half Priced Peel-N-Eat Shrimp from 4-9pm!
URL:https://jfkicksrestaurant.com/event/half-price-peel-n-eat-shrimp/2029-01-13/
CATEGORIES:Food
ATTACH;FMTTYPE=image/jpeg:https://jfkicksrestaurant.com/wp-content/uploads/2023/12/410739926_777516257729740_5467180394573693269_n.jpg
END:VEVENT
END:VCALENDAR