BEGIN:VCALENDAR
VERSION:2.0
PRODID:-//JF Kicks Restaurant - ECPv6.15.18//NONSGML v1.0//EN
CALSCALE:GREGORIAN
METHOD:PUBLISH
X-ORIGINAL-URL:https://jfkicksrestaurant.com
X-WR-CALDESC:Events for JF Kicks Restaurant
REFRESH-INTERVAL;VALUE=DURATION:PT1H
X-Robots-Tag:noindex
X-PUBLISHED-TTL:PT1H
BEGIN:VTIMEZONE
TZID:America/New_York
BEGIN:DAYLIGHT
TZOFFSETFROM:-0500
TZOFFSETTO:-0400
TZNAME:EDT
DTSTART:20250309T070000
END:DAYLIGHT
BEGIN:STANDARD
TZOFFSETFROM:-0400
TZOFFSETTO:-0500
TZNAME:EST
DTSTART:20251102T060000
END:STANDARD
BEGIN:DAYLIGHT
TZOFFSETFROM:-0500
TZOFFSETTO:-0400
TZNAME:EDT
DTSTART:20260308T070000
END:DAYLIGHT
BEGIN:STANDARD
TZOFFSETFROM:-0400
TZOFFSETTO:-0500
TZNAME:EST
DTSTART:20261101T060000
END:STANDARD
BEGIN:DAYLIGHT
TZOFFSETFROM:-0500
TZOFFSETTO:-0400
TZNAME:EDT
DTSTART:20270314T070000
END:DAYLIGHT
BEGIN:STANDARD
TZOFFSETFROM:-0400
TZOFFSETTO:-0500
TZNAME:EST
DTSTART:20271107T060000
END:STANDARD
BEGIN:DAYLIGHT
TZOFFSETFROM:-0500
TZOFFSETTO:-0400
TZNAME:EDT
DTSTART:20280312T070000
END:DAYLIGHT
BEGIN:STANDARD
TZOFFSETFROM:-0400
TZOFFSETTO:-0500
TZNAME:EST
DTSTART:20281105T060000
END:STANDARD
END:VTIMEZONE
BEGIN:VEVENT
DTSTART;TZID=America/New_York:20260912T160000
DTEND;TZID=America/New_York:20260912T210000
DTSTAMP:20260420T054341
CREATED:20231220T071858Z
LAST-MODIFIED:20240115T134139Z
UID:10003356-1789228800-1789246800@jfkicksrestaurant.com
SUMMARY:Half Priced Peel-N-Eat Shrimp Dinner Special
DESCRIPTION:Saturdays we offer Half Priced Peel-N-Eat Shrimp from 4-9pm!
URL:https://jfkicksrestaurant.com/event/half-price-peel-n-eat-shrimp/2026-09-12/
CATEGORIES:Food
ATTACH;FMTTYPE=image/jpeg:https://jfkicksrestaurant.com/wp-content/uploads/2023/12/410739926_777516257729740_5467180394573693269_n.jpg
END:VEVENT
BEGIN:VEVENT
DTSTART;TZID=America/New_York:20260919T160000
DTEND;TZID=America/New_York:20260919T210000
DTSTAMP:20260420T054341
CREATED:20231220T071858Z
LAST-MODIFIED:20240115T134139Z
UID:10003357-1789833600-1789851600@jfkicksrestaurant.com
SUMMARY:Half Priced Peel-N-Eat Shrimp Dinner Special
DESCRIPTION:Saturdays we offer Half Priced Peel-N-Eat Shrimp from 4-9pm!
URL:https://jfkicksrestaurant.com/event/half-price-peel-n-eat-shrimp/2026-09-19/
CATEGORIES:Food
ATTACH;FMTTYPE=image/jpeg:https://jfkicksrestaurant.com/wp-content/uploads/2023/12/410739926_777516257729740_5467180394573693269_n.jpg
END:VEVENT
BEGIN:VEVENT
DTSTART;TZID=America/New_York:20260926T160000
DTEND;TZID=America/New_York:20260926T210000
DTSTAMP:20260420T054341
CREATED:20231220T071858Z
LAST-MODIFIED:20240115T134139Z
UID:10003358-1790438400-1790456400@jfkicksrestaurant.com
SUMMARY:Half Priced Peel-N-Eat Shrimp Dinner Special
DESCRIPTION:Saturdays we offer Half Priced Peel-N-Eat Shrimp from 4-9pm!
URL:https://jfkicksrestaurant.com/event/half-price-peel-n-eat-shrimp/2026-09-26/
CATEGORIES:Food
ATTACH;FMTTYPE=image/jpeg:https://jfkicksrestaurant.com/wp-content/uploads/2023/12/410739926_777516257729740_5467180394573693269_n.jpg
END:VEVENT
BEGIN:VEVENT
DTSTART;TZID=America/New_York:20261003T160000
DTEND;TZID=America/New_York:20261003T210000
DTSTAMP:20260420T054341
CREATED:20231220T071858Z
LAST-MODIFIED:20240115T134139Z
UID:10003359-1791043200-1791061200@jfkicksrestaurant.com
SUMMARY:Half Priced Peel-N-Eat Shrimp Dinner Special
DESCRIPTION:Saturdays we offer Half Priced Peel-N-Eat Shrimp from 4-9pm!
URL:https://jfkicksrestaurant.com/event/half-price-peel-n-eat-shrimp/2026-10-03/
CATEGORIES:Food
ATTACH;FMTTYPE=image/jpeg:https://jfkicksrestaurant.com/wp-content/uploads/2023/12/410739926_777516257729740_5467180394573693269_n.jpg
END:VEVENT
BEGIN:VEVENT
DTSTART;TZID=America/New_York:20261010T160000
DTEND;TZID=America/New_York:20261010T210000
DTSTAMP:20260420T054341
CREATED:20231220T071858Z
LAST-MODIFIED:20240115T134139Z
UID:10003360-1791648000-1791666000@jfkicksrestaurant.com
SUMMARY:Half Priced Peel-N-Eat Shrimp Dinner Special
DESCRIPTION:Saturdays we offer Half Priced Peel-N-Eat Shrimp from 4-9pm!
URL:https://jfkicksrestaurant.com/event/half-price-peel-n-eat-shrimp/2026-10-10/
CATEGORIES:Food
ATTACH;FMTTYPE=image/jpeg:https://jfkicksrestaurant.com/wp-content/uploads/2023/12/410739926_777516257729740_5467180394573693269_n.jpg
END:VEVENT
BEGIN:VEVENT
DTSTART;TZID=America/New_York:20261017T160000
DTEND;TZID=America/New_York:20261017T210000
DTSTAMP:20260420T054341
CREATED:20231220T071858Z
LAST-MODIFIED:20240115T134139Z
UID:10003361-1792252800-1792270800@jfkicksrestaurant.com
SUMMARY:Half Priced Peel-N-Eat Shrimp Dinner Special
DESCRIPTION:Saturdays we offer Half Priced Peel-N-Eat Shrimp from 4-9pm!
URL:https://jfkicksrestaurant.com/event/half-price-peel-n-eat-shrimp/2026-10-17/
CATEGORIES:Food
ATTACH;FMTTYPE=image/jpeg:https://jfkicksrestaurant.com/wp-content/uploads/2023/12/410739926_777516257729740_5467180394573693269_n.jpg
END:VEVENT
BEGIN:VEVENT
DTSTART;TZID=America/New_York:20261024T160000
DTEND;TZID=America/New_York:20261024T210000
DTSTAMP:20260420T054341
CREATED:20231220T071858Z
LAST-MODIFIED:20240115T134139Z
UID:10003362-1792857600-1792875600@jfkicksrestaurant.com
SUMMARY:Half Priced Peel-N-Eat Shrimp Dinner Special
DESCRIPTION:Saturdays we offer Half Priced Peel-N-Eat Shrimp from 4-9pm!
URL:https://jfkicksrestaurant.com/event/half-price-peel-n-eat-shrimp/2026-10-24/
CATEGORIES:Food
ATTACH;FMTTYPE=image/jpeg:https://jfkicksrestaurant.com/wp-content/uploads/2023/12/410739926_777516257729740_5467180394573693269_n.jpg
END:VEVENT
BEGIN:VEVENT
DTSTART;TZID=America/New_York:20261031T160000
DTEND;TZID=America/New_York:20261031T210000
DTSTAMP:20260420T054341
CREATED:20231220T071858Z
LAST-MODIFIED:20240115T134139Z
UID:10003363-1793462400-1793480400@jfkicksrestaurant.com
SUMMARY:Half Priced Peel-N-Eat Shrimp Dinner Special
DESCRIPTION:Saturdays we offer Half Priced Peel-N-Eat Shrimp from 4-9pm!
URL:https://jfkicksrestaurant.com/event/half-price-peel-n-eat-shrimp/2026-10-31/
CATEGORIES:Food
ATTACH;FMTTYPE=image/jpeg:https://jfkicksrestaurant.com/wp-content/uploads/2023/12/410739926_777516257729740_5467180394573693269_n.jpg
END:VEVENT
BEGIN:VEVENT
DTSTART;TZID=America/New_York:20261107T160000
DTEND;TZID=America/New_York:20261107T210000
DTSTAMP:20260420T054341
CREATED:20231220T071858Z
LAST-MODIFIED:20240115T134139Z
UID:10003364-1794067200-1794085200@jfkicksrestaurant.com
SUMMARY:Half Priced Peel-N-Eat Shrimp Dinner Special
DESCRIPTION:Saturdays we offer Half Priced Peel-N-Eat Shrimp from 4-9pm!
URL:https://jfkicksrestaurant.com/event/half-price-peel-n-eat-shrimp/2026-11-07/
CATEGORIES:Food
ATTACH;FMTTYPE=image/jpeg:https://jfkicksrestaurant.com/wp-content/uploads/2023/12/410739926_777516257729740_5467180394573693269_n.jpg
END:VEVENT
BEGIN:VEVENT
DTSTART;TZID=America/New_York:20261114T160000
DTEND;TZID=America/New_York:20261114T210000
DTSTAMP:20260420T054341
CREATED:20231220T071858Z
LAST-MODIFIED:20240115T134139Z
UID:10003365-1794672000-1794690000@jfkicksrestaurant.com
SUMMARY:Half Priced Peel-N-Eat Shrimp Dinner Special
DESCRIPTION:Saturdays we offer Half Priced Peel-N-Eat Shrimp from 4-9pm!
URL:https://jfkicksrestaurant.com/event/half-price-peel-n-eat-shrimp/2026-11-14/
CATEGORIES:Food
ATTACH;FMTTYPE=image/jpeg:https://jfkicksrestaurant.com/wp-content/uploads/2023/12/410739926_777516257729740_5467180394573693269_n.jpg
END:VEVENT
BEGIN:VEVENT
DTSTART;TZID=America/New_York:20261121T160000
DTEND;TZID=America/New_York:20261121T210000
DTSTAMP:20260420T054341
CREATED:20231220T071858Z
LAST-MODIFIED:20240115T134139Z
UID:10003366-1795276800-1795294800@jfkicksrestaurant.com
SUMMARY:Half Priced Peel-N-Eat Shrimp Dinner Special
DESCRIPTION:Saturdays we offer Half Priced Peel-N-Eat Shrimp from 4-9pm!
URL:https://jfkicksrestaurant.com/event/half-price-peel-n-eat-shrimp/2026-11-21/
CATEGORIES:Food
ATTACH;FMTTYPE=image/jpeg:https://jfkicksrestaurant.com/wp-content/uploads/2023/12/410739926_777516257729740_5467180394573693269_n.jpg
END:VEVENT
BEGIN:VEVENT
DTSTART;TZID=America/New_York:20261128T160000
DTEND;TZID=America/New_York:20261128T210000
DTSTAMP:20260420T054341
CREATED:20231220T071858Z
LAST-MODIFIED:20240115T134139Z
UID:10003367-1795881600-1795899600@jfkicksrestaurant.com
SUMMARY:Half Priced Peel-N-Eat Shrimp Dinner Special
DESCRIPTION:Saturdays we offer Half Priced Peel-N-Eat Shrimp from 4-9pm!
URL:https://jfkicksrestaurant.com/event/half-price-peel-n-eat-shrimp/2026-11-28/
CATEGORIES:Food
ATTACH;FMTTYPE=image/jpeg:https://jfkicksrestaurant.com/wp-content/uploads/2023/12/410739926_777516257729740_5467180394573693269_n.jpg
END:VEVENT
BEGIN:VEVENT
DTSTART;TZID=America/New_York:20261205T160000
DTEND;TZID=America/New_York:20261205T210000
DTSTAMP:20260420T054341
CREATED:20231220T071858Z
LAST-MODIFIED:20240115T134139Z
UID:10003368-1796486400-1796504400@jfkicksrestaurant.com
SUMMARY:Half Priced Peel-N-Eat Shrimp Dinner Special
DESCRIPTION:Saturdays we offer Half Priced Peel-N-Eat Shrimp from 4-9pm!
URL:https://jfkicksrestaurant.com/event/half-price-peel-n-eat-shrimp/2026-12-05/
CATEGORIES:Food
ATTACH;FMTTYPE=image/jpeg:https://jfkicksrestaurant.com/wp-content/uploads/2023/12/410739926_777516257729740_5467180394573693269_n.jpg
END:VEVENT
BEGIN:VEVENT
DTSTART;TZID=America/New_York:20261212T160000
DTEND;TZID=America/New_York:20261212T210000
DTSTAMP:20260420T054341
CREATED:20231220T071858Z
LAST-MODIFIED:20240115T134139Z
UID:10003369-1797091200-1797109200@jfkicksrestaurant.com
SUMMARY:Half Priced Peel-N-Eat Shrimp Dinner Special
DESCRIPTION:Saturdays we offer Half Priced Peel-N-Eat Shrimp from 4-9pm!
URL:https://jfkicksrestaurant.com/event/half-price-peel-n-eat-shrimp/2026-12-12/
CATEGORIES:Food
ATTACH;FMTTYPE=image/jpeg:https://jfkicksrestaurant.com/wp-content/uploads/2023/12/410739926_777516257729740_5467180394573693269_n.jpg
END:VEVENT
BEGIN:VEVENT
DTSTART;TZID=America/New_York:20261219T160000
DTEND;TZID=America/New_York:20261219T210000
DTSTAMP:20260420T054341
CREATED:20231220T071858Z
LAST-MODIFIED:20240115T134139Z
UID:10003370-1797696000-1797714000@jfkicksrestaurant.com
SUMMARY:Half Priced Peel-N-Eat Shrimp Dinner Special
DESCRIPTION:Saturdays we offer Half Priced Peel-N-Eat Shrimp from 4-9pm!
URL:https://jfkicksrestaurant.com/event/half-price-peel-n-eat-shrimp/2026-12-19/
CATEGORIES:Food
ATTACH;FMTTYPE=image/jpeg:https://jfkicksrestaurant.com/wp-content/uploads/2023/12/410739926_777516257729740_5467180394573693269_n.jpg
END:VEVENT
BEGIN:VEVENT
DTSTART;TZID=America/New_York:20261226T160000
DTEND;TZID=America/New_York:20261226T210000
DTSTAMP:20260420T054341
CREATED:20231220T071858Z
LAST-MODIFIED:20240115T134139Z
UID:10003371-1798300800-1798318800@jfkicksrestaurant.com
SUMMARY:Half Priced Peel-N-Eat Shrimp Dinner Special
DESCRIPTION:Saturdays we offer Half Priced Peel-N-Eat Shrimp from 4-9pm!
URL:https://jfkicksrestaurant.com/event/half-price-peel-n-eat-shrimp/2026-12-26/
CATEGORIES:Food
ATTACH;FMTTYPE=image/jpeg:https://jfkicksrestaurant.com/wp-content/uploads/2023/12/410739926_777516257729740_5467180394573693269_n.jpg
END:VEVENT
BEGIN:VEVENT
DTSTART;TZID=America/New_York:20270102T160000
DTEND;TZID=America/New_York:20270102T210000
DTSTAMP:20260420T054341
CREATED:20231220T071858Z
LAST-MODIFIED:20240115T134139Z
UID:10003372-1798905600-1798923600@jfkicksrestaurant.com
SUMMARY:Half Priced Peel-N-Eat Shrimp Dinner Special
DESCRIPTION:Saturdays we offer Half Priced Peel-N-Eat Shrimp from 4-9pm!
URL:https://jfkicksrestaurant.com/event/half-price-peel-n-eat-shrimp/2027-01-02/
CATEGORIES:Food
ATTACH;FMTTYPE=image/jpeg:https://jfkicksrestaurant.com/wp-content/uploads/2023/12/410739926_777516257729740_5467180394573693269_n.jpg
END:VEVENT
BEGIN:VEVENT
DTSTART;TZID=America/New_York:20270109T160000
DTEND;TZID=America/New_York:20270109T210000
DTSTAMP:20260420T054341
CREATED:20231220T071858Z
LAST-MODIFIED:20240115T134139Z
UID:10003373-1799510400-1799528400@jfkicksrestaurant.com
SUMMARY:Half Priced Peel-N-Eat Shrimp Dinner Special
DESCRIPTION:Saturdays we offer Half Priced Peel-N-Eat Shrimp from 4-9pm!
URL:https://jfkicksrestaurant.com/event/half-price-peel-n-eat-shrimp/2027-01-09/
CATEGORIES:Food
ATTACH;FMTTYPE=image/jpeg:https://jfkicksrestaurant.com/wp-content/uploads/2023/12/410739926_777516257729740_5467180394573693269_n.jpg
END:VEVENT
BEGIN:VEVENT
DTSTART;TZID=America/New_York:20270116T160000
DTEND;TZID=America/New_York:20270116T210000
DTSTAMP:20260420T054341
CREATED:20231220T071858Z
LAST-MODIFIED:20240115T134139Z
UID:10003374-1800115200-1800133200@jfkicksrestaurant.com
SUMMARY:Half Priced Peel-N-Eat Shrimp Dinner Special
DESCRIPTION:Saturdays we offer Half Priced Peel-N-Eat Shrimp from 4-9pm!
URL:https://jfkicksrestaurant.com/event/half-price-peel-n-eat-shrimp/2027-01-16/
CATEGORIES:Food
ATTACH;FMTTYPE=image/jpeg:https://jfkicksrestaurant.com/wp-content/uploads/2023/12/410739926_777516257729740_5467180394573693269_n.jpg
END:VEVENT
BEGIN:VEVENT
DTSTART;TZID=America/New_York:20270123T160000
DTEND;TZID=America/New_York:20270123T210000
DTSTAMP:20260420T054341
CREATED:20231220T071858Z
LAST-MODIFIED:20240115T134139Z
UID:10003375-1800720000-1800738000@jfkicksrestaurant.com
SUMMARY:Half Priced Peel-N-Eat Shrimp Dinner Special
DESCRIPTION:Saturdays we offer Half Priced Peel-N-Eat Shrimp from 4-9pm!
URL:https://jfkicksrestaurant.com/event/half-price-peel-n-eat-shrimp/2027-01-23/
CATEGORIES:Food
ATTACH;FMTTYPE=image/jpeg:https://jfkicksrestaurant.com/wp-content/uploads/2023/12/410739926_777516257729740_5467180394573693269_n.jpg
END:VEVENT
BEGIN:VEVENT
DTSTART;TZID=America/New_York:20270130T160000
DTEND;TZID=America/New_York:20270130T210000
DTSTAMP:20260420T054341
CREATED:20231220T071858Z
LAST-MODIFIED:20240115T134139Z
UID:10003376-1801324800-1801342800@jfkicksrestaurant.com
SUMMARY:Half Priced Peel-N-Eat Shrimp Dinner Special
DESCRIPTION:Saturdays we offer Half Priced Peel-N-Eat Shrimp from 4-9pm!
URL:https://jfkicksrestaurant.com/event/half-price-peel-n-eat-shrimp/2027-01-30/
CATEGORIES:Food
ATTACH;FMTTYPE=image/jpeg:https://jfkicksrestaurant.com/wp-content/uploads/2023/12/410739926_777516257729740_5467180394573693269_n.jpg
END:VEVENT
BEGIN:VEVENT
DTSTART;TZID=America/New_York:20270206T160000
DTEND;TZID=America/New_York:20270206T210000
DTSTAMP:20260420T054341
CREATED:20231220T071858Z
LAST-MODIFIED:20240115T134139Z
UID:10003377-1801929600-1801947600@jfkicksrestaurant.com
SUMMARY:Half Priced Peel-N-Eat Shrimp Dinner Special
DESCRIPTION:Saturdays we offer Half Priced Peel-N-Eat Shrimp from 4-9pm!
URL:https://jfkicksrestaurant.com/event/half-price-peel-n-eat-shrimp/2027-02-06/
CATEGORIES:Food
ATTACH;FMTTYPE=image/jpeg:https://jfkicksrestaurant.com/wp-content/uploads/2023/12/410739926_777516257729740_5467180394573693269_n.jpg
END:VEVENT
BEGIN:VEVENT
DTSTART;TZID=America/New_York:20270213T160000
DTEND;TZID=America/New_York:20270213T210000
DTSTAMP:20260420T054341
CREATED:20231220T071858Z
LAST-MODIFIED:20240115T134139Z
UID:10003378-1802534400-1802552400@jfkicksrestaurant.com
SUMMARY:Half Priced Peel-N-Eat Shrimp Dinner Special
DESCRIPTION:Saturdays we offer Half Priced Peel-N-Eat Shrimp from 4-9pm!
URL:https://jfkicksrestaurant.com/event/half-price-peel-n-eat-shrimp/2027-02-13/
CATEGORIES:Food
ATTACH;FMTTYPE=image/jpeg:https://jfkicksrestaurant.com/wp-content/uploads/2023/12/410739926_777516257729740_5467180394573693269_n.jpg
END:VEVENT
BEGIN:VEVENT
DTSTART;TZID=America/New_York:20270220T160000
DTEND;TZID=America/New_York:20270220T210000
DTSTAMP:20260420T054341
CREATED:20231220T071858Z
LAST-MODIFIED:20240115T134139Z
UID:10003379-1803139200-1803157200@jfkicksrestaurant.com
SUMMARY:Half Priced Peel-N-Eat Shrimp Dinner Special
DESCRIPTION:Saturdays we offer Half Priced Peel-N-Eat Shrimp from 4-9pm!
URL:https://jfkicksrestaurant.com/event/half-price-peel-n-eat-shrimp/2027-02-20/
CATEGORIES:Food
ATTACH;FMTTYPE=image/jpeg:https://jfkicksrestaurant.com/wp-content/uploads/2023/12/410739926_777516257729740_5467180394573693269_n.jpg
END:VEVENT
BEGIN:VEVENT
DTSTART;TZID=America/New_York:20270227T160000
DTEND;TZID=America/New_York:20270227T210000
DTSTAMP:20260420T054341
CREATED:20231220T071858Z
LAST-MODIFIED:20240115T134139Z
UID:10003380-1803744000-1803762000@jfkicksrestaurant.com
SUMMARY:Half Priced Peel-N-Eat Shrimp Dinner Special
DESCRIPTION:Saturdays we offer Half Priced Peel-N-Eat Shrimp from 4-9pm!
URL:https://jfkicksrestaurant.com/event/half-price-peel-n-eat-shrimp/2027-02-27/
CATEGORIES:Food
ATTACH;FMTTYPE=image/jpeg:https://jfkicksrestaurant.com/wp-content/uploads/2023/12/410739926_777516257729740_5467180394573693269_n.jpg
END:VEVENT
BEGIN:VEVENT
DTSTART;TZID=America/New_York:20270306T160000
DTEND;TZID=America/New_York:20270306T210000
DTSTAMP:20260420T054341
CREATED:20231220T071858Z
LAST-MODIFIED:20240115T134139Z
UID:10003381-1804348800-1804366800@jfkicksrestaurant.com
SUMMARY:Half Priced Peel-N-Eat Shrimp Dinner Special
DESCRIPTION:Saturdays we offer Half Priced Peel-N-Eat Shrimp from 4-9pm!
URL:https://jfkicksrestaurant.com/event/half-price-peel-n-eat-shrimp/2027-03-06/
CATEGORIES:Food
ATTACH;FMTTYPE=image/jpeg:https://jfkicksrestaurant.com/wp-content/uploads/2023/12/410739926_777516257729740_5467180394573693269_n.jpg
END:VEVENT
BEGIN:VEVENT
DTSTART;TZID=America/New_York:20270313T160000
DTEND;TZID=America/New_York:20270313T210000
DTSTAMP:20260420T054341
CREATED:20231220T071858Z
LAST-MODIFIED:20240115T134139Z
UID:10003382-1804953600-1804971600@jfkicksrestaurant.com
SUMMARY:Half Priced Peel-N-Eat Shrimp Dinner Special
DESCRIPTION:Saturdays we offer Half Priced Peel-N-Eat Shrimp from 4-9pm!
URL:https://jfkicksrestaurant.com/event/half-price-peel-n-eat-shrimp/2027-03-13/
CATEGORIES:Food
ATTACH;FMTTYPE=image/jpeg:https://jfkicksrestaurant.com/wp-content/uploads/2023/12/410739926_777516257729740_5467180394573693269_n.jpg
END:VEVENT
BEGIN:VEVENT
DTSTART;TZID=America/New_York:20270320T160000
DTEND;TZID=America/New_York:20270320T210000
DTSTAMP:20260420T054341
CREATED:20231220T071858Z
LAST-MODIFIED:20240115T134139Z
UID:10003383-1805558400-1805576400@jfkicksrestaurant.com
SUMMARY:Half Priced Peel-N-Eat Shrimp Dinner Special
DESCRIPTION:Saturdays we offer Half Priced Peel-N-Eat Shrimp from 4-9pm!
URL:https://jfkicksrestaurant.com/event/half-price-peel-n-eat-shrimp/2027-03-20/
CATEGORIES:Food
ATTACH;FMTTYPE=image/jpeg:https://jfkicksrestaurant.com/wp-content/uploads/2023/12/410739926_777516257729740_5467180394573693269_n.jpg
END:VEVENT
BEGIN:VEVENT
DTSTART;TZID=America/New_York:20270327T160000
DTEND;TZID=America/New_York:20270327T210000
DTSTAMP:20260420T054341
CREATED:20231220T071858Z
LAST-MODIFIED:20240115T134139Z
UID:10003384-1806163200-1806181200@jfkicksrestaurant.com
SUMMARY:Half Priced Peel-N-Eat Shrimp Dinner Special
DESCRIPTION:Saturdays we offer Half Priced Peel-N-Eat Shrimp from 4-9pm!
URL:https://jfkicksrestaurant.com/event/half-price-peel-n-eat-shrimp/2027-03-27/
CATEGORIES:Food
ATTACH;FMTTYPE=image/jpeg:https://jfkicksrestaurant.com/wp-content/uploads/2023/12/410739926_777516257729740_5467180394573693269_n.jpg
END:VEVENT
BEGIN:VEVENT
DTSTART;TZID=America/New_York:20270403T160000
DTEND;TZID=America/New_York:20270403T210000
DTSTAMP:20260420T054341
CREATED:20231220T071858Z
LAST-MODIFIED:20240115T134139Z
UID:10003385-1806768000-1806786000@jfkicksrestaurant.com
SUMMARY:Half Priced Peel-N-Eat Shrimp Dinner Special
DESCRIPTION:Saturdays we offer Half Priced Peel-N-Eat Shrimp from 4-9pm!
URL:https://jfkicksrestaurant.com/event/half-price-peel-n-eat-shrimp/2027-04-03/
CATEGORIES:Food
ATTACH;FMTTYPE=image/jpeg:https://jfkicksrestaurant.com/wp-content/uploads/2023/12/410739926_777516257729740_5467180394573693269_n.jpg
END:VEVENT
END:VCALENDAR