BEGIN:VCALENDAR
VERSION:2.0
PRODID:-//JF Kicks Restaurant - ECPv6.15.18//NONSGML v1.0//EN
CALSCALE:GREGORIAN
METHOD:PUBLISH
X-ORIGINAL-URL:https://jfkicksrestaurant.com
X-WR-CALDESC:Events for JF Kicks Restaurant
REFRESH-INTERVAL;VALUE=DURATION:PT1H
X-Robots-Tag:noindex
X-PUBLISHED-TTL:PT1H
BEGIN:VTIMEZONE
TZID:America/New_York
BEGIN:DAYLIGHT
TZOFFSETFROM:-0500
TZOFFSETTO:-0400
TZNAME:EDT
DTSTART:20250309T070000
END:DAYLIGHT
BEGIN:STANDARD
TZOFFSETFROM:-0400
TZOFFSETTO:-0500
TZNAME:EST
DTSTART:20251102T060000
END:STANDARD
BEGIN:DAYLIGHT
TZOFFSETFROM:-0500
TZOFFSETTO:-0400
TZNAME:EDT
DTSTART:20260308T070000
END:DAYLIGHT
BEGIN:STANDARD
TZOFFSETFROM:-0400
TZOFFSETTO:-0500
TZNAME:EST
DTSTART:20261101T060000
END:STANDARD
BEGIN:DAYLIGHT
TZOFFSETFROM:-0500
TZOFFSETTO:-0400
TZNAME:EDT
DTSTART:20270314T070000
END:DAYLIGHT
BEGIN:STANDARD
TZOFFSETFROM:-0400
TZOFFSETTO:-0500
TZNAME:EST
DTSTART:20271107T060000
END:STANDARD
END:VTIMEZONE
BEGIN:VEVENT
DTSTART;TZID=America/New_York:20260131T200000
DTEND;TZID=America/New_York:20260131T220000
DTSTAMP:20260424T043058
CREATED:20260119T190351Z
LAST-MODIFIED:20260119T190351Z
UID:10009203-1769889600-1769896800@jfkicksrestaurant.com
SUMMARY:Gasparilla Pirate Party with Captain Bones & The Salty Seamen
DESCRIPTION:Get in the Gasparilla spirit and join us for a bone-shaking good time. It’ll be an exciting night of Live Music\, Magic and Comedy with Captain Bones and the Salty Seamen! Featuring Hatchi Matchi and special guests the Moxie Twins. Captain Bones is Tampa Bay’s Premier Pirate Magician\, specializing in Pirate themed magic and comedy.
URL:https://jfkicksrestaurant.com/event/gasparilla-pirate-party-with-captain-bones-the-salty-seamen/
LOCATION:Inside Main Stage
CATEGORIES:Comedy,Music,Performance
ATTACH;FMTTYPE=image/jpeg:https://jfkicksrestaurant.com/wp-content/uploads/2026/01/Gasparilla-Pirate-Party-Jan-31-2026.jpg
END:VEVENT
END:VCALENDAR