BEGIN:VCALENDAR
VERSION:2.0
PRODID:-//JF Kicks Restaurant - ECPv6.15.18//NONSGML v1.0//EN
CALSCALE:GREGORIAN
METHOD:PUBLISH
X-ORIGINAL-URL:https://jfkicksrestaurant.com
X-WR-CALDESC:Events for JF Kicks Restaurant
REFRESH-INTERVAL;VALUE=DURATION:PT1H
X-Robots-Tag:noindex
X-PUBLISHED-TTL:PT1H
BEGIN:VTIMEZONE
TZID:America/New_York
BEGIN:DAYLIGHT
TZOFFSETFROM:-0500
TZOFFSETTO:-0400
TZNAME:EDT
DTSTART:20240310T070000
END:DAYLIGHT
BEGIN:STANDARD
TZOFFSETFROM:-0400
TZOFFSETTO:-0500
TZNAME:EST
DTSTART:20241103T060000
END:STANDARD
BEGIN:DAYLIGHT
TZOFFSETFROM:-0500
TZOFFSETTO:-0400
TZNAME:EDT
DTSTART:20250309T070000
END:DAYLIGHT
BEGIN:STANDARD
TZOFFSETFROM:-0400
TZOFFSETTO:-0500
TZNAME:EST
DTSTART:20251102T060000
END:STANDARD
BEGIN:DAYLIGHT
TZOFFSETFROM:-0500
TZOFFSETTO:-0400
TZNAME:EDT
DTSTART:20260308T070000
END:DAYLIGHT
BEGIN:STANDARD
TZOFFSETFROM:-0400
TZOFFSETTO:-0500
TZNAME:EST
DTSTART:20261101T060000
END:STANDARD
END:VTIMEZONE
BEGIN:VEVENT
DTSTART;TZID=America/New_York:20250207T210000
DTEND;TZID=America/New_York:20250208T010000
DTSTAMP:20260424T211147
CREATED:20250117T141015Z
LAST-MODIFIED:20250117T141015Z
UID:10006071-1738962000-1738976400@jfkicksrestaurant.com
SUMMARY:Annual Karaoke Contest
DESCRIPTION:Join us for the Annual JF Kicks Karaoke Contest\, happening weekly on Fridays through March 21st. Hosted by Johnny Q\, each week’s winner will receive a $25 Gift Card with over $750 in cash and prizes. The Semi-Finals are on March 14th\, and the Finals\, which will be judged\, are on March 21st. There is no cover. We’ll have food and drink specials too!
URL:https://jfkicksrestaurant.com/event/karaoke-contest-2025/2025-02-07/
LOCATION:Inside Main Stage
CATEGORIES:Music,Performance
ATTACH;FMTTYPE=image/jpeg:https://jfkicksrestaurant.com/wp-content/uploads/2025/01/Karaoke-Contest-January-2025.jpg.jpeg
END:VEVENT
BEGIN:VEVENT
DTSTART;TZID=America/New_York:20250212T173000
DTEND;TZID=America/New_York:20250212T190000
DTSTAMP:20260424T211148
CREATED:20250207T030704Z
LAST-MODIFIED:20250212T195537Z
UID:10006412-1739381400-1739386800@jfkicksrestaurant.com
SUMMARY:Dancing for a Difference Spirit Night
DESCRIPTION:This event has been canceled. \nCome and support local non-profit “Dancing for a Difference!” 10% of sales will go to support their mission to make dance and the arts available to everyone in the community. The Dancing for A Difference studio is inclusive and welcomes children and adults of all abilities. Come support their great work!
URL:https://jfkicksrestaurant.com/event/dancing-for-a-difference-spirit-night-6/
LOCATION:Inside Main Stage
CATEGORIES:Community,Fundraising,Performance
ATTACH;FMTTYPE=image/jpeg:https://jfkicksrestaurant.com/wp-content/uploads/2024/11/Dancing-for-a-Difference-Nov-2024.jpg
END:VEVENT
BEGIN:VEVENT
DTSTART;TZID=America/New_York:20250214T210000
DTEND;TZID=America/New_York:20250215T010000
DTSTAMP:20260424T211148
CREATED:20250117T141015Z
LAST-MODIFIED:20250117T141015Z
UID:10006072-1739566800-1739581200@jfkicksrestaurant.com
SUMMARY:Annual Karaoke Contest
DESCRIPTION:Join us for the Annual JF Kicks Karaoke Contest\, happening weekly on Fridays through March 21st. Hosted by Johnny Q\, each week’s winner will receive a $25 Gift Card with over $750 in cash and prizes. The Semi-Finals are on March 14th\, and the Finals\, which will be judged\, are on March 21st. There is no cover. We’ll have food and drink specials too!
URL:https://jfkicksrestaurant.com/event/karaoke-contest-2025/2025-02-14/
LOCATION:Inside Main Stage
CATEGORIES:Music,Performance
ATTACH;FMTTYPE=image/jpeg:https://jfkicksrestaurant.com/wp-content/uploads/2025/01/Karaoke-Contest-January-2025.jpg.jpeg
END:VEVENT
BEGIN:VEVENT
DTSTART;TZID=America/New_York:20250221T210000
DTEND;TZID=America/New_York:20250222T010000
DTSTAMP:20260424T211148
CREATED:20250117T141015Z
LAST-MODIFIED:20250117T141015Z
UID:10006073-1740171600-1740186000@jfkicksrestaurant.com
SUMMARY:Annual Karaoke Contest
DESCRIPTION:Join us for the Annual JF Kicks Karaoke Contest\, happening weekly on Fridays through March 21st. Hosted by Johnny Q\, each week’s winner will receive a $25 Gift Card with over $750 in cash and prizes. The Semi-Finals are on March 14th\, and the Finals\, which will be judged\, are on March 21st. There is no cover. We’ll have food and drink specials too!
URL:https://jfkicksrestaurant.com/event/karaoke-contest-2025/2025-02-21/
LOCATION:Inside Main Stage
CATEGORIES:Music,Performance
ATTACH;FMTTYPE=image/jpeg:https://jfkicksrestaurant.com/wp-content/uploads/2025/01/Karaoke-Contest-January-2025.jpg.jpeg
END:VEVENT
BEGIN:VEVENT
DTSTART;TZID=America/New_York:20250228T210000
DTEND;TZID=America/New_York:20250301T010000
DTSTAMP:20260424T211148
CREATED:20250117T141015Z
LAST-MODIFIED:20250117T141015Z
UID:10006074-1740776400-1740790800@jfkicksrestaurant.com
SUMMARY:Annual Karaoke Contest
DESCRIPTION:Join us for the Annual JF Kicks Karaoke Contest\, happening weekly on Fridays through March 21st. Hosted by Johnny Q\, each week’s winner will receive a $25 Gift Card with over $750 in cash and prizes. The Semi-Finals are on March 14th\, and the Finals\, which will be judged\, are on March 21st. There is no cover. We’ll have food and drink specials too!
URL:https://jfkicksrestaurant.com/event/karaoke-contest-2025/2025-02-28/
LOCATION:Inside Main Stage
CATEGORIES:Music,Performance
ATTACH;FMTTYPE=image/jpeg:https://jfkicksrestaurant.com/wp-content/uploads/2025/01/Karaoke-Contest-January-2025.jpg.jpeg
END:VEVENT
END:VCALENDAR