BEGIN:VCALENDAR
VERSION:2.0
PRODID:-//JF Kicks Restaurant - ECPv6.15.18//NONSGML v1.0//EN
CALSCALE:GREGORIAN
METHOD:PUBLISH
X-ORIGINAL-URL:https://jfkicksrestaurant.com
X-WR-CALDESC:Events for JF Kicks Restaurant
REFRESH-INTERVAL;VALUE=DURATION:PT1H
X-Robots-Tag:noindex
X-PUBLISHED-TTL:PT1H
BEGIN:VTIMEZONE
TZID:America/New_York
BEGIN:DAYLIGHT
TZOFFSETFROM:-0500
TZOFFSETTO:-0400
TZNAME:EDT
DTSTART:20240310T070000
END:DAYLIGHT
BEGIN:STANDARD
TZOFFSETFROM:-0400
TZOFFSETTO:-0500
TZNAME:EST
DTSTART:20241103T060000
END:STANDARD
BEGIN:DAYLIGHT
TZOFFSETFROM:-0500
TZOFFSETTO:-0400
TZNAME:EDT
DTSTART:20250309T070000
END:DAYLIGHT
BEGIN:STANDARD
TZOFFSETFROM:-0400
TZOFFSETTO:-0500
TZNAME:EST
DTSTART:20251102T060000
END:STANDARD
BEGIN:DAYLIGHT
TZOFFSETFROM:-0500
TZOFFSETTO:-0400
TZNAME:EDT
DTSTART:20260308T070000
END:DAYLIGHT
BEGIN:STANDARD
TZOFFSETFROM:-0400
TZOFFSETTO:-0500
TZNAME:EST
DTSTART:20261101T060000
END:STANDARD
END:VTIMEZONE
BEGIN:VEVENT
DTSTART;TZID=America/New_York:20250103T210000
DTEND;TZID=America/New_York:20250104T010000
DTSTAMP:20260424T222401
CREATED:20250117T141015Z
LAST-MODIFIED:20250117T141015Z
UID:10006066-1735938000-1735952400@jfkicksrestaurant.com
SUMMARY:Annual Karaoke Contest
DESCRIPTION:Join us for the Annual JF Kicks Karaoke Contest\, happening weekly on Fridays through March 21st. Hosted by Johnny Q\, each week’s winner will receive a $25 Gift Card with over $750 in cash and prizes. The Semi-Finals are on March 14th\, and the Finals\, which will be judged\, are on March 21st. There is no cover. We’ll have food and drink specials too!
URL:https://jfkicksrestaurant.com/event/karaoke-contest-2025/2025-01-03/
LOCATION:Inside Main Stage
CATEGORIES:Music,Performance
ATTACH;FMTTYPE=image/jpeg:https://jfkicksrestaurant.com/wp-content/uploads/2025/01/Karaoke-Contest-January-2025.jpg.jpeg
END:VEVENT
BEGIN:VEVENT
DTSTART;TZID=America/New_York:20250110T210000
DTEND;TZID=America/New_York:20250111T010000
DTSTAMP:20260424T222401
CREATED:20250117T141015Z
LAST-MODIFIED:20250117T141015Z
UID:10006067-1736542800-1736557200@jfkicksrestaurant.com
SUMMARY:Annual Karaoke Contest
DESCRIPTION:Join us for the Annual JF Kicks Karaoke Contest\, happening weekly on Fridays through March 21st. Hosted by Johnny Q\, each week’s winner will receive a $25 Gift Card with over $750 in cash and prizes. The Semi-Finals are on March 14th\, and the Finals\, which will be judged\, are on March 21st. There is no cover. We’ll have food and drink specials too!
URL:https://jfkicksrestaurant.com/event/karaoke-contest-2025/2025-01-10/
LOCATION:Inside Main Stage
CATEGORIES:Music,Performance
ATTACH;FMTTYPE=image/jpeg:https://jfkicksrestaurant.com/wp-content/uploads/2025/01/Karaoke-Contest-January-2025.jpg.jpeg
END:VEVENT
BEGIN:VEVENT
DTSTART;TZID=America/New_York:20250117T210000
DTEND;TZID=America/New_York:20250118T010000
DTSTAMP:20260424T222401
CREATED:20250117T141015Z
LAST-MODIFIED:20250117T141015Z
UID:10006068-1737147600-1737162000@jfkicksrestaurant.com
SUMMARY:Annual Karaoke Contest
DESCRIPTION:Join us for the Annual JF Kicks Karaoke Contest\, happening weekly on Fridays through March 21st. Hosted by Johnny Q\, each week’s winner will receive a $25 Gift Card with over $750 in cash and prizes. The Semi-Finals are on March 14th\, and the Finals\, which will be judged\, are on March 21st. There is no cover. We’ll have food and drink specials too!
URL:https://jfkicksrestaurant.com/event/karaoke-contest-2025/2025-01-17/
LOCATION:Inside Main Stage
CATEGORIES:Music,Performance
ATTACH;FMTTYPE=image/jpeg:https://jfkicksrestaurant.com/wp-content/uploads/2025/01/Karaoke-Contest-January-2025.jpg.jpeg
END:VEVENT
BEGIN:VEVENT
DTSTART;TZID=America/New_York:20250118T200000
DTEND;TZID=America/New_York:20250118T230000
DTSTAMP:20260424T222401
CREATED:20250110T224819Z
LAST-MODIFIED:20250110T224819Z
UID:10006004-1737230400-1737241200@jfkicksrestaurant.com
SUMMARY:Captain Bones & The Salty Seamen
DESCRIPTION:Join us for a night of Live Music\, Magic and Comedy with Captain Bones and the Salty Seamen! Featuring Hatchi Matchi and special guests the Moxie Twins.
URL:https://jfkicksrestaurant.com/event/captain-bones-the-salty-seamen/
LOCATION:Inside Main Stage
CATEGORIES:Comedy,Music,Performance
ATTACH;FMTTYPE=image/jpeg:https://jfkicksrestaurant.com/wp-content/uploads/2025/01/Captain-Bones-The-Salty-Seamen.jpg.jpeg
END:VEVENT
BEGIN:VEVENT
DTSTART;TZID=America/New_York:20250122T173000
DTEND;TZID=America/New_York:20250122T190000
DTSTAMP:20260424T222401
CREATED:20250121T161757Z
LAST-MODIFIED:20250121T161757Z
UID:10006337-1737567000-1737572400@jfkicksrestaurant.com
SUMMARY:Dancing for a Difference Spirit Night
DESCRIPTION:Come and support a local non-profit “Dancing for a Difference” at 5:30pm! 10% of sales go towards breathing the art of dance into some great kids.
URL:https://jfkicksrestaurant.com/event/dancing-for-a-difference-spirit-night-5/
LOCATION:Inside Main Stage
CATEGORIES:Community,Fundraising,Performance
ATTACH;FMTTYPE=image/jpeg:https://jfkicksrestaurant.com/wp-content/uploads/2024/11/Dancing-for-a-Difference-Nov-2024.jpg
END:VEVENT
BEGIN:VEVENT
DTSTART;TZID=America/New_York:20250124T210000
DTEND;TZID=America/New_York:20250125T010000
DTSTAMP:20260424T222401
CREATED:20250117T141015Z
LAST-MODIFIED:20250117T141015Z
UID:10006069-1737752400-1737766800@jfkicksrestaurant.com
SUMMARY:Annual Karaoke Contest
DESCRIPTION:Join us for the Annual JF Kicks Karaoke Contest\, happening weekly on Fridays through March 21st. Hosted by Johnny Q\, each week’s winner will receive a $25 Gift Card with over $750 in cash and prizes. The Semi-Finals are on March 14th\, and the Finals\, which will be judged\, are on March 21st. There is no cover. We’ll have food and drink specials too!
URL:https://jfkicksrestaurant.com/event/karaoke-contest-2025/2025-01-24/
LOCATION:Inside Main Stage
CATEGORIES:Music,Performance
ATTACH;FMTTYPE=image/jpeg:https://jfkicksrestaurant.com/wp-content/uploads/2025/01/Karaoke-Contest-January-2025.jpg.jpeg
END:VEVENT
BEGIN:VEVENT
DTSTART;TZID=America/New_York:20250131T210000
DTEND;TZID=America/New_York:20250201T010000
DTSTAMP:20260424T222401
CREATED:20250117T141015Z
LAST-MODIFIED:20250117T141015Z
UID:10006070-1738357200-1738371600@jfkicksrestaurant.com
SUMMARY:Annual Karaoke Contest
DESCRIPTION:Join us for the Annual JF Kicks Karaoke Contest\, happening weekly on Fridays through March 21st. Hosted by Johnny Q\, each week’s winner will receive a $25 Gift Card with over $750 in cash and prizes. The Semi-Finals are on March 14th\, and the Finals\, which will be judged\, are on March 21st. There is no cover. We’ll have food and drink specials too!
URL:https://jfkicksrestaurant.com/event/karaoke-contest-2025/2025-01-31/
LOCATION:Inside Main Stage
CATEGORIES:Music,Performance
ATTACH;FMTTYPE=image/jpeg:https://jfkicksrestaurant.com/wp-content/uploads/2025/01/Karaoke-Contest-January-2025.jpg.jpeg
END:VEVENT
END:VCALENDAR