BEGIN:VCALENDAR
VERSION:2.0
PRODID:-//JF Kicks Restaurant - ECPv6.15.18//NONSGML v1.0//EN
CALSCALE:GREGORIAN
METHOD:PUBLISH
X-ORIGINAL-URL:https://jfkicksrestaurant.com
X-WR-CALDESC:Events for JF Kicks Restaurant
REFRESH-INTERVAL;VALUE=DURATION:PT1H
X-Robots-Tag:noindex
X-PUBLISHED-TTL:PT1H
BEGIN:VTIMEZONE
TZID:America/New_York
BEGIN:DAYLIGHT
TZOFFSETFROM:-0500
TZOFFSETTO:-0400
TZNAME:EDT
DTSTART:20230312T070000
END:DAYLIGHT
BEGIN:STANDARD
TZOFFSETFROM:-0400
TZOFFSETTO:-0500
TZNAME:EST
DTSTART:20231105T060000
END:STANDARD
BEGIN:DAYLIGHT
TZOFFSETFROM:-0500
TZOFFSETTO:-0400
TZNAME:EDT
DTSTART:20240310T070000
END:DAYLIGHT
BEGIN:STANDARD
TZOFFSETFROM:-0400
TZOFFSETTO:-0500
TZNAME:EST
DTSTART:20241103T060000
END:STANDARD
BEGIN:DAYLIGHT
TZOFFSETFROM:-0500
TZOFFSETTO:-0400
TZNAME:EDT
DTSTART:20250309T070000
END:DAYLIGHT
BEGIN:STANDARD
TZOFFSETFROM:-0400
TZOFFSETTO:-0500
TZNAME:EST
DTSTART:20251102T060000
END:STANDARD
BEGIN:DAYLIGHT
TZOFFSETFROM:-0500
TZOFFSETTO:-0400
TZNAME:EDT
DTSTART:20260308T070000
END:DAYLIGHT
BEGIN:STANDARD
TZOFFSETFROM:-0400
TZOFFSETTO:-0500
TZNAME:EST
DTSTART:20261101T060000
END:STANDARD
END:VTIMEZONE
BEGIN:VEVENT
DTSTART;TZID=America/New_York:20250625T110000
DTEND;TZID=America/New_York:20250625T120000
DTSTAMP:20260420T073930
CREATED:20240115T124228Z
LAST-MODIFIED:20260302T143154Z
UID:10002175-1750849200-1750852800@jfkicksrestaurant.com
SUMMARY:Business Networking Luncheon
DESCRIPTION:Join the Valrico / Fishhawk Chamber of Commerce for the Business Networking Luncheon every Wednesday morning.
URL:https://jfkicksrestaurant.com/event/business-networking-luncheon/2025-06-25/
CATEGORIES:Networking
ATTACH;FMTTYPE=image/jpeg:https://jfkicksrestaurant.com/wp-content/uploads/2024/01/mid-day-networking-lunch.jpg
END:VEVENT
BEGIN:VEVENT
DTSTART;TZID=America/New_York:20250618T110000
DTEND;TZID=America/New_York:20250618T120000
DTSTAMP:20260420T073930
CREATED:20240115T124228Z
LAST-MODIFIED:20260302T143154Z
UID:10002174-1750244400-1750248000@jfkicksrestaurant.com
SUMMARY:Business Networking Luncheon
DESCRIPTION:Join the Valrico / Fishhawk Chamber of Commerce for the Business Networking Luncheon every Wednesday morning.
URL:https://jfkicksrestaurant.com/event/business-networking-luncheon/2025-06-18/
CATEGORIES:Networking
ATTACH;FMTTYPE=image/jpeg:https://jfkicksrestaurant.com/wp-content/uploads/2024/01/mid-day-networking-lunch.jpg
END:VEVENT
BEGIN:VEVENT
DTSTART;TZID=America/New_York:20250611T110000
DTEND;TZID=America/New_York:20250611T120000
DTSTAMP:20260420T073930
CREATED:20240115T124228Z
LAST-MODIFIED:20260302T143154Z
UID:10002173-1749639600-1749643200@jfkicksrestaurant.com
SUMMARY:Business Networking Luncheon
DESCRIPTION:Join the Valrico / Fishhawk Chamber of Commerce for the Business Networking Luncheon every Wednesday morning.
URL:https://jfkicksrestaurant.com/event/business-networking-luncheon/2025-06-11/
CATEGORIES:Networking
ATTACH;FMTTYPE=image/jpeg:https://jfkicksrestaurant.com/wp-content/uploads/2024/01/mid-day-networking-lunch.jpg
END:VEVENT
BEGIN:VEVENT
DTSTART;TZID=America/New_York:20250604T110000
DTEND;TZID=America/New_York:20250604T120000
DTSTAMP:20260420T073930
CREATED:20240115T124228Z
LAST-MODIFIED:20260302T143154Z
UID:10002172-1749034800-1749038400@jfkicksrestaurant.com
SUMMARY:Business Networking Luncheon
DESCRIPTION:Join the Valrico / Fishhawk Chamber of Commerce for the Business Networking Luncheon every Wednesday morning.
URL:https://jfkicksrestaurant.com/event/business-networking-luncheon/2025-06-04/
CATEGORIES:Networking
ATTACH;FMTTYPE=image/jpeg:https://jfkicksrestaurant.com/wp-content/uploads/2024/01/mid-day-networking-lunch.jpg
END:VEVENT
BEGIN:VEVENT
DTSTART;TZID=America/New_York:20250528T110000
DTEND;TZID=America/New_York:20250528T120000
DTSTAMP:20260420T073930
CREATED:20240115T124228Z
LAST-MODIFIED:20260302T143154Z
UID:10002171-1748430000-1748433600@jfkicksrestaurant.com
SUMMARY:Business Networking Luncheon
DESCRIPTION:Join the Valrico / Fishhawk Chamber of Commerce for the Business Networking Luncheon every Wednesday morning.
URL:https://jfkicksrestaurant.com/event/business-networking-luncheon/2025-05-28/
CATEGORIES:Networking
ATTACH;FMTTYPE=image/jpeg:https://jfkicksrestaurant.com/wp-content/uploads/2024/01/mid-day-networking-lunch.jpg
END:VEVENT
BEGIN:VEVENT
DTSTART;TZID=America/New_York:20250521T110000
DTEND;TZID=America/New_York:20250521T120000
DTSTAMP:20260420T073930
CREATED:20240115T124228Z
LAST-MODIFIED:20260302T143154Z
UID:10002170-1747825200-1747828800@jfkicksrestaurant.com
SUMMARY:Business Networking Luncheon
DESCRIPTION:Join the Valrico / Fishhawk Chamber of Commerce for the Business Networking Luncheon every Wednesday morning.
URL:https://jfkicksrestaurant.com/event/business-networking-luncheon/2025-05-21/
CATEGORIES:Networking
ATTACH;FMTTYPE=image/jpeg:https://jfkicksrestaurant.com/wp-content/uploads/2024/01/mid-day-networking-lunch.jpg
END:VEVENT
BEGIN:VEVENT
DTSTART;TZID=America/New_York:20250514T110000
DTEND;TZID=America/New_York:20250514T120000
DTSTAMP:20260420T073930
CREATED:20240115T124228Z
LAST-MODIFIED:20260302T143154Z
UID:10002169-1747220400-1747224000@jfkicksrestaurant.com
SUMMARY:Business Networking Luncheon
DESCRIPTION:Join the Valrico / Fishhawk Chamber of Commerce for the Business Networking Luncheon every Wednesday morning.
URL:https://jfkicksrestaurant.com/event/business-networking-luncheon/2025-05-14/
CATEGORIES:Networking
ATTACH;FMTTYPE=image/jpeg:https://jfkicksrestaurant.com/wp-content/uploads/2024/01/mid-day-networking-lunch.jpg
END:VEVENT
BEGIN:VEVENT
DTSTART;TZID=America/New_York:20250507T110000
DTEND;TZID=America/New_York:20250507T120000
DTSTAMP:20260420T073930
CREATED:20240115T124228Z
LAST-MODIFIED:20260302T143154Z
UID:10002168-1746615600-1746619200@jfkicksrestaurant.com
SUMMARY:Business Networking Luncheon
DESCRIPTION:Join the Valrico / Fishhawk Chamber of Commerce for the Business Networking Luncheon every Wednesday morning.
URL:https://jfkicksrestaurant.com/event/business-networking-luncheon/2025-05-07/
CATEGORIES:Networking
ATTACH;FMTTYPE=image/jpeg:https://jfkicksrestaurant.com/wp-content/uploads/2024/01/mid-day-networking-lunch.jpg
END:VEVENT
BEGIN:VEVENT
DTSTART;TZID=America/New_York:20250430T110000
DTEND;TZID=America/New_York:20250430T120000
DTSTAMP:20260420T073930
CREATED:20240115T124228Z
LAST-MODIFIED:20260302T143154Z
UID:10002167-1746010800-1746014400@jfkicksrestaurant.com
SUMMARY:Business Networking Luncheon
DESCRIPTION:Join the Valrico / Fishhawk Chamber of Commerce for the Business Networking Luncheon every Wednesday morning.
URL:https://jfkicksrestaurant.com/event/business-networking-luncheon/2025-04-30/
CATEGORIES:Networking
ATTACH;FMTTYPE=image/jpeg:https://jfkicksrestaurant.com/wp-content/uploads/2024/01/mid-day-networking-lunch.jpg
END:VEVENT
BEGIN:VEVENT
DTSTART;TZID=America/New_York:20250423T110000
DTEND;TZID=America/New_York:20250423T120000
DTSTAMP:20260420T073930
CREATED:20240115T124228Z
LAST-MODIFIED:20260302T143154Z
UID:10002166-1745406000-1745409600@jfkicksrestaurant.com
SUMMARY:Business Networking Luncheon
DESCRIPTION:Join the Valrico / Fishhawk Chamber of Commerce for the Business Networking Luncheon every Wednesday morning.
URL:https://jfkicksrestaurant.com/event/business-networking-luncheon/2025-04-23/
CATEGORIES:Networking
ATTACH;FMTTYPE=image/jpeg:https://jfkicksrestaurant.com/wp-content/uploads/2024/01/mid-day-networking-lunch.jpg
END:VEVENT
BEGIN:VEVENT
DTSTART;TZID=America/New_York:20250416T110000
DTEND;TZID=America/New_York:20250416T120000
DTSTAMP:20260420T073930
CREATED:20240115T124228Z
LAST-MODIFIED:20260302T143154Z
UID:10002165-1744801200-1744804800@jfkicksrestaurant.com
SUMMARY:Business Networking Luncheon
DESCRIPTION:Join the Valrico / Fishhawk Chamber of Commerce for the Business Networking Luncheon every Wednesday morning.
URL:https://jfkicksrestaurant.com/event/business-networking-luncheon/2025-04-16/
CATEGORIES:Networking
ATTACH;FMTTYPE=image/jpeg:https://jfkicksrestaurant.com/wp-content/uploads/2024/01/mid-day-networking-lunch.jpg
END:VEVENT
BEGIN:VEVENT
DTSTART;TZID=America/New_York:20250409T110000
DTEND;TZID=America/New_York:20250409T120000
DTSTAMP:20260420T073930
CREATED:20240115T124228Z
LAST-MODIFIED:20260302T143154Z
UID:10002164-1744196400-1744200000@jfkicksrestaurant.com
SUMMARY:Business Networking Luncheon
DESCRIPTION:Join the Valrico / Fishhawk Chamber of Commerce for the Business Networking Luncheon every Wednesday morning.
URL:https://jfkicksrestaurant.com/event/business-networking-luncheon/2025-04-09/
CATEGORIES:Networking
ATTACH;FMTTYPE=image/jpeg:https://jfkicksrestaurant.com/wp-content/uploads/2024/01/mid-day-networking-lunch.jpg
END:VEVENT
BEGIN:VEVENT
DTSTART;TZID=America/New_York:20250402T110000
DTEND;TZID=America/New_York:20250402T120000
DTSTAMP:20260420T073930
CREATED:20240115T124228Z
LAST-MODIFIED:20260302T143154Z
UID:10002163-1743591600-1743595200@jfkicksrestaurant.com
SUMMARY:Business Networking Luncheon
DESCRIPTION:Join the Valrico / Fishhawk Chamber of Commerce for the Business Networking Luncheon every Wednesday morning.
URL:https://jfkicksrestaurant.com/event/business-networking-luncheon/2025-04-02/
CATEGORIES:Networking
ATTACH;FMTTYPE=image/jpeg:https://jfkicksrestaurant.com/wp-content/uploads/2024/01/mid-day-networking-lunch.jpg
END:VEVENT
BEGIN:VEVENT
DTSTART;TZID=America/New_York:20250326T110000
DTEND;TZID=America/New_York:20250326T120000
DTSTAMP:20260420T073930
CREATED:20240115T124228Z
LAST-MODIFIED:20260302T143154Z
UID:10002162-1742986800-1742990400@jfkicksrestaurant.com
SUMMARY:Business Networking Luncheon
DESCRIPTION:Join the Valrico / Fishhawk Chamber of Commerce for the Business Networking Luncheon every Wednesday morning.
URL:https://jfkicksrestaurant.com/event/business-networking-luncheon/2025-03-26/
CATEGORIES:Networking
ATTACH;FMTTYPE=image/jpeg:https://jfkicksrestaurant.com/wp-content/uploads/2024/01/mid-day-networking-lunch.jpg
END:VEVENT
BEGIN:VEVENT
DTSTART;TZID=America/New_York:20250319T110000
DTEND;TZID=America/New_York:20250319T120000
DTSTAMP:20260420T073930
CREATED:20240115T124228Z
LAST-MODIFIED:20260302T143154Z
UID:10002161-1742382000-1742385600@jfkicksrestaurant.com
SUMMARY:Business Networking Luncheon
DESCRIPTION:Join the Valrico / Fishhawk Chamber of Commerce for the Business Networking Luncheon every Wednesday morning.
URL:https://jfkicksrestaurant.com/event/business-networking-luncheon/2025-03-19/
CATEGORIES:Networking
ATTACH;FMTTYPE=image/jpeg:https://jfkicksrestaurant.com/wp-content/uploads/2024/01/mid-day-networking-lunch.jpg
END:VEVENT
BEGIN:VEVENT
DTSTART;TZID=America/New_York:20250312T110000
DTEND;TZID=America/New_York:20250312T120000
DTSTAMP:20260420T073930
CREATED:20240115T124228Z
LAST-MODIFIED:20260302T143154Z
UID:10002160-1741777200-1741780800@jfkicksrestaurant.com
SUMMARY:Business Networking Luncheon
DESCRIPTION:Join the Valrico / Fishhawk Chamber of Commerce for the Business Networking Luncheon every Wednesday morning.
URL:https://jfkicksrestaurant.com/event/business-networking-luncheon/2025-03-12/
CATEGORIES:Networking
ATTACH;FMTTYPE=image/jpeg:https://jfkicksrestaurant.com/wp-content/uploads/2024/01/mid-day-networking-lunch.jpg
END:VEVENT
BEGIN:VEVENT
DTSTART;TZID=America/New_York:20250305T110000
DTEND;TZID=America/New_York:20250305T120000
DTSTAMP:20260420T073930
CREATED:20240115T124228Z
LAST-MODIFIED:20260302T143154Z
UID:10002159-1741172400-1741176000@jfkicksrestaurant.com
SUMMARY:Business Networking Luncheon
DESCRIPTION:Join the Valrico / Fishhawk Chamber of Commerce for the Business Networking Luncheon every Wednesday morning.
URL:https://jfkicksrestaurant.com/event/business-networking-luncheon/2025-03-05/
CATEGORIES:Networking
ATTACH;FMTTYPE=image/jpeg:https://jfkicksrestaurant.com/wp-content/uploads/2024/01/mid-day-networking-lunch.jpg
END:VEVENT
BEGIN:VEVENT
DTSTART;TZID=America/New_York:20250226T110000
DTEND;TZID=America/New_York:20250226T120000
DTSTAMP:20260420T073930
CREATED:20240115T124228Z
LAST-MODIFIED:20260302T143154Z
UID:10002158-1740567600-1740571200@jfkicksrestaurant.com
SUMMARY:Business Networking Luncheon
DESCRIPTION:Join the Valrico / Fishhawk Chamber of Commerce for the Business Networking Luncheon every Wednesday morning.
URL:https://jfkicksrestaurant.com/event/business-networking-luncheon/2025-02-26/
CATEGORIES:Networking
ATTACH;FMTTYPE=image/jpeg:https://jfkicksrestaurant.com/wp-content/uploads/2024/01/mid-day-networking-lunch.jpg
END:VEVENT
BEGIN:VEVENT
DTSTART;TZID=America/New_York:20250219T110000
DTEND;TZID=America/New_York:20250219T120000
DTSTAMP:20260420T073930
CREATED:20240115T124228Z
LAST-MODIFIED:20260302T143154Z
UID:10002157-1739962800-1739966400@jfkicksrestaurant.com
SUMMARY:Business Networking Luncheon
DESCRIPTION:Join the Valrico / Fishhawk Chamber of Commerce for the Business Networking Luncheon every Wednesday morning.
URL:https://jfkicksrestaurant.com/event/business-networking-luncheon/2025-02-19/
CATEGORIES:Networking
ATTACH;FMTTYPE=image/jpeg:https://jfkicksrestaurant.com/wp-content/uploads/2024/01/mid-day-networking-lunch.jpg
END:VEVENT
BEGIN:VEVENT
DTSTART;TZID=America/New_York:20250212T110000
DTEND;TZID=America/New_York:20250212T120000
DTSTAMP:20260420T073930
CREATED:20240115T124228Z
LAST-MODIFIED:20260302T143154Z
UID:10002156-1739358000-1739361600@jfkicksrestaurant.com
SUMMARY:Business Networking Luncheon
DESCRIPTION:Join the Valrico / Fishhawk Chamber of Commerce for the Business Networking Luncheon every Wednesday morning.
URL:https://jfkicksrestaurant.com/event/business-networking-luncheon/2025-02-12/
CATEGORIES:Networking
ATTACH;FMTTYPE=image/jpeg:https://jfkicksrestaurant.com/wp-content/uploads/2024/01/mid-day-networking-lunch.jpg
END:VEVENT
BEGIN:VEVENT
DTSTART;TZID=America/New_York:20250205T110000
DTEND;TZID=America/New_York:20250205T120000
DTSTAMP:20260420T073930
CREATED:20240115T124228Z
LAST-MODIFIED:20260302T143154Z
UID:10002155-1738753200-1738756800@jfkicksrestaurant.com
SUMMARY:Business Networking Luncheon
DESCRIPTION:Join the Valrico / Fishhawk Chamber of Commerce for the Business Networking Luncheon every Wednesday morning.
URL:https://jfkicksrestaurant.com/event/business-networking-luncheon/2025-02-05/
CATEGORIES:Networking
ATTACH;FMTTYPE=image/jpeg:https://jfkicksrestaurant.com/wp-content/uploads/2024/01/mid-day-networking-lunch.jpg
END:VEVENT
BEGIN:VEVENT
DTSTART;TZID=America/New_York:20250129T110000
DTEND;TZID=America/New_York:20250129T120000
DTSTAMP:20260420T073930
CREATED:20240115T124228Z
LAST-MODIFIED:20260302T143154Z
UID:10002154-1738148400-1738152000@jfkicksrestaurant.com
SUMMARY:Business Networking Luncheon
DESCRIPTION:Join the Valrico / Fishhawk Chamber of Commerce for the Business Networking Luncheon every Wednesday morning.
URL:https://jfkicksrestaurant.com/event/business-networking-luncheon/2025-01-29/
CATEGORIES:Networking
ATTACH;FMTTYPE=image/jpeg:https://jfkicksrestaurant.com/wp-content/uploads/2024/01/mid-day-networking-lunch.jpg
END:VEVENT
BEGIN:VEVENT
DTSTART;TZID=America/New_York:20250122T110000
DTEND;TZID=America/New_York:20250122T120000
DTSTAMP:20260420T073930
CREATED:20240115T124228Z
LAST-MODIFIED:20260302T143154Z
UID:10002153-1737543600-1737547200@jfkicksrestaurant.com
SUMMARY:Business Networking Luncheon
DESCRIPTION:Join the Valrico / Fishhawk Chamber of Commerce for the Business Networking Luncheon every Wednesday morning.
URL:https://jfkicksrestaurant.com/event/business-networking-luncheon/2025-01-22/
CATEGORIES:Networking
ATTACH;FMTTYPE=image/jpeg:https://jfkicksrestaurant.com/wp-content/uploads/2024/01/mid-day-networking-lunch.jpg
END:VEVENT
BEGIN:VEVENT
DTSTART;TZID=America/New_York:20250115T110000
DTEND;TZID=America/New_York:20250115T120000
DTSTAMP:20260420T073930
CREATED:20240115T124228Z
LAST-MODIFIED:20260302T143154Z
UID:10002152-1736938800-1736942400@jfkicksrestaurant.com
SUMMARY:Business Networking Luncheon
DESCRIPTION:Join the Valrico / Fishhawk Chamber of Commerce for the Business Networking Luncheon every Wednesday morning.
URL:https://jfkicksrestaurant.com/event/business-networking-luncheon/2025-01-15/
CATEGORIES:Networking
ATTACH;FMTTYPE=image/jpeg:https://jfkicksrestaurant.com/wp-content/uploads/2024/01/mid-day-networking-lunch.jpg
END:VEVENT
BEGIN:VEVENT
DTSTART;TZID=America/New_York:20250108T110000
DTEND;TZID=America/New_York:20250108T120000
DTSTAMP:20260420T073930
CREATED:20240115T124228Z
LAST-MODIFIED:20260302T143154Z
UID:10002151-1736334000-1736337600@jfkicksrestaurant.com
SUMMARY:Business Networking Luncheon
DESCRIPTION:Join the Valrico / Fishhawk Chamber of Commerce for the Business Networking Luncheon every Wednesday morning.
URL:https://jfkicksrestaurant.com/event/business-networking-luncheon/2025-01-08/
CATEGORIES:Networking
ATTACH;FMTTYPE=image/jpeg:https://jfkicksrestaurant.com/wp-content/uploads/2024/01/mid-day-networking-lunch.jpg
END:VEVENT
BEGIN:VEVENT
DTSTART;TZID=America/New_York:20250101T110000
DTEND;TZID=America/New_York:20250101T120000
DTSTAMP:20260420T073930
CREATED:20240115T124228Z
LAST-MODIFIED:20260302T143154Z
UID:10002150-1735729200-1735732800@jfkicksrestaurant.com
SUMMARY:Business Networking Luncheon
DESCRIPTION:Join the Valrico / Fishhawk Chamber of Commerce for the Business Networking Luncheon every Wednesday morning.
URL:https://jfkicksrestaurant.com/event/business-networking-luncheon/2025-01-01/
CATEGORIES:Networking
ATTACH;FMTTYPE=image/jpeg:https://jfkicksrestaurant.com/wp-content/uploads/2024/01/mid-day-networking-lunch.jpg
END:VEVENT
BEGIN:VEVENT
DTSTART;TZID=America/New_York:20241225T110000
DTEND;TZID=America/New_York:20241225T120000
DTSTAMP:20260420T073930
CREATED:20240115T124228Z
LAST-MODIFIED:20260302T143154Z
UID:10002149-1735124400-1735128000@jfkicksrestaurant.com
SUMMARY:Business Networking Luncheon
DESCRIPTION:Join the Valrico / Fishhawk Chamber of Commerce for the Business Networking Luncheon every Wednesday morning.
URL:https://jfkicksrestaurant.com/event/business-networking-luncheon/2024-12-25/
CATEGORIES:Networking
ATTACH;FMTTYPE=image/jpeg:https://jfkicksrestaurant.com/wp-content/uploads/2024/01/mid-day-networking-lunch.jpg
END:VEVENT
BEGIN:VEVENT
DTSTART;TZID=America/New_York:20241218T110000
DTEND;TZID=America/New_York:20241218T120000
DTSTAMP:20260420T073930
CREATED:20240115T124228Z
LAST-MODIFIED:20260302T143154Z
UID:10002148-1734519600-1734523200@jfkicksrestaurant.com
SUMMARY:Business Networking Luncheon
DESCRIPTION:Join the Valrico / Fishhawk Chamber of Commerce for the Business Networking Luncheon every Wednesday morning.
URL:https://jfkicksrestaurant.com/event/business-networking-luncheon/2024-12-18/
CATEGORIES:Networking
ATTACH;FMTTYPE=image/jpeg:https://jfkicksrestaurant.com/wp-content/uploads/2024/01/mid-day-networking-lunch.jpg
END:VEVENT
BEGIN:VEVENT
DTSTART;TZID=America/New_York:20241211T110000
DTEND;TZID=America/New_York:20241211T120000
DTSTAMP:20260420T073930
CREATED:20240115T124228Z
LAST-MODIFIED:20260302T143154Z
UID:10002147-1733914800-1733918400@jfkicksrestaurant.com
SUMMARY:Business Networking Luncheon
DESCRIPTION:Join the Valrico / Fishhawk Chamber of Commerce for the Business Networking Luncheon every Wednesday morning.
URL:https://jfkicksrestaurant.com/event/business-networking-luncheon/2024-12-11/
CATEGORIES:Networking
ATTACH;FMTTYPE=image/jpeg:https://jfkicksrestaurant.com/wp-content/uploads/2024/01/mid-day-networking-lunch.jpg
END:VEVENT
BEGIN:VEVENT
DTSTART;TZID=America/New_York:20241204T110000
DTEND;TZID=America/New_York:20241204T120000
DTSTAMP:20260420T073930
CREATED:20240115T124228Z
LAST-MODIFIED:20260302T143154Z
UID:10002146-1733310000-1733313600@jfkicksrestaurant.com
SUMMARY:Business Networking Luncheon
DESCRIPTION:Join the Valrico / Fishhawk Chamber of Commerce for the Business Networking Luncheon every Wednesday morning.
URL:https://jfkicksrestaurant.com/event/business-networking-luncheon/2024-12-04/
CATEGORIES:Networking
ATTACH;FMTTYPE=image/jpeg:https://jfkicksrestaurant.com/wp-content/uploads/2024/01/mid-day-networking-lunch.jpg
END:VEVENT
END:VCALENDAR