BEGIN:VCALENDAR
VERSION:2.0
PRODID:-//JF Kicks Restaurant - ECPv6.15.18//NONSGML v1.0//EN
CALSCALE:GREGORIAN
METHOD:PUBLISH
X-ORIGINAL-URL:https://jfkicksrestaurant.com
X-WR-CALDESC:Events for JF Kicks Restaurant
REFRESH-INTERVAL;VALUE=DURATION:PT1H
X-Robots-Tag:noindex
X-PUBLISHED-TTL:PT1H
BEGIN:VTIMEZONE
TZID:America/New_York
BEGIN:DAYLIGHT
TZOFFSETFROM:-0500
TZOFFSETTO:-0400
TZNAME:EDT
DTSTART:20240310T070000
END:DAYLIGHT
BEGIN:STANDARD
TZOFFSETFROM:-0400
TZOFFSETTO:-0500
TZNAME:EST
DTSTART:20241103T060000
END:STANDARD
BEGIN:DAYLIGHT
TZOFFSETFROM:-0500
TZOFFSETTO:-0400
TZNAME:EDT
DTSTART:20250309T070000
END:DAYLIGHT
BEGIN:STANDARD
TZOFFSETFROM:-0400
TZOFFSETTO:-0500
TZNAME:EST
DTSTART:20251102T060000
END:STANDARD
BEGIN:DAYLIGHT
TZOFFSETFROM:-0500
TZOFFSETTO:-0400
TZNAME:EDT
DTSTART:20260308T070000
END:DAYLIGHT
BEGIN:STANDARD
TZOFFSETFROM:-0400
TZOFFSETTO:-0500
TZNAME:EST
DTSTART:20261101T060000
END:STANDARD
BEGIN:DAYLIGHT
TZOFFSETFROM:-0500
TZOFFSETTO:-0400
TZNAME:EDT
DTSTART:20270314T070000
END:DAYLIGHT
BEGIN:STANDARD
TZOFFSETFROM:-0400
TZOFFSETTO:-0500
TZNAME:EST
DTSTART:20271107T060000
END:STANDARD
END:VTIMEZONE
BEGIN:VEVENT
DTSTART;TZID=America/New_York:20260417T120000
DTEND;TZID=America/New_York:20260417T130000
DTSTAMP:20260420T042232
CREATED:20260403T141050Z
LAST-MODIFIED:20260403T141052Z
UID:10010376-1776427200-1776430800@jfkicksrestaurant.com
SUMMARY:Networking at Noon East
DESCRIPTION:Network and connect with other community and business members at the Brandon Riverview Chamber of Commerce weekly Networking at Noon East event every Friday
URL:https://jfkicksrestaurant.com/event/networking-at-noon-east/2026-04-17/
CATEGORIES:Networking
ATTACH;FMTTYPE=image/jpeg:https://jfkicksrestaurant.com/wp-content/uploads/2026/04/Networking-at-Noon-Poster.jpeg
END:VEVENT
BEGIN:VEVENT
DTSTART;TZID=America/New_York:20260410T120000
DTEND;TZID=America/New_York:20260410T130000
DTSTAMP:20260420T042232
CREATED:20260403T141050Z
LAST-MODIFIED:20260403T141052Z
UID:10010375-1775822400-1775826000@jfkicksrestaurant.com
SUMMARY:Networking at Noon East
DESCRIPTION:Network and connect with other community and business members at the Brandon Riverview Chamber of Commerce weekly Networking at Noon East event every Friday
URL:https://jfkicksrestaurant.com/event/networking-at-noon-east/2026-04-10/
CATEGORIES:Networking
ATTACH;FMTTYPE=image/jpeg:https://jfkicksrestaurant.com/wp-content/uploads/2026/04/Networking-at-Noon-Poster.jpeg
END:VEVENT
BEGIN:VEVENT
DTSTART;TZID=America/New_York:20260403T120000
DTEND;TZID=America/New_York:20260403T130000
DTSTAMP:20260420T042232
CREATED:20260403T141050Z
LAST-MODIFIED:20260403T141052Z
UID:10010374-1775217600-1775221200@jfkicksrestaurant.com
SUMMARY:Networking at Noon East
DESCRIPTION:Network and connect with other community and business members at the Brandon Riverview Chamber of Commerce weekly Networking at Noon East event every Friday
URL:https://jfkicksrestaurant.com/event/networking-at-noon-east/2026-04-03/
CATEGORIES:Networking
ATTACH;FMTTYPE=image/jpeg:https://jfkicksrestaurant.com/wp-content/uploads/2026/04/Networking-at-Noon-Poster.jpeg
END:VEVENT
BEGIN:VEVENT
DTSTART;TZID=America/New_York:20260225T110000
DTEND;TZID=America/New_York:20260225T120000
DTSTAMP:20260420T042232
CREATED:20240115T124228Z
LAST-MODIFIED:20260302T143154Z
UID:10002210-1772017200-1772020800@jfkicksrestaurant.com
SUMMARY:Business Networking Luncheon
DESCRIPTION:Join the Valrico / Fishhawk Chamber of Commerce for the Business Networking Luncheon every Wednesday morning.
URL:https://jfkicksrestaurant.com/event/business-networking-luncheon/2026-02-25/
CATEGORIES:Networking
ATTACH;FMTTYPE=image/jpeg:https://jfkicksrestaurant.com/wp-content/uploads/2024/01/mid-day-networking-lunch.jpg
END:VEVENT
BEGIN:VEVENT
DTSTART;TZID=America/New_York:20260218T110000
DTEND;TZID=America/New_York:20260218T120000
DTSTAMP:20260420T042232
CREATED:20240115T124228Z
LAST-MODIFIED:20260302T143154Z
UID:10002209-1771412400-1771416000@jfkicksrestaurant.com
SUMMARY:Business Networking Luncheon
DESCRIPTION:Join the Valrico / Fishhawk Chamber of Commerce for the Business Networking Luncheon every Wednesday morning.
URL:https://jfkicksrestaurant.com/event/business-networking-luncheon/2026-02-18/
CATEGORIES:Networking
ATTACH;FMTTYPE=image/jpeg:https://jfkicksrestaurant.com/wp-content/uploads/2024/01/mid-day-networking-lunch.jpg
END:VEVENT
BEGIN:VEVENT
DTSTART;TZID=America/New_York:20260211T110000
DTEND;TZID=America/New_York:20260211T120000
DTSTAMP:20260420T042232
CREATED:20240115T124228Z
LAST-MODIFIED:20260302T143154Z
UID:10002208-1770807600-1770811200@jfkicksrestaurant.com
SUMMARY:Business Networking Luncheon
DESCRIPTION:Join the Valrico / Fishhawk Chamber of Commerce for the Business Networking Luncheon every Wednesday morning.
URL:https://jfkicksrestaurant.com/event/business-networking-luncheon/2026-02-11/
CATEGORIES:Networking
ATTACH;FMTTYPE=image/jpeg:https://jfkicksrestaurant.com/wp-content/uploads/2024/01/mid-day-networking-lunch.jpg
END:VEVENT
BEGIN:VEVENT
DTSTART;TZID=America/New_York:20260204T110000
DTEND;TZID=America/New_York:20260204T120000
DTSTAMP:20260420T042232
CREATED:20240115T124228Z
LAST-MODIFIED:20260302T143154Z
UID:10002207-1770202800-1770206400@jfkicksrestaurant.com
SUMMARY:Business Networking Luncheon
DESCRIPTION:Join the Valrico / Fishhawk Chamber of Commerce for the Business Networking Luncheon every Wednesday morning.
URL:https://jfkicksrestaurant.com/event/business-networking-luncheon/2026-02-04/
CATEGORIES:Networking
ATTACH;FMTTYPE=image/jpeg:https://jfkicksrestaurant.com/wp-content/uploads/2024/01/mid-day-networking-lunch.jpg
END:VEVENT
BEGIN:VEVENT
DTSTART;TZID=America/New_York:20260128T110000
DTEND;TZID=America/New_York:20260128T120000
DTSTAMP:20260420T042232
CREATED:20240115T124228Z
LAST-MODIFIED:20260302T143154Z
UID:10002206-1769598000-1769601600@jfkicksrestaurant.com
SUMMARY:Business Networking Luncheon
DESCRIPTION:Join the Valrico / Fishhawk Chamber of Commerce for the Business Networking Luncheon every Wednesday morning.
URL:https://jfkicksrestaurant.com/event/business-networking-luncheon/2026-01-28/
CATEGORIES:Networking
ATTACH;FMTTYPE=image/jpeg:https://jfkicksrestaurant.com/wp-content/uploads/2024/01/mid-day-networking-lunch.jpg
END:VEVENT
BEGIN:VEVENT
DTSTART;TZID=America/New_York:20260121T110000
DTEND;TZID=America/New_York:20260121T120000
DTSTAMP:20260420T042232
CREATED:20240115T124228Z
LAST-MODIFIED:20260302T143154Z
UID:10002205-1768993200-1768996800@jfkicksrestaurant.com
SUMMARY:Business Networking Luncheon
DESCRIPTION:Join the Valrico / Fishhawk Chamber of Commerce for the Business Networking Luncheon every Wednesday morning.
URL:https://jfkicksrestaurant.com/event/business-networking-luncheon/2026-01-21/
CATEGORIES:Networking
ATTACH;FMTTYPE=image/jpeg:https://jfkicksrestaurant.com/wp-content/uploads/2024/01/mid-day-networking-lunch.jpg
END:VEVENT
BEGIN:VEVENT
DTSTART;TZID=America/New_York:20260114T110000
DTEND;TZID=America/New_York:20260114T120000
DTSTAMP:20260420T042232
CREATED:20240115T124228Z
LAST-MODIFIED:20260302T143154Z
UID:10002204-1768388400-1768392000@jfkicksrestaurant.com
SUMMARY:Business Networking Luncheon
DESCRIPTION:Join the Valrico / Fishhawk Chamber of Commerce for the Business Networking Luncheon every Wednesday morning.
URL:https://jfkicksrestaurant.com/event/business-networking-luncheon/2026-01-14/
CATEGORIES:Networking
ATTACH;FMTTYPE=image/jpeg:https://jfkicksrestaurant.com/wp-content/uploads/2024/01/mid-day-networking-lunch.jpg
END:VEVENT
BEGIN:VEVENT
DTSTART;TZID=America/New_York:20260107T110000
DTEND;TZID=America/New_York:20260107T120000
DTSTAMP:20260420T042232
CREATED:20240115T124228Z
LAST-MODIFIED:20260302T143154Z
UID:10002203-1767783600-1767787200@jfkicksrestaurant.com
SUMMARY:Business Networking Luncheon
DESCRIPTION:Join the Valrico / Fishhawk Chamber of Commerce for the Business Networking Luncheon every Wednesday morning.
URL:https://jfkicksrestaurant.com/event/business-networking-luncheon/2026-01-07/
CATEGORIES:Networking
ATTACH;FMTTYPE=image/jpeg:https://jfkicksrestaurant.com/wp-content/uploads/2024/01/mid-day-networking-lunch.jpg
END:VEVENT
BEGIN:VEVENT
DTSTART;TZID=America/New_York:20251231T110000
DTEND;TZID=America/New_York:20251231T120000
DTSTAMP:20260420T042232
CREATED:20240115T124228Z
LAST-MODIFIED:20260302T143154Z
UID:10002202-1767178800-1767182400@jfkicksrestaurant.com
SUMMARY:Business Networking Luncheon
DESCRIPTION:Join the Valrico / Fishhawk Chamber of Commerce for the Business Networking Luncheon every Wednesday morning.
URL:https://jfkicksrestaurant.com/event/business-networking-luncheon/2025-12-31/
CATEGORIES:Networking
ATTACH;FMTTYPE=image/jpeg:https://jfkicksrestaurant.com/wp-content/uploads/2024/01/mid-day-networking-lunch.jpg
END:VEVENT
BEGIN:VEVENT
DTSTART;TZID=America/New_York:20251224T110000
DTEND;TZID=America/New_York:20251224T120000
DTSTAMP:20260420T042232
CREATED:20240115T124228Z
LAST-MODIFIED:20260302T143154Z
UID:10002201-1766574000-1766577600@jfkicksrestaurant.com
SUMMARY:Business Networking Luncheon
DESCRIPTION:Join the Valrico / Fishhawk Chamber of Commerce for the Business Networking Luncheon every Wednesday morning.
URL:https://jfkicksrestaurant.com/event/business-networking-luncheon/2025-12-24/
CATEGORIES:Networking
ATTACH;FMTTYPE=image/jpeg:https://jfkicksrestaurant.com/wp-content/uploads/2024/01/mid-day-networking-lunch.jpg
END:VEVENT
BEGIN:VEVENT
DTSTART;TZID=America/New_York:20251217T110000
DTEND;TZID=America/New_York:20251217T120000
DTSTAMP:20260420T042232
CREATED:20240115T124228Z
LAST-MODIFIED:20260302T143154Z
UID:10002200-1765969200-1765972800@jfkicksrestaurant.com
SUMMARY:Business Networking Luncheon
DESCRIPTION:Join the Valrico / Fishhawk Chamber of Commerce for the Business Networking Luncheon every Wednesday morning.
URL:https://jfkicksrestaurant.com/event/business-networking-luncheon/2025-12-17/
CATEGORIES:Networking
ATTACH;FMTTYPE=image/jpeg:https://jfkicksrestaurant.com/wp-content/uploads/2024/01/mid-day-networking-lunch.jpg
END:VEVENT
BEGIN:VEVENT
DTSTART;TZID=America/New_York:20251210T110000
DTEND;TZID=America/New_York:20251210T120000
DTSTAMP:20260420T042232
CREATED:20240115T124228Z
LAST-MODIFIED:20260302T143154Z
UID:10002199-1765364400-1765368000@jfkicksrestaurant.com
SUMMARY:Business Networking Luncheon
DESCRIPTION:Join the Valrico / Fishhawk Chamber of Commerce for the Business Networking Luncheon every Wednesday morning.
URL:https://jfkicksrestaurant.com/event/business-networking-luncheon/2025-12-10/
CATEGORIES:Networking
ATTACH;FMTTYPE=image/jpeg:https://jfkicksrestaurant.com/wp-content/uploads/2024/01/mid-day-networking-lunch.jpg
END:VEVENT
BEGIN:VEVENT
DTSTART;TZID=America/New_York:20251203T110000
DTEND;TZID=America/New_York:20251203T120000
DTSTAMP:20260420T042232
CREATED:20240115T124228Z
LAST-MODIFIED:20260302T143154Z
UID:10002198-1764759600-1764763200@jfkicksrestaurant.com
SUMMARY:Business Networking Luncheon
DESCRIPTION:Join the Valrico / Fishhawk Chamber of Commerce for the Business Networking Luncheon every Wednesday morning.
URL:https://jfkicksrestaurant.com/event/business-networking-luncheon/2025-12-03/
CATEGORIES:Networking
ATTACH;FMTTYPE=image/jpeg:https://jfkicksrestaurant.com/wp-content/uploads/2024/01/mid-day-networking-lunch.jpg
END:VEVENT
BEGIN:VEVENT
DTSTART;TZID=America/New_York:20251126T110000
DTEND;TZID=America/New_York:20251126T120000
DTSTAMP:20260420T042232
CREATED:20240115T124228Z
LAST-MODIFIED:20260302T143154Z
UID:10002197-1764154800-1764158400@jfkicksrestaurant.com
SUMMARY:Business Networking Luncheon
DESCRIPTION:Join the Valrico / Fishhawk Chamber of Commerce for the Business Networking Luncheon every Wednesday morning.
URL:https://jfkicksrestaurant.com/event/business-networking-luncheon/2025-11-26/
CATEGORIES:Networking
ATTACH;FMTTYPE=image/jpeg:https://jfkicksrestaurant.com/wp-content/uploads/2024/01/mid-day-networking-lunch.jpg
END:VEVENT
BEGIN:VEVENT
DTSTART;TZID=America/New_York:20251119T110000
DTEND;TZID=America/New_York:20251119T120000
DTSTAMP:20260420T042232
CREATED:20240115T124228Z
LAST-MODIFIED:20260302T143154Z
UID:10002196-1763550000-1763553600@jfkicksrestaurant.com
SUMMARY:Business Networking Luncheon
DESCRIPTION:Join the Valrico / Fishhawk Chamber of Commerce for the Business Networking Luncheon every Wednesday morning.
URL:https://jfkicksrestaurant.com/event/business-networking-luncheon/2025-11-19/
CATEGORIES:Networking
ATTACH;FMTTYPE=image/jpeg:https://jfkicksrestaurant.com/wp-content/uploads/2024/01/mid-day-networking-lunch.jpg
END:VEVENT
BEGIN:VEVENT
DTSTART;TZID=America/New_York:20251112T110000
DTEND;TZID=America/New_York:20251112T120000
DTSTAMP:20260420T042232
CREATED:20240115T124228Z
LAST-MODIFIED:20260302T143154Z
UID:10002195-1762945200-1762948800@jfkicksrestaurant.com
SUMMARY:Business Networking Luncheon
DESCRIPTION:Join the Valrico / Fishhawk Chamber of Commerce for the Business Networking Luncheon every Wednesday morning.
URL:https://jfkicksrestaurant.com/event/business-networking-luncheon/2025-11-12/
CATEGORIES:Networking
ATTACH;FMTTYPE=image/jpeg:https://jfkicksrestaurant.com/wp-content/uploads/2024/01/mid-day-networking-lunch.jpg
END:VEVENT
BEGIN:VEVENT
DTSTART;TZID=America/New_York:20251106T181500
DTEND;TZID=America/New_York:20251106T203000
DTSTAMP:20260420T042232
CREATED:20251103T171513Z
LAST-MODIFIED:20251105T014859Z
UID:10008556-1762452900-1762461000@jfkicksrestaurant.com
SUMMARY:Turkey Talk Speed Mingle
DESCRIPTION:UPDATE: This event has been cancelled. \n  \nPrepare for an engaging and sophisticated evening at our Valrico Turkey Talk Speed Mingle\, an exclusive event designed for professionals and community members alike. We cordially invite you to join us for an exceptional occasion of professional networking and community engagement\, set within the refined ambiance of JF Kicks Restaurant & Patio Bar. This event offers a unparalleled opportunity to forge new connections\, cultivate existing relationships\, and indulge in culinary delights\, all within a welcoming and elegant setting. \nYour ticket includes: \n\nDynamic Speed Mingling Sessions: Engage in our structured and efficient speed mingling sessions\, expertly designed to facilitate introductions and meaningful conversations with numerous individuals in a concise timeframe. This format ensures you maximize your networking potential and meet a diverse array of professionals and community leaders.\n52+2: The Card Game! Rounds: Where every card drawn is an invitation to connect\, converse\, and discover!\nExceptional Networking Opportunities: This event serves as a prime platform to connect with esteemed members of the Valrico community\, including local business owners\, community leaders\, and like-minded professionals. Expand your professional network\, exchange insights\, and discover potential collaborations in a relaxed yet stimulating environment.\nCordial and Celebratory Ambiance: Immerse yourself in a truly cordial and celebratory atmosphere\, perfectly suited for a pre-Thanksgiving gathering. The welcoming environment at JF Kicks\, combined with the energy of engaged attendees\, will create an ideal setting for fostering new acquaintances and strengthening community ties. This event is not just about professional connections\, but also about building a stronger\, more connected Valrico community.
URL:https://jfkicksrestaurant.com/event/turkey-talk-speed-mingle/
CATEGORIES:Community,Game,Networking
ATTACH;FMTTYPE=image/jpeg:https://jfkicksrestaurant.com/wp-content/uploads/2025/11/Turkey-Talk-Speed-Mingle-v3.jpg
END:VEVENT
BEGIN:VEVENT
DTSTART;TZID=America/New_York:20251105T110000
DTEND;TZID=America/New_York:20251105T120000
DTSTAMP:20260420T042232
CREATED:20240115T124228Z
LAST-MODIFIED:20260302T143154Z
UID:10002194-1762340400-1762344000@jfkicksrestaurant.com
SUMMARY:Business Networking Luncheon
DESCRIPTION:Join the Valrico / Fishhawk Chamber of Commerce for the Business Networking Luncheon every Wednesday morning.
URL:https://jfkicksrestaurant.com/event/business-networking-luncheon/2025-11-05/
CATEGORIES:Networking
ATTACH;FMTTYPE=image/jpeg:https://jfkicksrestaurant.com/wp-content/uploads/2024/01/mid-day-networking-lunch.jpg
END:VEVENT
BEGIN:VEVENT
DTSTART;TZID=America/New_York:20251029T110000
DTEND;TZID=America/New_York:20251029T120000
DTSTAMP:20260420T042232
CREATED:20240115T124228Z
LAST-MODIFIED:20260302T143154Z
UID:10002193-1761735600-1761739200@jfkicksrestaurant.com
SUMMARY:Business Networking Luncheon
DESCRIPTION:Join the Valrico / Fishhawk Chamber of Commerce for the Business Networking Luncheon every Wednesday morning.
URL:https://jfkicksrestaurant.com/event/business-networking-luncheon/2025-10-29/
CATEGORIES:Networking
ATTACH;FMTTYPE=image/jpeg:https://jfkicksrestaurant.com/wp-content/uploads/2024/01/mid-day-networking-lunch.jpg
END:VEVENT
BEGIN:VEVENT
DTSTART;TZID=America/New_York:20251022T110000
DTEND;TZID=America/New_York:20251022T120000
DTSTAMP:20260420T042232
CREATED:20240115T124228Z
LAST-MODIFIED:20260302T143154Z
UID:10002192-1761130800-1761134400@jfkicksrestaurant.com
SUMMARY:Business Networking Luncheon
DESCRIPTION:Join the Valrico / Fishhawk Chamber of Commerce for the Business Networking Luncheon every Wednesday morning.
URL:https://jfkicksrestaurant.com/event/business-networking-luncheon/2025-10-22/
CATEGORIES:Networking
ATTACH;FMTTYPE=image/jpeg:https://jfkicksrestaurant.com/wp-content/uploads/2024/01/mid-day-networking-lunch.jpg
END:VEVENT
BEGIN:VEVENT
DTSTART;TZID=America/New_York:20251015T110000
DTEND;TZID=America/New_York:20251015T120000
DTSTAMP:20260420T042232
CREATED:20240115T124228Z
LAST-MODIFIED:20260302T143154Z
UID:10002191-1760526000-1760529600@jfkicksrestaurant.com
SUMMARY:Business Networking Luncheon
DESCRIPTION:Join the Valrico / Fishhawk Chamber of Commerce for the Business Networking Luncheon every Wednesday morning.
URL:https://jfkicksrestaurant.com/event/business-networking-luncheon/2025-10-15/
CATEGORIES:Networking
ATTACH;FMTTYPE=image/jpeg:https://jfkicksrestaurant.com/wp-content/uploads/2024/01/mid-day-networking-lunch.jpg
END:VEVENT
BEGIN:VEVENT
DTSTART;TZID=America/New_York:20251008T110000
DTEND;TZID=America/New_York:20251008T120000
DTSTAMP:20260420T042232
CREATED:20240115T124228Z
LAST-MODIFIED:20260302T143154Z
UID:10002190-1759921200-1759924800@jfkicksrestaurant.com
SUMMARY:Business Networking Luncheon
DESCRIPTION:Join the Valrico / Fishhawk Chamber of Commerce for the Business Networking Luncheon every Wednesday morning.
URL:https://jfkicksrestaurant.com/event/business-networking-luncheon/2025-10-08/
CATEGORIES:Networking
ATTACH;FMTTYPE=image/jpeg:https://jfkicksrestaurant.com/wp-content/uploads/2024/01/mid-day-networking-lunch.jpg
END:VEVENT
BEGIN:VEVENT
DTSTART;TZID=America/New_York:20251001T110000
DTEND;TZID=America/New_York:20251001T120000
DTSTAMP:20260420T042232
CREATED:20240115T124228Z
LAST-MODIFIED:20260302T143154Z
UID:10002189-1759316400-1759320000@jfkicksrestaurant.com
SUMMARY:Business Networking Luncheon
DESCRIPTION:Join the Valrico / Fishhawk Chamber of Commerce for the Business Networking Luncheon every Wednesday morning.
URL:https://jfkicksrestaurant.com/event/business-networking-luncheon/2025-10-01/
CATEGORIES:Networking
ATTACH;FMTTYPE=image/jpeg:https://jfkicksrestaurant.com/wp-content/uploads/2024/01/mid-day-networking-lunch.jpg
END:VEVENT
BEGIN:VEVENT
DTSTART;TZID=America/New_York:20250924T110000
DTEND;TZID=America/New_York:20250924T120000
DTSTAMP:20260420T042232
CREATED:20240115T124228Z
LAST-MODIFIED:20260302T143154Z
UID:10002188-1758711600-1758715200@jfkicksrestaurant.com
SUMMARY:Business Networking Luncheon
DESCRIPTION:Join the Valrico / Fishhawk Chamber of Commerce for the Business Networking Luncheon every Wednesday morning.
URL:https://jfkicksrestaurant.com/event/business-networking-luncheon/2025-09-24/
CATEGORIES:Networking
ATTACH;FMTTYPE=image/jpeg:https://jfkicksrestaurant.com/wp-content/uploads/2024/01/mid-day-networking-lunch.jpg
END:VEVENT
BEGIN:VEVENT
DTSTART;TZID=America/New_York:20250918T181500
DTEND;TZID=America/New_York:20250918T203000
DTSTAMP:20260420T042232
CREATED:20250821T165423Z
LAST-MODIFIED:20250821T165510Z
UID:10007048-1758219300-1758227400@jfkicksrestaurant.com
SUMMARY:Speed Mingle Night: Awkward or Awesome?
DESCRIPTION:Are you ready to break free from your routine and dive into an evening of genuine connection and memorable moments? Get ready to connect and make new friends at our “Awkward or Awesome?” Speed Mingle Night! Whether you’re actively seeking new connections\, looking for a fun and engaging night out\, or simply eager for a chance to meet interesting people in a relaxed setting\, this event is tailor-made for you. Forget the pressure of traditional networking – this is all about authentic interactions and discovering shared interests. Register here: https://www.eventbrite.com/e/valrico-fl-speed-mingle-night-awkward-or-awesome-tickets-1461885221049\n\nJoin us for an evening designed for lively conversation\, good company\, and perhaps a few delightful laughs. We’re meticulously setting up a relaxed and friendly atmosphere that’s absolutely perfect for getting to know others in short\, engaging bursts. Imagine the possibility: your next awesome connection\, whether it’s a new friend\, a business contact\, or even a romantic interest\, might be just a few minutes away! Our unique speed mingle format ensures that you’ll interact with a diverse group of individuals\, maximizing your chances of finding common ground and sparking meaningful conversations.\nThis isn’t just another social gathering; it’s an opportunity to expand your circle\, share experiences\, and potentially forge lasting bonds. We believe that every new connection holds the potential for something truly awesome\, and we’re excited to facilitate those possibilities.\nCome with an open mind\, a willingness to chat\, and a smile! Leave your inhibitions at the door and embrace the spontaneous energy of the evening. We’re confident that you’ll leave with new connections\, fresh perspectives\, and a memorable experience. We can’t wait to see you there and witness the magic of new friendships forming! Get ready for an evening that promises to be anything but awkward and potentially\, truly awesome.
URL:https://jfkicksrestaurant.com/event/speed-mingle-night-awkward-or-awesome/
CATEGORIES:Community,Networking
ATTACH;FMTTYPE=image/jpeg:https://jfkicksrestaurant.com/wp-content/uploads/2025/08/Speed-Mingle-09-18-2025.jpg
END:VEVENT
BEGIN:VEVENT
DTSTART;TZID=America/New_York:20250917T110000
DTEND;TZID=America/New_York:20250917T120000
DTSTAMP:20260420T042232
CREATED:20240115T124228Z
LAST-MODIFIED:20260302T143154Z
UID:10002187-1758106800-1758110400@jfkicksrestaurant.com
SUMMARY:Business Networking Luncheon
DESCRIPTION:Join the Valrico / Fishhawk Chamber of Commerce for the Business Networking Luncheon every Wednesday morning.
URL:https://jfkicksrestaurant.com/event/business-networking-luncheon/2025-09-17/
CATEGORIES:Networking
ATTACH;FMTTYPE=image/jpeg:https://jfkicksrestaurant.com/wp-content/uploads/2024/01/mid-day-networking-lunch.jpg
END:VEVENT
BEGIN:VEVENT
DTSTART;TZID=America/New_York:20250910T110000
DTEND;TZID=America/New_York:20250910T120000
DTSTAMP:20260420T042232
CREATED:20240115T124228Z
LAST-MODIFIED:20260302T143154Z
UID:10002186-1757502000-1757505600@jfkicksrestaurant.com
SUMMARY:Business Networking Luncheon
DESCRIPTION:Join the Valrico / Fishhawk Chamber of Commerce for the Business Networking Luncheon every Wednesday morning.
URL:https://jfkicksrestaurant.com/event/business-networking-luncheon/2025-09-10/
CATEGORIES:Networking
ATTACH;FMTTYPE=image/jpeg:https://jfkicksrestaurant.com/wp-content/uploads/2024/01/mid-day-networking-lunch.jpg
END:VEVENT
END:VCALENDAR