BEGIN:VCALENDAR
VERSION:2.0
PRODID:-//JF Kicks Restaurant - ECPv6.15.18//NONSGML v1.0//EN
CALSCALE:GREGORIAN
METHOD:PUBLISH
X-ORIGINAL-URL:https://jfkicksrestaurant.com
X-WR-CALDESC:Events for JF Kicks Restaurant
REFRESH-INTERVAL;VALUE=DURATION:PT1H
X-Robots-Tag:noindex
X-PUBLISHED-TTL:PT1H
BEGIN:VTIMEZONE
TZID:America/New_York
BEGIN:DAYLIGHT
TZOFFSETFROM:-0500
TZOFFSETTO:-0400
TZNAME:EDT
DTSTART:20230312T070000
END:DAYLIGHT
BEGIN:STANDARD
TZOFFSETFROM:-0400
TZOFFSETTO:-0500
TZNAME:EST
DTSTART:20231105T060000
END:STANDARD
BEGIN:DAYLIGHT
TZOFFSETFROM:-0500
TZOFFSETTO:-0400
TZNAME:EDT
DTSTART:20240310T070000
END:DAYLIGHT
BEGIN:STANDARD
TZOFFSETFROM:-0400
TZOFFSETTO:-0500
TZNAME:EST
DTSTART:20241103T060000
END:STANDARD
BEGIN:DAYLIGHT
TZOFFSETFROM:-0500
TZOFFSETTO:-0400
TZNAME:EDT
DTSTART:20250309T070000
END:DAYLIGHT
BEGIN:STANDARD
TZOFFSETFROM:-0400
TZOFFSETTO:-0500
TZNAME:EST
DTSTART:20251102T060000
END:STANDARD
END:VTIMEZONE
BEGIN:VEVENT
DTSTART;TZID=America/New_York:20240712T210000
DTEND;TZID=America/New_York:20240713T010000
DTSTAMP:20260425T222900
CREATED:20240115T131113Z
LAST-MODIFIED:20250108T221319Z
UID:10002910-1720818000-1720832400@jfkicksrestaurant.com
SUMMARY:Karaoke
DESCRIPTION:Join us for Karaoke with Johnny Q inside from 9pm to 1am every Friday night!
URL:https://jfkicksrestaurant.com/event/karaoke-2/2024-07-12/
LOCATION:Inside Main Stage
CATEGORIES:Music
ATTACH;FMTTYPE=image/jpeg:https://jfkicksrestaurant.com/wp-content/uploads/2024/01/Karaoke-Fridays.jpg
END:VEVENT
BEGIN:VEVENT
DTSTART;TZID=America/New_York:20240712T190000
DTEND;TZID=America/New_York:20240712T230000
DTSTAMP:20260425T222900
CREATED:20240508T135002Z
LAST-MODIFIED:20240701T131028Z
UID:10005306-1720810800-1720825200@jfkicksrestaurant.com
SUMMARY:Skip & Nancy
DESCRIPTION:Skip & Nancy will be playing all your Classic R&R and blues favorites on the patio!
URL:https://jfkicksrestaurant.com/event/skip-nancy-2/
LOCATION:Outdoor Covered Patio Stage
CATEGORIES:Music
ATTACH;FMTTYPE=image/png:https://jfkicksrestaurant.com/wp-content/uploads/2024/02/Skip-Nancy.png
END:VEVENT
BEGIN:VEVENT
DTSTART;TZID=America/New_York:20240711T200000
DTEND;TZID=America/New_York:20240711T235900
DTSTAMP:20260425T222900
CREATED:20240320T134004Z
LAST-MODIFIED:20241104T122159Z
UID:10004768-1720728000-1720742340@jfkicksrestaurant.com
SUMMARY:Open Mic
DESCRIPTION:Thursday Night Open Mic on the inside stage is open to musicians and Karaoke singers alike! Come audition during Open Mic for the possibility of getting booked by the owner.
URL:https://jfkicksrestaurant.com/event/open-mic-2/2024-07-11/
CATEGORIES:Music
ATTACH;FMTTYPE=image/jpeg:https://jfkicksrestaurant.com/wp-content/uploads/2024/01/Open-Mic-8-to-12-March-2024.jpeg
END:VEVENT
BEGIN:VEVENT
DTSTART;TZID=America/New_York:20240709T200000
DTEND;TZID=America/New_York:20240709T230000
DTSTAMP:20260425T222900
CREATED:20240115T042441Z
LAST-MODIFIED:20240212T142417Z
UID:10001342-1720555200-1720566000@jfkicksrestaurant.com
SUMMARY:Karaoke Tuesdays
DESCRIPTION:Bill Knowles hosts Karaoke on Tuesdays from 8pm-11pm!
URL:https://jfkicksrestaurant.com/event/karaoke-tuesdays/2024-07-09/
LOCATION:Inside Main Stage
CATEGORIES:Music
ATTACH;FMTTYPE=image/jpeg:https://jfkicksrestaurant.com/wp-content/uploads/2024/01/Karaoke-Tuesdays.jpg
END:VEVENT
BEGIN:VEVENT
DTSTART;TZID=America/New_York:20240707T120000
DTEND;TZID=America/New_York:20240707T160000
DTSTAMP:20260425T222900
CREATED:20240626T133337Z
LAST-MODIFIED:20240626T133337Z
UID:10005411-1720353600-1720368000@jfkicksrestaurant.com
SUMMARY:Tommy Patrick
DESCRIPTION:The one and only Tommy Patrick plays the Kicks Patio!
URL:https://jfkicksrestaurant.com/event/tommy-patrick/
CATEGORIES:Music
ATTACH;FMTTYPE=image/jpeg:https://jfkicksrestaurant.com/wp-content/uploads/2024/06/Tommy-Patrick.jpg
END:VEVENT
BEGIN:VEVENT
DTSTART;TZID=America/New_York:20240706T200000
DTEND;TZID=America/New_York:20240706T230000
DTSTAMP:20260425T222900
CREATED:20240227T201608Z
LAST-MODIFIED:20240302T153125Z
UID:10003768-1720296000-1720306800@jfkicksrestaurant.com
SUMMARY:Dueling Pianos
DESCRIPTION:Always a blast and a crowd-pleaser\, Dueling Pianos featuring “That Piano Chick” Julie Legner and a special guest will be taking your song requests! Get here early as seats tend to fill up!
URL:https://jfkicksrestaurant.com/event/dueling-pianos-2-2/2024-07-06/
LOCATION:Inside Main Stage
CATEGORIES:Music
ATTACH;FMTTYPE=image/jpeg:https://jfkicksrestaurant.com/wp-content/uploads/2024/02/dueling-pianos.jpg
END:VEVENT
BEGIN:VEVENT
DTSTART;TZID=America/New_York:20240706T180000
DTEND;TZID=America/New_York:20240706T220000
DTSTAMP:20260425T222900
CREATED:20240702T121220Z
LAST-MODIFIED:20240706T060208Z
UID:10005441-1720288800-1720303200@jfkicksrestaurant.com
SUMMARY:DJ Vic
DESCRIPTION:DJ Vic plays all your favorites. \n 
URL:https://jfkicksrestaurant.com/event/dj-vic-2/
LOCATION:Outdoor Covered Patio Stage
CATEGORIES:Music
ATTACH;FMTTYPE=image/png:https://jfkicksrestaurant.com/wp-content/uploads/2023/11/JF-Kicks-Round-Brick-Logo-20_web.png
END:VEVENT
BEGIN:VEVENT
DTSTART;TZID=America/New_York:20240705T210000
DTEND;TZID=America/New_York:20240706T010000
DTSTAMP:20260425T222900
CREATED:20240115T131113Z
LAST-MODIFIED:20250108T221319Z
UID:10002909-1720213200-1720227600@jfkicksrestaurant.com
SUMMARY:Karaoke
DESCRIPTION:Join us for Karaoke with Johnny Q inside from 9pm to 1am every Friday night!
URL:https://jfkicksrestaurant.com/event/karaoke-2/2024-07-05/
LOCATION:Inside Main Stage
CATEGORIES:Music
ATTACH;FMTTYPE=image/jpeg:https://jfkicksrestaurant.com/wp-content/uploads/2024/01/Karaoke-Fridays.jpg
END:VEVENT
BEGIN:VEVENT
DTSTART;TZID=America/New_York:20240705T200000
DTEND;TZID=America/New_York:20240705T235900
DTSTAMP:20260425T222900
CREATED:20240118T022620Z
LAST-MODIFIED:20240930T151606Z
UID:10003855-1720209600-1720223940@jfkicksrestaurant.com
SUMMARY:Gene Cannon
DESCRIPTION:Instrumentalist and vocalist Gene Cannon provides the perfect musical accompaniment to your Friday evening from 8pm until midnight on the patio!
URL:https://jfkicksrestaurant.com/event/gene-cannon/2024-07-05/
LOCATION:Outdoor Covered Patio Stage
CATEGORIES:Music
ATTACH;FMTTYPE=image/jpeg:https://jfkicksrestaurant.com/wp-content/uploads/2024/01/Gene-Cannon.jpeg
END:VEVENT
BEGIN:VEVENT
DTSTART;TZID=America/New_York:20240704T200000
DTEND;TZID=America/New_York:20240704T235900
DTSTAMP:20260425T222900
CREATED:20240701T151953Z
LAST-MODIFIED:20240702T121349Z
UID:10005439-1720123200-1720137540@jfkicksrestaurant.com
SUMMARY:American Classics Themed Open Mic with Mike & Sebastian
DESCRIPTION:A special American Classics Themed Open Mic with Mike & Sebastian this July 4th! Always a great crowd plus food and drink specials to celebrate the 4th.
URL:https://jfkicksrestaurant.com/event/american-classics-themed-open-mic-with-mike-sebastian/
CATEGORIES:Music,Performance
ATTACH;FMTTYPE=image/jpeg:https://jfkicksrestaurant.com/wp-content/uploads/2024/07/JF-Kicks-4th-of-July-2024.jpg
END:VEVENT
BEGIN:VEVENT
DTSTART;VALUE=DATE:20240704
DTEND;VALUE=DATE:20240706
DTSTAMP:20260425T222900
CREATED:20240701T152303Z
LAST-MODIFIED:20240702T121421Z
UID:10005440-1720058400-1720144799@jfkicksrestaurant.com
SUMMARY:July 4th at JF Kicks
DESCRIPTION:American Classics Themed Open Mic with Mike & Sebastian 8pm-12am \n~ Specials on Hot Dogs\, Burgers\, Ribs\, and Pulled Pork Sliders \n~ Domestic Buckets for $17.76 \n~ Red\, White & Blue Shooters aka BombPops & Jello Shots
URL:https://jfkicksrestaurant.com/event/july-4th-at-jf-kicks/
CATEGORIES:Community,Drinks,Food,Music
ATTACH;FMTTYPE=image/jpeg:https://jfkicksrestaurant.com/wp-content/uploads/2024/07/JF-Kicks-4th-of-July-2024.jpg
END:VEVENT
BEGIN:VEVENT
DTSTART;TZID=America/New_York:20240702T200000
DTEND;TZID=America/New_York:20240702T230000
DTSTAMP:20260425T222900
CREATED:20240115T042441Z
LAST-MODIFIED:20240212T142417Z
UID:10001341-1719950400-1719961200@jfkicksrestaurant.com
SUMMARY:Karaoke Tuesdays
DESCRIPTION:Bill Knowles hosts Karaoke on Tuesdays from 8pm-11pm!
URL:https://jfkicksrestaurant.com/event/karaoke-tuesdays/2024-07-02/
LOCATION:Inside Main Stage
CATEGORIES:Music
ATTACH;FMTTYPE=image/jpeg:https://jfkicksrestaurant.com/wp-content/uploads/2024/01/Karaoke-Tuesdays.jpg
END:VEVENT
BEGIN:VEVENT
DTSTART;TZID=America/New_York:20240630T120000
DTEND;TZID=America/New_York:20240630T160000
DTSTAMP:20260425T222900
CREATED:20240530T143040Z
LAST-MODIFIED:20240530T143040Z
UID:10005391-1719748800-1719763200@jfkicksrestaurant.com
SUMMARY:Edwin Rodriguez
DESCRIPTION:Acoustic musician Edwin “Bigfish” Rodriguez returns to the JF Kicks Patio Stage!
URL:https://jfkicksrestaurant.com/event/edwin-rodriguez/
LOCATION:Outdoor Covered Patio Stage
CATEGORIES:Music
ATTACH;FMTTYPE=image/jpeg:https://jfkicksrestaurant.com/wp-content/uploads/2024/05/Edwin-Rodriguez.jpeg
END:VEVENT
BEGIN:VEVENT
DTSTART;TZID=America/New_York:20240629T200000
DTEND;TZID=America/New_York:20240629T235900
DTSTAMP:20260425T222900
CREATED:20240530T142357Z
LAST-MODIFIED:20240530T142357Z
UID:10005390-1719691200-1719705540@jfkicksrestaurant.com
SUMMARY:Smokepoint
DESCRIPTION:Smokepoint plays classic rock\, modern rock\, and original rock. Get ready to sing and dance along to songs like Livin’ on a Prayer\, Don’t Stop Believin’\, and You Shook Me All Night Long. Hum along\, tap your feet\, or dance to the original songs and rock classics – they make it easy to have a good time!
URL:https://jfkicksrestaurant.com/event/smokepoint/
LOCATION:Inside Main Stage
CATEGORIES:Music
ATTACH;FMTTYPE=image/jpeg:https://jfkicksrestaurant.com/wp-content/uploads/2024/05/Smokepoint.jpeg
END:VEVENT
BEGIN:VEVENT
DTSTART;TZID=America/New_York:20240629T190000
DTEND;TZID=America/New_York:20240629T230000
DTSTAMP:20260425T222900
CREATED:20240625T151258Z
LAST-MODIFIED:20240629T122850Z
UID:10005410-1719687600-1719702000@jfkicksrestaurant.com
SUMMARY:The Eric Will & Tom Kelly Duo
DESCRIPTION:The Eric Will & Tom Kelly Duo plays the Kicks Patio. Join us for a night of great music!
URL:https://jfkicksrestaurant.com/event/the-eric-will-tom-kelly-duo/
LOCATION:Outdoor Covered Patio Stage
CATEGORIES:Music
ATTACH;FMTTYPE=image/jpeg:https://jfkicksrestaurant.com/wp-content/uploads/2024/06/Eric-Will-Tom-Kelly-Duo.jpg
END:VEVENT
BEGIN:VEVENT
DTSTART;TZID=America/New_York:20240628T210000
DTEND;TZID=America/New_York:20240629T010000
DTSTAMP:20260425T222900
CREATED:20240115T131113Z
LAST-MODIFIED:20250108T221319Z
UID:10002908-1719608400-1719622800@jfkicksrestaurant.com
SUMMARY:Karaoke
DESCRIPTION:Join us for Karaoke with Johnny Q inside from 9pm to 1am every Friday night!
URL:https://jfkicksrestaurant.com/event/karaoke-2/2024-06-28/
LOCATION:Inside Main Stage
CATEGORIES:Music
ATTACH;FMTTYPE=image/jpeg:https://jfkicksrestaurant.com/wp-content/uploads/2024/01/Karaoke-Fridays.jpg
END:VEVENT
BEGIN:VEVENT
DTSTART;TZID=America/New_York:20240628T200000
DTEND;TZID=America/New_York:20240628T235900
DTSTAMP:20260425T222900
CREATED:20240530T141204Z
LAST-MODIFIED:20240530T141204Z
UID:10005389-1719604800-1719619140@jfkicksrestaurant.com
SUMMARY:Josh Austin
DESCRIPTION:Born and raised in Dallas\, Texas\, acoustic musician Josh Austin now calls Tampa home. Come enjoy a taste of his music on the JF Kicks stage.
URL:https://jfkicksrestaurant.com/event/josh-austin/
LOCATION:Outdoor Covered Patio Stage
CATEGORIES:Music
ATTACH;FMTTYPE=image/jpeg:https://jfkicksrestaurant.com/wp-content/uploads/2024/05/Josh-Austin.jpeg
END:VEVENT
BEGIN:VEVENT
DTSTART;TZID=America/New_York:20240627T200000
DTEND;TZID=America/New_York:20240627T235900
DTSTAMP:20260425T222900
CREATED:20240320T134004Z
LAST-MODIFIED:20241104T122159Z
UID:10004766-1719518400-1719532740@jfkicksrestaurant.com
SUMMARY:Open Mic
DESCRIPTION:Thursday Night Open Mic on the inside stage is open to musicians and Karaoke singers alike! Come audition during Open Mic for the possibility of getting booked by the owner.
URL:https://jfkicksrestaurant.com/event/open-mic-2/2024-06-27/
CATEGORIES:Music
ATTACH;FMTTYPE=image/jpeg:https://jfkicksrestaurant.com/wp-content/uploads/2024/01/Open-Mic-8-to-12-March-2024.jpeg
END:VEVENT
BEGIN:VEVENT
DTSTART;TZID=America/New_York:20240625T200000
DTEND;TZID=America/New_York:20240625T230000
DTSTAMP:20260425T222900
CREATED:20240115T042441Z
LAST-MODIFIED:20240212T142417Z
UID:10001340-1719345600-1719356400@jfkicksrestaurant.com
SUMMARY:Karaoke Tuesdays
DESCRIPTION:Bill Knowles hosts Karaoke on Tuesdays from 8pm-11pm!
URL:https://jfkicksrestaurant.com/event/karaoke-tuesdays/2024-06-25/
LOCATION:Inside Main Stage
CATEGORIES:Music
ATTACH;FMTTYPE=image/jpeg:https://jfkicksrestaurant.com/wp-content/uploads/2024/01/Karaoke-Tuesdays.jpg
END:VEVENT
BEGIN:VEVENT
DTSTART;TZID=America/New_York:20240623T120000
DTEND;TZID=America/New_York:20240623T160000
DTSTAMP:20260425T222900
CREATED:20240530T135725Z
LAST-MODIFIED:20240530T135725Z
UID:10005388-1719144000-1719158400@jfkicksrestaurant.com
SUMMARY:Gary Schutt Solo
DESCRIPTION:Songwriter\, multi-instrumentalist\, producer\, video visionary/director\, touring sideman\, studio session man\, band leader\, gun for hire – Gary Schutt solos on the JF Kicks Patio. Join us for some great music!
URL:https://jfkicksrestaurant.com/event/gary-schutt-solo-2/
LOCATION:Outdoor Covered Patio Stage
CATEGORIES:Music
ATTACH;FMTTYPE=image/jpeg:https://jfkicksrestaurant.com/wp-content/uploads/2024/05/Gary-Schutt.jpeg
END:VEVENT
BEGIN:VEVENT
DTSTART;TZID=America/New_York:20240622T200000
DTEND;TZID=America/New_York:20240622T235900
DTSTAMP:20260425T222900
CREATED:20240530T134456Z
LAST-MODIFIED:20240530T134603Z
UID:10005386-1719086400-1719100740@jfkicksrestaurant.com
SUMMARY:The Southern Creek Band
DESCRIPTION:Come dance along to The Southern Creek Band\, a Tampa-based cover band playing classic country\, classic rock\, and other pop hits. Get ready to enjoy all the danceable songs you love!
URL:https://jfkicksrestaurant.com/event/the-southern-creek-band/
LOCATION:Outdoor Covered Patio Stage
CATEGORIES:Music
ATTACH;FMTTYPE=image/jpeg:https://jfkicksrestaurant.com/wp-content/uploads/2024/05/The-Southern-Creek-Band.jpg
END:VEVENT
BEGIN:VEVENT
DTSTART;TZID=America/New_York:20240622T130000
DTEND;TZID=America/New_York:20240622T170000
DTSTAMP:20260425T222900
CREATED:20240424T135110Z
LAST-MODIFIED:20240614T140838Z
UID:10005294-1719061200-1719075600@jfkicksrestaurant.com
SUMMARY:CANCELED - Rock Out Pediatric Cancer Lip Sync Battle
DESCRIPTION:This event has been canceled. \n  \nCome join us for a night of fun and fundraising! Show off your lip-syncing skills and help us raise money to fight pediatric cancer. Whether you’re a seasoned performer or just looking to have a good time\, this event is for you. Grab your friends\, pick your favorite song\, and get ready to rock the stage. \nLet’s come together to make a difference and support a great cause. See you there! \nSign up at our Eventbrite page here.
URL:https://jfkicksrestaurant.com/event/rock-out-pediatric-cancer-lip-sync-battle/
CATEGORIES:Community,Fundraising,Music
ATTACH;FMTTYPE=image/jpeg:https://jfkicksrestaurant.com/wp-content/uploads/2024/04/Lip-Sync-Battle-June-2024.jpeg
END:VEVENT
BEGIN:VEVENT
DTSTART;TZID=America/New_York:20240621T210000
DTEND;TZID=America/New_York:20240622T010000
DTSTAMP:20260425T222900
CREATED:20240115T131113Z
LAST-MODIFIED:20250108T221319Z
UID:10002907-1719003600-1719018000@jfkicksrestaurant.com
SUMMARY:Karaoke
DESCRIPTION:Join us for Karaoke with Johnny Q inside from 9pm to 1am every Friday night!
URL:https://jfkicksrestaurant.com/event/karaoke-2/2024-06-21/
LOCATION:Inside Main Stage
CATEGORIES:Music
ATTACH;FMTTYPE=image/jpeg:https://jfkicksrestaurant.com/wp-content/uploads/2024/01/Karaoke-Fridays.jpg
END:VEVENT
BEGIN:VEVENT
DTSTART;TZID=America/New_York:20240621T190000
DTEND;TZID=America/New_York:20240621T230000
DTSTAMP:20260425T222900
CREATED:20240307T032934Z
LAST-MODIFIED:20240701T131341Z
UID:10003914-1718996400-1719010800@jfkicksrestaurant.com
SUMMARY:3-Dom Band
DESCRIPTION:3-Dom Band brings “The Best Music Ever” to the JF Kicks Patio Friday night 7-11pm!
URL:https://jfkicksrestaurant.com/event/3-dom-band-2/2024-06-21/
LOCATION:Outdoor Covered Patio Stage
CATEGORIES:Music
ATTACH;FMTTYPE=image/png:https://jfkicksrestaurant.com/wp-content/uploads/2024/01/3-Dom-Band.png
END:VEVENT
BEGIN:VEVENT
DTSTART;TZID=America/New_York:20240620T200000
DTEND;TZID=America/New_York:20240620T235900
DTSTAMP:20260425T222900
CREATED:20240320T134004Z
LAST-MODIFIED:20241104T122159Z
UID:10004765-1718913600-1718927940@jfkicksrestaurant.com
SUMMARY:Open Mic
DESCRIPTION:Thursday Night Open Mic on the inside stage is open to musicians and Karaoke singers alike! Come audition during Open Mic for the possibility of getting booked by the owner.
URL:https://jfkicksrestaurant.com/event/open-mic-2/2024-06-20/
CATEGORIES:Music
ATTACH;FMTTYPE=image/jpeg:https://jfkicksrestaurant.com/wp-content/uploads/2024/01/Open-Mic-8-to-12-March-2024.jpeg
END:VEVENT
BEGIN:VEVENT
DTSTART;TZID=America/New_York:20240618T200000
DTEND;TZID=America/New_York:20240618T230000
DTSTAMP:20260425T222900
CREATED:20240115T042441Z
LAST-MODIFIED:20240212T142417Z
UID:10001339-1718740800-1718751600@jfkicksrestaurant.com
SUMMARY:Karaoke Tuesdays
DESCRIPTION:Bill Knowles hosts Karaoke on Tuesdays from 8pm-11pm!
URL:https://jfkicksrestaurant.com/event/karaoke-tuesdays/2024-06-18/
LOCATION:Inside Main Stage
CATEGORIES:Music
ATTACH;FMTTYPE=image/jpeg:https://jfkicksrestaurant.com/wp-content/uploads/2024/01/Karaoke-Tuesdays.jpg
END:VEVENT
BEGIN:VEVENT
DTSTART;TZID=America/New_York:20240616T120000
DTEND;TZID=America/New_York:20240616T160000
DTSTAMP:20260425T222900
CREATED:20240614T141022Z
LAST-MODIFIED:20240614T141022Z
UID:10005393-1718539200-1718553600@jfkicksrestaurant.com
SUMMARY:Mike Arscott
DESCRIPTION:Mike Arscott of the Arscott Sessions plays the Kicks Patio! This Canadian-born Singer/Songwriter is a fan of the 80’s and 90’s\, but mixes it up to bring you some familiar favorites\, and songs you probably forgot about\, but loved back when.
URL:https://jfkicksrestaurant.com/event/mike-arscott-4/
LOCATION:Inside Main Stage
CATEGORIES:Music
ATTACH;FMTTYPE=image/jpeg:https://jfkicksrestaurant.com/wp-content/uploads/2024/03/Michael-Arscott-Arscott-Sessions.jpeg
END:VEVENT
BEGIN:VEVENT
DTSTART;TZID=America/New_York:20240615T200000
DTEND;TZID=America/New_York:20240615T235900
DTSTAMP:20260425T222900
CREATED:20240530T135455Z
LAST-MODIFIED:20240530T135455Z
UID:10005387-1718481600-1718495940@jfkicksrestaurant.com
SUMMARY:LatchKey District
DESCRIPTION:Join us for the Latchkey District\, a Gen-X rock and roll band playing a dynamic range of rock songs from the 1960s to the 2000s. With an emphasis on the distinctive sounds of the 1980s and 1990s\, LatchKey District captures the musical essence of these memorable decades.
URL:https://jfkicksrestaurant.com/event/latchkey-district/
LOCATION:Inside Main Stage
CATEGORIES:Music
ATTACH;FMTTYPE=image/jpeg:https://jfkicksrestaurant.com/wp-content/uploads/2024/05/Latchkey-District-scaled.jpeg
END:VEVENT
BEGIN:VEVENT
DTSTART;TZID=America/New_York:20240614T210000
DTEND;TZID=America/New_York:20240615T010000
DTSTAMP:20260425T222900
CREATED:20240115T131113Z
LAST-MODIFIED:20250108T221319Z
UID:10002906-1718398800-1718413200@jfkicksrestaurant.com
SUMMARY:Karaoke
DESCRIPTION:Join us for Karaoke with Johnny Q inside from 9pm to 1am every Friday night!
URL:https://jfkicksrestaurant.com/event/karaoke-2/2024-06-14/
LOCATION:Inside Main Stage
CATEGORIES:Music
ATTACH;FMTTYPE=image/jpeg:https://jfkicksrestaurant.com/wp-content/uploads/2024/01/Karaoke-Fridays.jpg
END:VEVENT
BEGIN:VEVENT
DTSTART;TZID=America/New_York:20240614T190000
DTEND;TZID=America/New_York:20240614T230000
DTSTAMP:20260425T222900
CREATED:20240609T115350Z
LAST-MODIFIED:20240609T115351Z
UID:10005392-1718391600-1718406000@jfkicksrestaurant.com
SUMMARY:James McElroy
DESCRIPTION:James McElroy plays the Kicks Patio!
URL:https://jfkicksrestaurant.com/event/james-mcelroy/
LOCATION:Outdoor Covered Patio Stage
CATEGORIES:Music
ATTACH;FMTTYPE=image/png:https://jfkicksrestaurant.com/wp-content/uploads/2023/11/JF-Kicks-Round-Brick-Logo-20_web.png
END:VEVENT
END:VCALENDAR