BEGIN:VCALENDAR
VERSION:2.0
PRODID:-//JF Kicks Restaurant - ECPv6.15.18//NONSGML v1.0//EN
CALSCALE:GREGORIAN
METHOD:PUBLISH
X-WR-CALNAME:JF Kicks Restaurant
X-ORIGINAL-URL:https://jfkicksrestaurant.com
X-WR-CALDESC:Events for JF Kicks Restaurant
REFRESH-INTERVAL;VALUE=DURATION:PT1H
X-Robots-Tag:noindex
X-PUBLISHED-TTL:PT1H
BEGIN:VTIMEZONE
TZID:America/New_York
BEGIN:DAYLIGHT
TZOFFSETFROM:-0500
TZOFFSETTO:-0400
TZNAME:EDT
DTSTART:20230312T070000
END:DAYLIGHT
BEGIN:STANDARD
TZOFFSETFROM:-0400
TZOFFSETTO:-0500
TZNAME:EST
DTSTART:20231105T060000
END:STANDARD
BEGIN:DAYLIGHT
TZOFFSETFROM:-0500
TZOFFSETTO:-0400
TZNAME:EDT
DTSTART:20240310T070000
END:DAYLIGHT
BEGIN:STANDARD
TZOFFSETFROM:-0400
TZOFFSETTO:-0500
TZNAME:EST
DTSTART:20241103T060000
END:STANDARD
BEGIN:DAYLIGHT
TZOFFSETFROM:-0500
TZOFFSETTO:-0400
TZNAME:EDT
DTSTART:20250309T070000
END:DAYLIGHT
BEGIN:STANDARD
TZOFFSETFROM:-0400
TZOFFSETTO:-0500
TZNAME:EST
DTSTART:20251102T060000
END:STANDARD
END:VTIMEZONE
BEGIN:VEVENT
DTSTART;TZID=America/New_York:20240803T200000
DTEND;TZID=America/New_York:20240803T230000
DTSTAMP:20260425T211157
CREATED:20240227T201608Z
LAST-MODIFIED:20240302T153125Z
UID:10003772-1722715200-1722726000@jfkicksrestaurant.com
SUMMARY:Dueling Pianos
DESCRIPTION:Always a blast and a crowd-pleaser\, Dueling Pianos featuring “That Piano Chick” Julie Legner and a special guest will be taking your song requests! Get here early as seats tend to fill up!
URL:https://jfkicksrestaurant.com/event/dueling-pianos-2-2/2024-08-03/
LOCATION:Inside Main Stage
CATEGORIES:Music
ATTACH;FMTTYPE=image/jpeg:https://jfkicksrestaurant.com/wp-content/uploads/2024/02/dueling-pianos.jpg
END:VEVENT
BEGIN:VEVENT
DTSTART;TZID=America/New_York:20240802T210000
DTEND;TZID=America/New_York:20240803T010000
DTSTAMP:20260425T211157
CREATED:20240115T131113Z
LAST-MODIFIED:20250108T221319Z
UID:10002913-1722632400-1722646800@jfkicksrestaurant.com
SUMMARY:Karaoke
DESCRIPTION:Join us for Karaoke with Johnny Q inside from 9pm to 1am every Friday night!
URL:https://jfkicksrestaurant.com/event/karaoke-2/2024-08-02/
LOCATION:Inside Main Stage
CATEGORIES:Music
ATTACH;FMTTYPE=image/jpeg:https://jfkicksrestaurant.com/wp-content/uploads/2024/01/Karaoke-Fridays.jpg
END:VEVENT
BEGIN:VEVENT
DTSTART;TZID=America/New_York:20240802T190000
DTEND;TZID=America/New_York:20240802T230000
DTSTAMP:20260425T211157
CREATED:20240722T135633Z
LAST-MODIFIED:20240722T135633Z
UID:10005447-1722625200-1722639600@jfkicksrestaurant.com
SUMMARY:Brandon Calloway - The Whiskey Renegade
DESCRIPTION:Brandon Calloway aka The Whiskey Renegade brings outlaw country music to the Kicks Patio!
URL:https://jfkicksrestaurant.com/event/brandon-calloway-the-whiskey-renegade/
LOCATION:Outdoor Covered Patio Stage
CATEGORIES:Music
ATTACH;FMTTYPE=image/jpeg:https://jfkicksrestaurant.com/wp-content/uploads/2024/07/Brandon-Calloway.jpg
END:VEVENT
BEGIN:VEVENT
DTSTART;TZID=America/New_York:20240801T200000
DTEND;TZID=America/New_York:20240801T235900
DTSTAMP:20260425T211157
CREATED:20240320T134004Z
LAST-MODIFIED:20241104T122159Z
UID:10004771-1722542400-1722556740@jfkicksrestaurant.com
SUMMARY:Open Mic
DESCRIPTION:Thursday Night Open Mic on the inside stage is open to musicians and Karaoke singers alike! Come audition during Open Mic for the possibility of getting booked by the owner.
URL:https://jfkicksrestaurant.com/event/open-mic-2/2024-08-01/
CATEGORIES:Music
ATTACH;FMTTYPE=image/jpeg:https://jfkicksrestaurant.com/wp-content/uploads/2024/01/Open-Mic-8-to-12-March-2024.jpeg
END:VEVENT
BEGIN:VEVENT
DTSTART;TZID=America/New_York:20240730T200000
DTEND;TZID=America/New_York:20240730T230000
DTSTAMP:20260425T211157
CREATED:20240115T042441Z
LAST-MODIFIED:20240212T142417Z
UID:10001345-1722369600-1722380400@jfkicksrestaurant.com
SUMMARY:Karaoke Tuesdays
DESCRIPTION:Bill Knowles hosts Karaoke on Tuesdays from 8pm-11pm!
URL:https://jfkicksrestaurant.com/event/karaoke-tuesdays/2024-07-30/
LOCATION:Inside Main Stage
CATEGORIES:Music
ATTACH;FMTTYPE=image/jpeg:https://jfkicksrestaurant.com/wp-content/uploads/2024/01/Karaoke-Tuesdays.jpg
END:VEVENT
BEGIN:VEVENT
DTSTART;TZID=America/New_York:20240728T120000
DTEND;TZID=America/New_York:20240728T160000
DTSTAMP:20260425T211157
CREATED:20240701T132219Z
LAST-MODIFIED:20240701T132219Z
UID:10005423-1722168000-1722182400@jfkicksrestaurant.com
SUMMARY:Patrick Foy
DESCRIPTION:Join us for live music from Patrick Foy on the patio!
URL:https://jfkicksrestaurant.com/event/patrick-foy-2/
LOCATION:Outdoor Covered Patio Stage
CATEGORIES:Music
ATTACH;FMTTYPE=image/jpeg:https://jfkicksrestaurant.com/wp-content/uploads/2024/05/Patrick-Foy.jpeg
END:VEVENT
BEGIN:VEVENT
DTSTART;TZID=America/New_York:20240727T200000
DTEND;TZID=America/New_York:20240727T235900
DTSTAMP:20260425T211157
CREATED:20240701T130438Z
LAST-MODIFIED:20240701T130438Z
UID:10005415-1722110400-1722124740@jfkicksrestaurant.com
SUMMARY:Smokepoint
DESCRIPTION:Smokepoint plays classic rock\, modern rock\, and original rock. Get ready to sing and dance along to songs like Livin’ on a Prayer\, Don’t Stop Believin’\, and You Shook Me All Night Long. Hum along\, tap your feet\, or dance to the original songs and rock classics – they make it easy to have a good time!
URL:https://jfkicksrestaurant.com/event/smokepoint-2/
CATEGORIES:Music
ATTACH;FMTTYPE=image/jpeg:https://jfkicksrestaurant.com/wp-content/uploads/2024/05/Smokepoint.jpeg
END:VEVENT
BEGIN:VEVENT
DTSTART;TZID=America/New_York:20240726T210000
DTEND;TZID=America/New_York:20240727T010000
DTSTAMP:20260425T211157
CREATED:20240115T131113Z
LAST-MODIFIED:20250108T221319Z
UID:10002912-1722027600-1722042000@jfkicksrestaurant.com
SUMMARY:Karaoke
DESCRIPTION:Join us for Karaoke with Johnny Q inside from 9pm to 1am every Friday night!
URL:https://jfkicksrestaurant.com/event/karaoke-2/2024-07-26/
LOCATION:Inside Main Stage
CATEGORIES:Music
ATTACH;FMTTYPE=image/jpeg:https://jfkicksrestaurant.com/wp-content/uploads/2024/01/Karaoke-Fridays.jpg
END:VEVENT
BEGIN:VEVENT
DTSTART;TZID=America/New_York:20240726T190000
DTEND;TZID=America/New_York:20240726T230000
DTSTAMP:20260425T211157
CREATED:20240722T132048Z
LAST-MODIFIED:20240722T132048Z
UID:10005444-1722020400-1722034800@jfkicksrestaurant.com
SUMMARY:Micah Shane
DESCRIPTION:Micah Shane plays the Kicks Patio Friday night!
URL:https://jfkicksrestaurant.com/event/micah-shane/
LOCATION:Outdoor Covered Patio Stage
CATEGORIES:Music
ATTACH;FMTTYPE=image/jpeg:https://jfkicksrestaurant.com/wp-content/uploads/2024/07/Micah-Shane.jpg
END:VEVENT
BEGIN:VEVENT
DTSTART;TZID=America/New_York:20240725T200000
DTEND;TZID=America/New_York:20240725T235900
DTSTAMP:20260425T211157
CREATED:20240320T134004Z
LAST-MODIFIED:20241104T122159Z
UID:10004770-1721937600-1721951940@jfkicksrestaurant.com
SUMMARY:Open Mic
DESCRIPTION:Thursday Night Open Mic on the inside stage is open to musicians and Karaoke singers alike! Come audition during Open Mic for the possibility of getting booked by the owner.
URL:https://jfkicksrestaurant.com/event/open-mic-2/2024-07-25/
CATEGORIES:Music
ATTACH;FMTTYPE=image/jpeg:https://jfkicksrestaurant.com/wp-content/uploads/2024/01/Open-Mic-8-to-12-March-2024.jpeg
END:VEVENT
BEGIN:VEVENT
DTSTART;TZID=America/New_York:20240723T200000
DTEND;TZID=America/New_York:20240723T230000
DTSTAMP:20260425T211157
CREATED:20240115T042441Z
LAST-MODIFIED:20240212T142417Z
UID:10001344-1721764800-1721775600@jfkicksrestaurant.com
SUMMARY:Karaoke Tuesdays
DESCRIPTION:Bill Knowles hosts Karaoke on Tuesdays from 8pm-11pm!
URL:https://jfkicksrestaurant.com/event/karaoke-tuesdays/2024-07-23/
LOCATION:Inside Main Stage
CATEGORIES:Music
ATTACH;FMTTYPE=image/jpeg:https://jfkicksrestaurant.com/wp-content/uploads/2024/01/Karaoke-Tuesdays.jpg
END:VEVENT
BEGIN:VEVENT
DTSTART;TZID=America/New_York:20240721T130000
DTEND;TZID=America/New_York:20240721T170000
DTSTAMP:20260425T211157
CREATED:20240701T131955Z
LAST-MODIFIED:20240701T132044Z
UID:10005422-1721566800-1721581200@jfkicksrestaurant.com
SUMMARY:Dakota Gagliano
DESCRIPTION:The talented Dakota Gagliano from Swipe Right performs at JF Kicks!
URL:https://jfkicksrestaurant.com/event/dakota-gagliano/
LOCATION:Outdoor Covered Patio Stage
CATEGORIES:Music
ATTACH;FMTTYPE=image/jpeg:https://jfkicksrestaurant.com/wp-content/uploads/2024/07/Dakota-Gagliano.jpg
END:VEVENT
BEGIN:VEVENT
DTSTART;TZID=America/New_York:20240720T200000
DTEND;TZID=America/New_York:20240720T235900
DTSTAMP:20260425T211157
CREATED:20240701T130248Z
LAST-MODIFIED:20240701T130248Z
UID:10005414-1721505600-1721519940@jfkicksrestaurant.com
SUMMARY:SMAKK
DESCRIPTION:Rock to Funk\, Blues to Punk. SMAKK plays JF Kicks!
URL:https://jfkicksrestaurant.com/event/smakk-3/
CATEGORIES:Music
ATTACH;FMTTYPE=image/jpeg:https://jfkicksrestaurant.com/wp-content/uploads/2024/01/SMAKK.jpeg
END:VEVENT
BEGIN:VEVENT
DTSTART;TZID=America/New_York:20240719T210000
DTEND;TZID=America/New_York:20240720T010000
DTSTAMP:20260425T211157
CREATED:20240115T131113Z
LAST-MODIFIED:20250108T221319Z
UID:10002911-1721422800-1721437200@jfkicksrestaurant.com
SUMMARY:Karaoke
DESCRIPTION:Join us for Karaoke with Johnny Q inside from 9pm to 1am every Friday night!
URL:https://jfkicksrestaurant.com/event/karaoke-2/2024-07-19/
LOCATION:Inside Main Stage
CATEGORIES:Music
ATTACH;FMTTYPE=image/jpeg:https://jfkicksrestaurant.com/wp-content/uploads/2024/01/Karaoke-Fridays.jpg
END:VEVENT
BEGIN:VEVENT
DTSTART;TZID=America/New_York:20240719T190000
DTEND;TZID=America/New_York:20240719T230000
DTSTAMP:20260425T211157
CREATED:20240307T032934Z
LAST-MODIFIED:20240701T131341Z
UID:10005416-1721415600-1721430000@jfkicksrestaurant.com
SUMMARY:3-Dom Band
DESCRIPTION:3-Dom Band brings “The Best Music Ever” to the JF Kicks Patio Friday night 7-11pm!
URL:https://jfkicksrestaurant.com/event/3-dom-band-2/2024-07-19/
LOCATION:Outdoor Covered Patio Stage
CATEGORIES:Music
ATTACH;FMTTYPE=image/png:https://jfkicksrestaurant.com/wp-content/uploads/2024/01/3-Dom-Band.png
END:VEVENT
BEGIN:VEVENT
DTSTART;TZID=America/New_York:20240718T200000
DTEND;TZID=America/New_York:20240718T235900
DTSTAMP:20260425T211157
CREATED:20240320T134004Z
LAST-MODIFIED:20241104T122159Z
UID:10004769-1721332800-1721347140@jfkicksrestaurant.com
SUMMARY:Open Mic
DESCRIPTION:Thursday Night Open Mic on the inside stage is open to musicians and Karaoke singers alike! Come audition during Open Mic for the possibility of getting booked by the owner.
URL:https://jfkicksrestaurant.com/event/open-mic-2/2024-07-18/
CATEGORIES:Music
ATTACH;FMTTYPE=image/jpeg:https://jfkicksrestaurant.com/wp-content/uploads/2024/01/Open-Mic-8-to-12-March-2024.jpeg
END:VEVENT
BEGIN:VEVENT
DTSTART;TZID=America/New_York:20240716T200000
DTEND;TZID=America/New_York:20240716T230000
DTSTAMP:20260425T211157
CREATED:20240115T042441Z
LAST-MODIFIED:20240212T142417Z
UID:10001343-1721160000-1721170800@jfkicksrestaurant.com
SUMMARY:Karaoke Tuesdays
DESCRIPTION:Bill Knowles hosts Karaoke on Tuesdays from 8pm-11pm!
URL:https://jfkicksrestaurant.com/event/karaoke-tuesdays/2024-07-16/
LOCATION:Inside Main Stage
CATEGORIES:Music
ATTACH;FMTTYPE=image/jpeg:https://jfkicksrestaurant.com/wp-content/uploads/2024/01/Karaoke-Tuesdays.jpg
END:VEVENT
BEGIN:VEVENT
DTSTART;TZID=America/New_York:20240714T150000
DTEND;TZID=America/New_York:20240714T170000
DTSTAMP:20260425T211157
CREATED:20240625T150640Z
LAST-MODIFIED:20240625T150641Z
UID:10005409-1720969200-1720976400@jfkicksrestaurant.com
SUMMARY:Annual Rib Cookoff
DESCRIPTION:The JF Kicks Annual Rib Cookoff is July 14! Come check out the competition for Valrico’s best ribs! Plus we’ve got lots of fun in store… \n\n~ Bottomless Mimosas & Sangrias – 11am – 3pm~ Brunch Menu – 11am – 3pm~ The Wonder Twins – 12pm – 3pm play the Patio Stage \n\nRib Cookoff competition details:– Email entries to johnny@jfkicksrestaurant.com– Deadline: July 12– Include: Your name and phone number– Have your ribs ready and at JF Kicks by 3pm to start the tasting by 3:30pm– $25 buy-in to get a rack of ribs that will go towards prizes and to secure your spot
URL:https://jfkicksrestaurant.com/event/annual-rib-cookoff/
CATEGORIES:Community,Drinks,Food,Music
ATTACH;FMTTYPE=image/jpeg:https://jfkicksrestaurant.com/wp-content/uploads/2024/06/Rib-Cookoff-July-2024.jpeg
END:VEVENT
BEGIN:VEVENT
DTSTART;TZID=America/New_York:20240714T120000
DTEND;TZID=America/New_York:20240714T150000
DTSTAMP:20260425T211157
CREATED:20240626T134222Z
LAST-MODIFIED:20240626T134222Z
UID:10005413-1720958400-1720969200@jfkicksrestaurant.com
SUMMARY:The Wonder Twins
DESCRIPTION:Lots of fun to be had as The Wonder Twins return to JF Kicks!
URL:https://jfkicksrestaurant.com/event/the-wonder-twins/
CATEGORIES:Music
ATTACH;FMTTYPE=image/jpeg:https://jfkicksrestaurant.com/wp-content/uploads/2024/06/The-Wonder-Twins.jpg
END:VEVENT
BEGIN:VEVENT
DTSTART;TZID=America/New_York:20240713T200000
DTEND;TZID=America/New_York:20240713T235900
DTSTAMP:20260425T211157
CREATED:20240626T133559Z
LAST-MODIFIED:20240626T133559Z
UID:10005412-1720900800-1720915140@jfkicksrestaurant.com
SUMMARY:Buzz Factor
DESCRIPTION:Buzz Factor returns to JF Kicks!
URL:https://jfkicksrestaurant.com/event/buzz-factor-2/
LOCATION:Inside Main Stage
CATEGORIES:Music
ATTACH;FMTTYPE=image/png:https://jfkicksrestaurant.com/wp-content/uploads/2024/01/Buzz-Factor.png
END:VEVENT
BEGIN:VEVENT
DTSTART;TZID=America/New_York:20240712T210000
DTEND;TZID=America/New_York:20240713T010000
DTSTAMP:20260425T211157
CREATED:20240115T131113Z
LAST-MODIFIED:20250108T221319Z
UID:10002910-1720818000-1720832400@jfkicksrestaurant.com
SUMMARY:Karaoke
DESCRIPTION:Join us for Karaoke with Johnny Q inside from 9pm to 1am every Friday night!
URL:https://jfkicksrestaurant.com/event/karaoke-2/2024-07-12/
LOCATION:Inside Main Stage
CATEGORIES:Music
ATTACH;FMTTYPE=image/jpeg:https://jfkicksrestaurant.com/wp-content/uploads/2024/01/Karaoke-Fridays.jpg
END:VEVENT
BEGIN:VEVENT
DTSTART;TZID=America/New_York:20240712T190000
DTEND;TZID=America/New_York:20240712T230000
DTSTAMP:20260425T211157
CREATED:20240508T135002Z
LAST-MODIFIED:20240701T131028Z
UID:10005306-1720810800-1720825200@jfkicksrestaurant.com
SUMMARY:Skip & Nancy
DESCRIPTION:Skip & Nancy will be playing all your Classic R&R and blues favorites on the patio!
URL:https://jfkicksrestaurant.com/event/skip-nancy-2/
LOCATION:Outdoor Covered Patio Stage
CATEGORIES:Music
ATTACH;FMTTYPE=image/png:https://jfkicksrestaurant.com/wp-content/uploads/2024/02/Skip-Nancy.png
END:VEVENT
BEGIN:VEVENT
DTSTART;TZID=America/New_York:20240711T200000
DTEND;TZID=America/New_York:20240711T235900
DTSTAMP:20260425T211157
CREATED:20240320T134004Z
LAST-MODIFIED:20241104T122159Z
UID:10004768-1720728000-1720742340@jfkicksrestaurant.com
SUMMARY:Open Mic
DESCRIPTION:Thursday Night Open Mic on the inside stage is open to musicians and Karaoke singers alike! Come audition during Open Mic for the possibility of getting booked by the owner.
URL:https://jfkicksrestaurant.com/event/open-mic-2/2024-07-11/
CATEGORIES:Music
ATTACH;FMTTYPE=image/jpeg:https://jfkicksrestaurant.com/wp-content/uploads/2024/01/Open-Mic-8-to-12-March-2024.jpeg
END:VEVENT
BEGIN:VEVENT
DTSTART;TZID=America/New_York:20240709T200000
DTEND;TZID=America/New_York:20240709T230000
DTSTAMP:20260425T211157
CREATED:20240115T042441Z
LAST-MODIFIED:20240212T142417Z
UID:10001342-1720555200-1720566000@jfkicksrestaurant.com
SUMMARY:Karaoke Tuesdays
DESCRIPTION:Bill Knowles hosts Karaoke on Tuesdays from 8pm-11pm!
URL:https://jfkicksrestaurant.com/event/karaoke-tuesdays/2024-07-09/
LOCATION:Inside Main Stage
CATEGORIES:Music
ATTACH;FMTTYPE=image/jpeg:https://jfkicksrestaurant.com/wp-content/uploads/2024/01/Karaoke-Tuesdays.jpg
END:VEVENT
BEGIN:VEVENT
DTSTART;TZID=America/New_York:20240707T120000
DTEND;TZID=America/New_York:20240707T160000
DTSTAMP:20260425T211157
CREATED:20240626T133337Z
LAST-MODIFIED:20240626T133337Z
UID:10005411-1720353600-1720368000@jfkicksrestaurant.com
SUMMARY:Tommy Patrick
DESCRIPTION:The one and only Tommy Patrick plays the Kicks Patio!
URL:https://jfkicksrestaurant.com/event/tommy-patrick/
CATEGORIES:Music
ATTACH;FMTTYPE=image/jpeg:https://jfkicksrestaurant.com/wp-content/uploads/2024/06/Tommy-Patrick.jpg
END:VEVENT
BEGIN:VEVENT
DTSTART;TZID=America/New_York:20240706T200000
DTEND;TZID=America/New_York:20240706T230000
DTSTAMP:20260425T211157
CREATED:20240227T201608Z
LAST-MODIFIED:20240302T153125Z
UID:10003768-1720296000-1720306800@jfkicksrestaurant.com
SUMMARY:Dueling Pianos
DESCRIPTION:Always a blast and a crowd-pleaser\, Dueling Pianos featuring “That Piano Chick” Julie Legner and a special guest will be taking your song requests! Get here early as seats tend to fill up!
URL:https://jfkicksrestaurant.com/event/dueling-pianos-2-2/2024-07-06/
LOCATION:Inside Main Stage
CATEGORIES:Music
ATTACH;FMTTYPE=image/jpeg:https://jfkicksrestaurant.com/wp-content/uploads/2024/02/dueling-pianos.jpg
END:VEVENT
BEGIN:VEVENT
DTSTART;TZID=America/New_York:20240706T180000
DTEND;TZID=America/New_York:20240706T220000
DTSTAMP:20260425T211157
CREATED:20240702T121220Z
LAST-MODIFIED:20240706T060208Z
UID:10005441-1720288800-1720303200@jfkicksrestaurant.com
SUMMARY:DJ Vic
DESCRIPTION:DJ Vic plays all your favorites. \n 
URL:https://jfkicksrestaurant.com/event/dj-vic-2/
LOCATION:Outdoor Covered Patio Stage
CATEGORIES:Music
ATTACH;FMTTYPE=image/png:https://jfkicksrestaurant.com/wp-content/uploads/2023/11/JF-Kicks-Round-Brick-Logo-20_web.png
END:VEVENT
BEGIN:VEVENT
DTSTART;TZID=America/New_York:20240705T210000
DTEND;TZID=America/New_York:20240706T010000
DTSTAMP:20260425T211157
CREATED:20240115T131113Z
LAST-MODIFIED:20250108T221319Z
UID:10002909-1720213200-1720227600@jfkicksrestaurant.com
SUMMARY:Karaoke
DESCRIPTION:Join us for Karaoke with Johnny Q inside from 9pm to 1am every Friday night!
URL:https://jfkicksrestaurant.com/event/karaoke-2/2024-07-05/
LOCATION:Inside Main Stage
CATEGORIES:Music
ATTACH;FMTTYPE=image/jpeg:https://jfkicksrestaurant.com/wp-content/uploads/2024/01/Karaoke-Fridays.jpg
END:VEVENT
BEGIN:VEVENT
DTSTART;TZID=America/New_York:20240705T200000
DTEND;TZID=America/New_York:20240705T235900
DTSTAMP:20260425T211157
CREATED:20240118T022620Z
LAST-MODIFIED:20240930T151606Z
UID:10003855-1720209600-1720223940@jfkicksrestaurant.com
SUMMARY:Gene Cannon
DESCRIPTION:Instrumentalist and vocalist Gene Cannon provides the perfect musical accompaniment to your Friday evening from 8pm until midnight on the patio!
URL:https://jfkicksrestaurant.com/event/gene-cannon/2024-07-05/
LOCATION:Outdoor Covered Patio Stage
CATEGORIES:Music
ATTACH;FMTTYPE=image/jpeg:https://jfkicksrestaurant.com/wp-content/uploads/2024/01/Gene-Cannon.jpeg
END:VEVENT
BEGIN:VEVENT
DTSTART;TZID=America/New_York:20240704T200000
DTEND;TZID=America/New_York:20240704T235900
DTSTAMP:20260425T211157
CREATED:20240701T151953Z
LAST-MODIFIED:20240702T121349Z
UID:10005439-1720123200-1720137540@jfkicksrestaurant.com
SUMMARY:American Classics Themed Open Mic with Mike & Sebastian
DESCRIPTION:A special American Classics Themed Open Mic with Mike & Sebastian this July 4th! Always a great crowd plus food and drink specials to celebrate the 4th.
URL:https://jfkicksrestaurant.com/event/american-classics-themed-open-mic-with-mike-sebastian/
CATEGORIES:Music,Performance
ATTACH;FMTTYPE=image/jpeg:https://jfkicksrestaurant.com/wp-content/uploads/2024/07/JF-Kicks-4th-of-July-2024.jpg
END:VEVENT
END:VCALENDAR