BEGIN:VCALENDAR
VERSION:2.0
PRODID:-//JF Kicks Restaurant - ECPv6.15.18//NONSGML v1.0//EN
CALSCALE:GREGORIAN
METHOD:PUBLISH
X-ORIGINAL-URL:https://jfkicksrestaurant.com
X-WR-CALDESC:Events for JF Kicks Restaurant
REFRESH-INTERVAL;VALUE=DURATION:PT1H
X-Robots-Tag:noindex
X-PUBLISHED-TTL:PT1H
BEGIN:VTIMEZONE
TZID:America/New_York
BEGIN:DAYLIGHT
TZOFFSETFROM:-0500
TZOFFSETTO:-0400
TZNAME:EDT
DTSTART:20230312T070000
END:DAYLIGHT
BEGIN:STANDARD
TZOFFSETFROM:-0400
TZOFFSETTO:-0500
TZNAME:EST
DTSTART:20231105T060000
END:STANDARD
BEGIN:DAYLIGHT
TZOFFSETFROM:-0500
TZOFFSETTO:-0400
TZNAME:EDT
DTSTART:20240310T070000
END:DAYLIGHT
BEGIN:STANDARD
TZOFFSETFROM:-0400
TZOFFSETTO:-0500
TZNAME:EST
DTSTART:20241103T060000
END:STANDARD
BEGIN:DAYLIGHT
TZOFFSETFROM:-0500
TZOFFSETTO:-0400
TZNAME:EDT
DTSTART:20250309T070000
END:DAYLIGHT
BEGIN:STANDARD
TZOFFSETFROM:-0400
TZOFFSETTO:-0500
TZNAME:EST
DTSTART:20251102T060000
END:STANDARD
END:VTIMEZONE
BEGIN:VEVENT
DTSTART;TZID=America/New_York:20240824T200000
DTEND;TZID=America/New_York:20240824T235900
DTSTAMP:20260425T195933
CREATED:20240724T121507Z
LAST-MODIFIED:20240724T121507Z
UID:10005454-1724529600-1724543940@jfkicksrestaurant.com
SUMMARY:Jaded
DESCRIPTION:Check out Jaded on the inside stage! Jaded’s music includes a ton of variety\, something for everyone! Featuring Journey\, Bon Jovi\, Foreigner\, Eddie Money\, Beastie Boys\, and much more!
URL:https://jfkicksrestaurant.com/event/jaded-2/
LOCATION:Inside Main Stage
CATEGORIES:Music
ATTACH;FMTTYPE=image/jpeg:https://jfkicksrestaurant.com/wp-content/uploads/2024/01/Jaded.jpeg
END:VEVENT
BEGIN:VEVENT
DTSTART;TZID=America/New_York:20240824T130000
DTEND;TZID=America/New_York:20240824T160000
DTSTAMP:20260425T195933
CREATED:20240715T173020Z
LAST-MODIFIED:20240715T173020Z
UID:10005442-1724504400-1724515200@jfkicksrestaurant.com
SUMMARY:Sips for Shelter Wine Tasting
DESCRIPTION:Come taste great local and international wines while supporting local charity A1 Opportunities and their mission to cure homelessness. Purchase tickets here.\n\n Wine Tasting of Local & International Wines Live music from Gene Cannon Magician Patrick Francis Silent Auction & 50/50 Raffle
URL:https://jfkicksrestaurant.com/event/sips-for-shelter-wine-tasting/
CATEGORIES:Community,Drinks,Food,Fundraising,Music,Performance
ATTACH;FMTTYPE=image/jpeg:https://jfkicksrestaurant.com/wp-content/uploads/2024/07/Sips-for-Shelter-August-2024.jpeg
END:VEVENT
BEGIN:VEVENT
DTSTART;TZID=America/New_York:20240823T210000
DTEND;TZID=America/New_York:20240824T010000
DTSTAMP:20260425T195933
CREATED:20240115T131113Z
LAST-MODIFIED:20250108T221319Z
UID:10002916-1724446800-1724461200@jfkicksrestaurant.com
SUMMARY:Karaoke
DESCRIPTION:Join us for Karaoke with Johnny Q inside from 9pm to 1am every Friday night!
URL:https://jfkicksrestaurant.com/event/karaoke-2/2024-08-23/
LOCATION:Inside Main Stage
CATEGORIES:Music
ATTACH;FMTTYPE=image/jpeg:https://jfkicksrestaurant.com/wp-content/uploads/2024/01/Karaoke-Fridays.jpg
END:VEVENT
BEGIN:VEVENT
DTSTART;TZID=America/New_York:20240823T200000
DTEND;TZID=America/New_York:20240823T235900
DTSTAMP:20260425T195933
CREATED:20240724T121225Z
LAST-MODIFIED:20240821T152348Z
UID:10005453-1724443200-1724457540@jfkicksrestaurant.com
SUMMARY:Classic Rock Legacy Duo
DESCRIPTION:The Classic Rock Legacy Duo rock the Kicks Patio Friday night!
URL:https://jfkicksrestaurant.com/event/classic-rock-legacy-duo/
LOCATION:Outdoor Covered Patio Stage
CATEGORIES:Music
ATTACH;FMTTYPE=image/jpeg:https://jfkicksrestaurant.com/wp-content/uploads/2024/07/Classic-Rock-Legacy.jpg
END:VEVENT
BEGIN:VEVENT
DTSTART;TZID=America/New_York:20240822T190000
DTEND;TZID=America/New_York:20240822T230000
DTSTAMP:20260425T195933
CREATED:20240822T002731Z
LAST-MODIFIED:20240822T002731Z
UID:10005472-1724353200-1724367600@jfkicksrestaurant.com
SUMMARY:Greg Culp
DESCRIPTION:Acoustic Guitarist/Vocalist Greg Culp will be playing the patio Thursday night!
URL:https://jfkicksrestaurant.com/event/greg-culp/
LOCATION:Outdoor Covered Patio Stage
CATEGORIES:Music
ATTACH;FMTTYPE=image/jpeg:https://jfkicksrestaurant.com/wp-content/uploads/2024/08/Greg-Culp.jpeg
END:VEVENT
BEGIN:VEVENT
DTSTART;TZID=America/New_York:20240820T200000
DTEND;TZID=America/New_York:20240820T230000
DTSTAMP:20260425T195933
CREATED:20240115T042441Z
LAST-MODIFIED:20240212T142417Z
UID:10001348-1724184000-1724194800@jfkicksrestaurant.com
SUMMARY:Karaoke Tuesdays
DESCRIPTION:Bill Knowles hosts Karaoke on Tuesdays from 8pm-11pm!
URL:https://jfkicksrestaurant.com/event/karaoke-tuesdays/2024-08-20/
LOCATION:Inside Main Stage
CATEGORIES:Music
ATTACH;FMTTYPE=image/jpeg:https://jfkicksrestaurant.com/wp-content/uploads/2024/01/Karaoke-Tuesdays.jpg
END:VEVENT
BEGIN:VEVENT
DTSTART;TZID=America/New_York:20240820T180000
DTEND;TZID=America/New_York:20240820T220000
DTSTAMP:20260425T195933
CREATED:20240820T135714Z
LAST-MODIFIED:20240820T135714Z
UID:10005462-1724176800-1724191200@jfkicksrestaurant.com
SUMMARY:Patrick Foy
DESCRIPTION:Join us for live music from Patrick Foy!
URL:https://jfkicksrestaurant.com/event/patrick-foy-3/
LOCATION:Inside Main Stage
CATEGORIES:Music
ATTACH;FMTTYPE=image/jpeg:https://jfkicksrestaurant.com/wp-content/uploads/2024/05/Patrick-Foy.jpeg
END:VEVENT
BEGIN:VEVENT
DTSTART;TZID=America/New_York:20240818T120000
DTEND;TZID=America/New_York:20240818T160000
DTSTAMP:20260425T195933
CREATED:20240724T120808Z
LAST-MODIFIED:20240731T123439Z
UID:10005452-1723982400-1723996800@jfkicksrestaurant.com
SUMMARY:Acoustic Duo - Juan Ramirez & Yoshi Rodriguez
DESCRIPTION:The Acoustic Duo\, Juan Ramirez & Yoshi Rodriguez\, play the Kicks Patio Sunday!
URL:https://jfkicksrestaurant.com/event/acoustic-duo/
LOCATION:Outdoor Covered Patio Stage
CATEGORIES:Music
ATTACH;FMTTYPE=image/png:https://jfkicksrestaurant.com/wp-content/uploads/2023/11/JF-Kicks-Round-Brick-Logo-20_web.png
END:VEVENT
BEGIN:VEVENT
DTSTART;TZID=America/New_York:20240817T200000
DTEND;TZID=America/New_York:20240817T235900
DTSTAMP:20260425T195933
CREATED:20240723T134107Z
LAST-MODIFIED:20240723T134107Z
UID:10005451-1723924800-1723939140@jfkicksrestaurant.com
SUMMARY:Fifth Gear Band
DESCRIPTION:Fifth Gear Band will be rockin’ at JF Kicks\, covering classic rock from the 60’s to 80’s!
URL:https://jfkicksrestaurant.com/event/fifth-gear-band/
CATEGORIES:Music
ATTACH;FMTTYPE=image/jpeg:https://jfkicksrestaurant.com/wp-content/uploads/2024/07/Fifth-Gear-Band.jpg
END:VEVENT
BEGIN:VEVENT
DTSTART;TZID=America/New_York:20240816T210000
DTEND;TZID=America/New_York:20240817T010000
DTSTAMP:20260425T195933
CREATED:20240115T131113Z
LAST-MODIFIED:20250108T221319Z
UID:10002915-1723842000-1723856400@jfkicksrestaurant.com
SUMMARY:Karaoke
DESCRIPTION:Join us for Karaoke with Johnny Q inside from 9pm to 1am every Friday night!
URL:https://jfkicksrestaurant.com/event/karaoke-2/2024-08-16/
LOCATION:Inside Main Stage
CATEGORIES:Music
ATTACH;FMTTYPE=image/jpeg:https://jfkicksrestaurant.com/wp-content/uploads/2024/01/Karaoke-Fridays.jpg
END:VEVENT
BEGIN:VEVENT
DTSTART;TZID=America/New_York:20240816T190000
DTEND;TZID=America/New_York:20240816T230000
DTSTAMP:20260425T195933
CREATED:20240307T032934Z
LAST-MODIFIED:20240701T131341Z
UID:10005417-1723834800-1723849200@jfkicksrestaurant.com
SUMMARY:3-Dom Band
DESCRIPTION:3-Dom Band brings “The Best Music Ever” to the JF Kicks Patio Friday night 7-11pm!
URL:https://jfkicksrestaurant.com/event/3-dom-band-2/2024-08-16/
LOCATION:Outdoor Covered Patio Stage
CATEGORIES:Music
ATTACH;FMTTYPE=image/png:https://jfkicksrestaurant.com/wp-content/uploads/2024/01/3-Dom-Band.png
END:VEVENT
BEGIN:VEVENT
DTSTART;TZID=America/New_York:20240815T200000
DTEND;TZID=America/New_York:20240815T235900
DTSTAMP:20260425T195933
CREATED:20240320T134004Z
LAST-MODIFIED:20241104T122159Z
UID:10004773-1723752000-1723766340@jfkicksrestaurant.com
SUMMARY:Open Mic
DESCRIPTION:Thursday Night Open Mic on the inside stage is open to musicians and Karaoke singers alike! Come audition during Open Mic for the possibility of getting booked by the owner.
URL:https://jfkicksrestaurant.com/event/open-mic-2/2024-08-15/
CATEGORIES:Music
ATTACH;FMTTYPE=image/jpeg:https://jfkicksrestaurant.com/wp-content/uploads/2024/01/Open-Mic-8-to-12-March-2024.jpeg
END:VEVENT
BEGIN:VEVENT
DTSTART;TZID=America/New_York:20240813T200000
DTEND;TZID=America/New_York:20240813T230000
DTSTAMP:20260425T195933
CREATED:20240115T042441Z
LAST-MODIFIED:20240212T142417Z
UID:10001347-1723579200-1723590000@jfkicksrestaurant.com
SUMMARY:Karaoke Tuesdays
DESCRIPTION:Bill Knowles hosts Karaoke on Tuesdays from 8pm-11pm!
URL:https://jfkicksrestaurant.com/event/karaoke-tuesdays/2024-08-13/
LOCATION:Inside Main Stage
CATEGORIES:Music
ATTACH;FMTTYPE=image/jpeg:https://jfkicksrestaurant.com/wp-content/uploads/2024/01/Karaoke-Tuesdays.jpg
END:VEVENT
BEGIN:VEVENT
DTSTART;TZID=America/New_York:20240811T120000
DTEND;TZID=America/New_York:20240811T160000
DTSTAMP:20260425T195933
CREATED:20240522T143056Z
LAST-MODIFIED:20240723T133620Z
UID:10005381-1723377600-1723392000@jfkicksrestaurant.com
SUMMARY:Gene Cannon
DESCRIPTION:Instrumentalist and vocalist Gene Cannon provides the perfect musical accompaniment to an easy\, breezy Sunday afternoon!
URL:https://jfkicksrestaurant.com/event/gene-cannon-2/
LOCATION:Outdoor Covered Patio Stage
CATEGORIES:Music
ATTACH;FMTTYPE=image/jpeg:https://jfkicksrestaurant.com/wp-content/uploads/2024/01/Gene-Cannon.jpeg
END:VEVENT
BEGIN:VEVENT
DTSTART;TZID=America/New_York:20240810T190000
DTEND;TZID=America/New_York:20240810T230000
DTSTAMP:20260425T195933
CREATED:20240723T133501Z
LAST-MODIFIED:20240723T133501Z
UID:10005450-1723316400-1723330800@jfkicksrestaurant.com
SUMMARY:Whiskey Sonic
DESCRIPTION:Whiskey Sonic brings a large repertoire to the inside stage at JF Kicks! A bit of New Country\, Classic Rock & Pop – and a dash of Musical Mayhem\, just for kicks!
URL:https://jfkicksrestaurant.com/event/whiskey-sonic-4/
LOCATION:Inside Main Stage
CATEGORIES:Music
ATTACH;FMTTYPE=image/jpeg:https://jfkicksrestaurant.com/wp-content/uploads/2024/01/Whiskey-Sonic.jpeg
END:VEVENT
BEGIN:VEVENT
DTSTART;TZID=America/New_York:20240809T210000
DTEND;TZID=America/New_York:20240810T010000
DTSTAMP:20260425T195933
CREATED:20240115T131113Z
LAST-MODIFIED:20250108T221319Z
UID:10002914-1723237200-1723251600@jfkicksrestaurant.com
SUMMARY:Karaoke
DESCRIPTION:Join us for Karaoke with Johnny Q inside from 9pm to 1am every Friday night!
URL:https://jfkicksrestaurant.com/event/karaoke-2/2024-08-09/
LOCATION:Inside Main Stage
CATEGORIES:Music
ATTACH;FMTTYPE=image/jpeg:https://jfkicksrestaurant.com/wp-content/uploads/2024/01/Karaoke-Fridays.jpg
END:VEVENT
BEGIN:VEVENT
DTSTART;TZID=America/New_York:20240809T190000
DTEND;TZID=America/New_York:20240809T230000
DTSTAMP:20260425T195933
CREATED:20240723T133320Z
LAST-MODIFIED:20240723T133359Z
UID:10005449-1723230000-1723244400@jfkicksrestaurant.com
SUMMARY:Bag-O-Trix
DESCRIPTION:Bag-O-Trix brings country rock to the Kicks Patio!
URL:https://jfkicksrestaurant.com/event/bag-o-trix/
LOCATION:Outdoor Covered Patio Stage
CATEGORIES:Music
ATTACH;FMTTYPE=image/jpeg:https://jfkicksrestaurant.com/wp-content/uploads/2024/07/Bag-O-Trix.jpg
END:VEVENT
BEGIN:VEVENT
DTSTART;TZID=America/New_York:20240808T200000
DTEND;TZID=America/New_York:20240808T235900
DTSTAMP:20260425T195933
CREATED:20240320T134004Z
LAST-MODIFIED:20241104T122159Z
UID:10004772-1723147200-1723161540@jfkicksrestaurant.com
SUMMARY:Open Mic
DESCRIPTION:Thursday Night Open Mic on the inside stage is open to musicians and Karaoke singers alike! Come audition during Open Mic for the possibility of getting booked by the owner.
URL:https://jfkicksrestaurant.com/event/open-mic-2/2024-08-08/
CATEGORIES:Music
ATTACH;FMTTYPE=image/jpeg:https://jfkicksrestaurant.com/wp-content/uploads/2024/01/Open-Mic-8-to-12-March-2024.jpeg
END:VEVENT
BEGIN:VEVENT
DTSTART;TZID=America/New_York:20240806T200000
DTEND;TZID=America/New_York:20240806T230000
DTSTAMP:20260425T195933
CREATED:20240115T042441Z
LAST-MODIFIED:20240212T142417Z
UID:10001346-1722974400-1722985200@jfkicksrestaurant.com
SUMMARY:Karaoke Tuesdays
DESCRIPTION:Bill Knowles hosts Karaoke on Tuesdays from 8pm-11pm!
URL:https://jfkicksrestaurant.com/event/karaoke-tuesdays/2024-08-06/
LOCATION:Inside Main Stage
CATEGORIES:Music
ATTACH;FMTTYPE=image/jpeg:https://jfkicksrestaurant.com/wp-content/uploads/2024/01/Karaoke-Tuesdays.jpg
END:VEVENT
BEGIN:VEVENT
DTSTART;TZID=America/New_York:20240804T120000
DTEND;TZID=America/New_York:20240804T160000
DTSTAMP:20260425T195933
CREATED:20240723T133030Z
LAST-MODIFIED:20240723T133030Z
UID:10005448-1722772800-1722787200@jfkicksrestaurant.com
SUMMARY:Edwin Rodriguez
DESCRIPTION:Acoustic musician Edwin “Bigfish” Rodriguez returns to the JF Kicks Patio Stage!
URL:https://jfkicksrestaurant.com/event/edwin-rodriguez-2/
LOCATION:Outdoor Covered Patio Stage
CATEGORIES:Music
ATTACH;FMTTYPE=image/jpeg:https://jfkicksrestaurant.com/wp-content/uploads/2024/05/Edwin-Rodriguez.jpeg
END:VEVENT
BEGIN:VEVENT
DTSTART;TZID=America/New_York:20240803T200000
DTEND;TZID=America/New_York:20240803T230000
DTSTAMP:20260425T195933
CREATED:20240227T201608Z
LAST-MODIFIED:20240302T153125Z
UID:10003772-1722715200-1722726000@jfkicksrestaurant.com
SUMMARY:Dueling Pianos
DESCRIPTION:Always a blast and a crowd-pleaser\, Dueling Pianos featuring “That Piano Chick” Julie Legner and a special guest will be taking your song requests! Get here early as seats tend to fill up!
URL:https://jfkicksrestaurant.com/event/dueling-pianos-2-2/2024-08-03/
LOCATION:Inside Main Stage
CATEGORIES:Music
ATTACH;FMTTYPE=image/jpeg:https://jfkicksrestaurant.com/wp-content/uploads/2024/02/dueling-pianos.jpg
END:VEVENT
BEGIN:VEVENT
DTSTART;TZID=America/New_York:20240802T210000
DTEND;TZID=America/New_York:20240803T010000
DTSTAMP:20260425T195933
CREATED:20240115T131113Z
LAST-MODIFIED:20250108T221319Z
UID:10002913-1722632400-1722646800@jfkicksrestaurant.com
SUMMARY:Karaoke
DESCRIPTION:Join us for Karaoke with Johnny Q inside from 9pm to 1am every Friday night!
URL:https://jfkicksrestaurant.com/event/karaoke-2/2024-08-02/
LOCATION:Inside Main Stage
CATEGORIES:Music
ATTACH;FMTTYPE=image/jpeg:https://jfkicksrestaurant.com/wp-content/uploads/2024/01/Karaoke-Fridays.jpg
END:VEVENT
BEGIN:VEVENT
DTSTART;TZID=America/New_York:20240802T190000
DTEND;TZID=America/New_York:20240802T230000
DTSTAMP:20260425T195933
CREATED:20240722T135633Z
LAST-MODIFIED:20240722T135633Z
UID:10005447-1722625200-1722639600@jfkicksrestaurant.com
SUMMARY:Brandon Calloway - The Whiskey Renegade
DESCRIPTION:Brandon Calloway aka The Whiskey Renegade brings outlaw country music to the Kicks Patio!
URL:https://jfkicksrestaurant.com/event/brandon-calloway-the-whiskey-renegade/
LOCATION:Outdoor Covered Patio Stage
CATEGORIES:Music
ATTACH;FMTTYPE=image/jpeg:https://jfkicksrestaurant.com/wp-content/uploads/2024/07/Brandon-Calloway.jpg
END:VEVENT
BEGIN:VEVENT
DTSTART;TZID=America/New_York:20240801T200000
DTEND;TZID=America/New_York:20240801T235900
DTSTAMP:20260425T195933
CREATED:20240320T134004Z
LAST-MODIFIED:20241104T122159Z
UID:10004771-1722542400-1722556740@jfkicksrestaurant.com
SUMMARY:Open Mic
DESCRIPTION:Thursday Night Open Mic on the inside stage is open to musicians and Karaoke singers alike! Come audition during Open Mic for the possibility of getting booked by the owner.
URL:https://jfkicksrestaurant.com/event/open-mic-2/2024-08-01/
CATEGORIES:Music
ATTACH;FMTTYPE=image/jpeg:https://jfkicksrestaurant.com/wp-content/uploads/2024/01/Open-Mic-8-to-12-March-2024.jpeg
END:VEVENT
BEGIN:VEVENT
DTSTART;TZID=America/New_York:20240730T200000
DTEND;TZID=America/New_York:20240730T230000
DTSTAMP:20260425T195933
CREATED:20240115T042441Z
LAST-MODIFIED:20240212T142417Z
UID:10001345-1722369600-1722380400@jfkicksrestaurant.com
SUMMARY:Karaoke Tuesdays
DESCRIPTION:Bill Knowles hosts Karaoke on Tuesdays from 8pm-11pm!
URL:https://jfkicksrestaurant.com/event/karaoke-tuesdays/2024-07-30/
LOCATION:Inside Main Stage
CATEGORIES:Music
ATTACH;FMTTYPE=image/jpeg:https://jfkicksrestaurant.com/wp-content/uploads/2024/01/Karaoke-Tuesdays.jpg
END:VEVENT
BEGIN:VEVENT
DTSTART;TZID=America/New_York:20240728T120000
DTEND;TZID=America/New_York:20240728T160000
DTSTAMP:20260425T195933
CREATED:20240701T132219Z
LAST-MODIFIED:20240701T132219Z
UID:10005423-1722168000-1722182400@jfkicksrestaurant.com
SUMMARY:Patrick Foy
DESCRIPTION:Join us for live music from Patrick Foy on the patio!
URL:https://jfkicksrestaurant.com/event/patrick-foy-2/
LOCATION:Outdoor Covered Patio Stage
CATEGORIES:Music
ATTACH;FMTTYPE=image/jpeg:https://jfkicksrestaurant.com/wp-content/uploads/2024/05/Patrick-Foy.jpeg
END:VEVENT
BEGIN:VEVENT
DTSTART;TZID=America/New_York:20240727T200000
DTEND;TZID=America/New_York:20240727T235900
DTSTAMP:20260425T195933
CREATED:20240701T130438Z
LAST-MODIFIED:20240701T130438Z
UID:10005415-1722110400-1722124740@jfkicksrestaurant.com
SUMMARY:Smokepoint
DESCRIPTION:Smokepoint plays classic rock\, modern rock\, and original rock. Get ready to sing and dance along to songs like Livin’ on a Prayer\, Don’t Stop Believin’\, and You Shook Me All Night Long. Hum along\, tap your feet\, or dance to the original songs and rock classics – they make it easy to have a good time!
URL:https://jfkicksrestaurant.com/event/smokepoint-2/
CATEGORIES:Music
ATTACH;FMTTYPE=image/jpeg:https://jfkicksrestaurant.com/wp-content/uploads/2024/05/Smokepoint.jpeg
END:VEVENT
BEGIN:VEVENT
DTSTART;TZID=America/New_York:20240726T210000
DTEND;TZID=America/New_York:20240727T010000
DTSTAMP:20260425T195933
CREATED:20240115T131113Z
LAST-MODIFIED:20250108T221319Z
UID:10002912-1722027600-1722042000@jfkicksrestaurant.com
SUMMARY:Karaoke
DESCRIPTION:Join us for Karaoke with Johnny Q inside from 9pm to 1am every Friday night!
URL:https://jfkicksrestaurant.com/event/karaoke-2/2024-07-26/
LOCATION:Inside Main Stage
CATEGORIES:Music
ATTACH;FMTTYPE=image/jpeg:https://jfkicksrestaurant.com/wp-content/uploads/2024/01/Karaoke-Fridays.jpg
END:VEVENT
BEGIN:VEVENT
DTSTART;TZID=America/New_York:20240726T190000
DTEND;TZID=America/New_York:20240726T230000
DTSTAMP:20260425T195933
CREATED:20240722T132048Z
LAST-MODIFIED:20240722T132048Z
UID:10005444-1722020400-1722034800@jfkicksrestaurant.com
SUMMARY:Micah Shane
DESCRIPTION:Micah Shane plays the Kicks Patio Friday night!
URL:https://jfkicksrestaurant.com/event/micah-shane/
LOCATION:Outdoor Covered Patio Stage
CATEGORIES:Music
ATTACH;FMTTYPE=image/jpeg:https://jfkicksrestaurant.com/wp-content/uploads/2024/07/Micah-Shane.jpg
END:VEVENT
BEGIN:VEVENT
DTSTART;TZID=America/New_York:20240725T200000
DTEND;TZID=America/New_York:20240725T235900
DTSTAMP:20260425T195933
CREATED:20240320T134004Z
LAST-MODIFIED:20241104T122159Z
UID:10004770-1721937600-1721951940@jfkicksrestaurant.com
SUMMARY:Open Mic
DESCRIPTION:Thursday Night Open Mic on the inside stage is open to musicians and Karaoke singers alike! Come audition during Open Mic for the possibility of getting booked by the owner.
URL:https://jfkicksrestaurant.com/event/open-mic-2/2024-07-25/
CATEGORIES:Music
ATTACH;FMTTYPE=image/jpeg:https://jfkicksrestaurant.com/wp-content/uploads/2024/01/Open-Mic-8-to-12-March-2024.jpeg
END:VEVENT
END:VCALENDAR