BEGIN:VCALENDAR
VERSION:2.0
PRODID:-//JF Kicks Restaurant - ECPv6.15.18//NONSGML v1.0//EN
CALSCALE:GREGORIAN
METHOD:PUBLISH
X-WR-CALNAME:JF Kicks Restaurant
X-ORIGINAL-URL:https://jfkicksrestaurant.com
X-WR-CALDESC:Events for JF Kicks Restaurant
REFRESH-INTERVAL;VALUE=DURATION:PT1H
X-Robots-Tag:noindex
X-PUBLISHED-TTL:PT1H
BEGIN:VTIMEZONE
TZID:America/New_York
BEGIN:DAYLIGHT
TZOFFSETFROM:-0500
TZOFFSETTO:-0400
TZNAME:EDT
DTSTART:20240310T070000
END:DAYLIGHT
BEGIN:STANDARD
TZOFFSETFROM:-0400
TZOFFSETTO:-0500
TZNAME:EST
DTSTART:20241103T060000
END:STANDARD
BEGIN:DAYLIGHT
TZOFFSETFROM:-0500
TZOFFSETTO:-0400
TZNAME:EDT
DTSTART:20250309T070000
END:DAYLIGHT
BEGIN:STANDARD
TZOFFSETFROM:-0400
TZOFFSETTO:-0500
TZNAME:EST
DTSTART:20251102T060000
END:STANDARD
BEGIN:DAYLIGHT
TZOFFSETFROM:-0500
TZOFFSETTO:-0400
TZNAME:EDT
DTSTART:20260308T070000
END:DAYLIGHT
BEGIN:STANDARD
TZOFFSETFROM:-0400
TZOFFSETTO:-0500
TZNAME:EST
DTSTART:20261101T060000
END:STANDARD
END:VTIMEZONE
BEGIN:VEVENT
DTSTART;TZID=America/New_York:20250930T200000
DTEND;TZID=America/New_York:20250930T230000
DTSTAMP:20260424T164048
CREATED:20240115T042441Z
LAST-MODIFIED:20240212T142417Z
UID:10001406-1759262400-1759273200@jfkicksrestaurant.com
SUMMARY:Karaoke Tuesdays
DESCRIPTION:Bill Knowles hosts Karaoke on Tuesdays from 8pm-11pm!
URL:https://jfkicksrestaurant.com/event/karaoke-tuesdays/2025-09-30/
LOCATION:Inside Main Stage
CATEGORIES:Music
ATTACH;FMTTYPE=image/jpeg:https://jfkicksrestaurant.com/wp-content/uploads/2024/01/Karaoke-Tuesdays.jpg
END:VEVENT
BEGIN:VEVENT
DTSTART;TZID=America/New_York:20250927T190000
DTEND;TZID=America/New_York:20250927T235900
DTSTAMP:20260424T164048
CREATED:20250813T221106Z
LAST-MODIFIED:20250922T215545Z
UID:10007044-1758999600-1759017540@jfkicksrestaurant.com
SUMMARY:80's Night with The DeLoreans & DJ Vic
DESCRIPTION:It’s a totally radical 80’s party at JF Kicks with The DeLoreans and DJ Vic! Wear all your best 80’s getups and get ready to dance! A time traveling dance party you won’t want to miss\, with all your favorite 80’s songs! \nThe DeLoreans:  7-11pm (Inside Stage) \nDJ Vic: 8pm-12am (Patio Stage)
URL:https://jfkicksrestaurant.com/event/80s-night/
CATEGORIES:Music
ATTACH;FMTTYPE=image/jpeg:https://jfkicksrestaurant.com/wp-content/uploads/2025/08/80s-night-September-27-updated-poster.jpg
END:VEVENT
BEGIN:VEVENT
DTSTART;TZID=America/New_York:20250926T210000
DTEND;TZID=America/New_York:20250927T010000
DTSTAMP:20260424T164048
CREATED:20250117T142331Z
LAST-MODIFIED:20250117T142331Z
UID:10006106-1758920400-1758934800@jfkicksrestaurant.com
SUMMARY:Karaoke Night
DESCRIPTION:Join us for Karaoke Night with Johnny Q inside from 9pm to 1am every Friday night! There is no cover\, and we have food and drink specials.
URL:https://jfkicksrestaurant.com/event/karaoke-fridays/2025-09-26/
LOCATION:Inside Main Stage
CATEGORIES:Music
ATTACH;FMTTYPE=image/jpeg:https://jfkicksrestaurant.com/wp-content/uploads/2025/01/Karaoke-Night-Friday-January-2025.jpg.jpeg
END:VEVENT
BEGIN:VEVENT
DTSTART;TZID=America/New_York:20250926T190000
DTEND;TZID=America/New_York:20250926T230000
DTSTAMP:20260424T164048
CREATED:20250813T220640Z
LAST-MODIFIED:20250813T220640Z
UID:10007043-1758913200-1758927600@jfkicksrestaurant.com
SUMMARY:Jay Brown
DESCRIPTION:Jay Brown brings an upbeat sound with country\, rock\, and R&B hits\, coming to the Kicks Patio!
URL:https://jfkicksrestaurant.com/event/jay-brown/
LOCATION:Outdoor Covered Patio Stage
CATEGORIES:Music
ATTACH;FMTTYPE=image/jpeg:https://jfkicksrestaurant.com/wp-content/uploads/2025/08/Jay-Brown.jpg
END:VEVENT
BEGIN:VEVENT
DTSTART;TZID=America/New_York:20250923T200000
DTEND;TZID=America/New_York:20250923T230000
DTSTAMP:20260424T164048
CREATED:20240115T042441Z
LAST-MODIFIED:20240212T142417Z
UID:10001405-1758657600-1758668400@jfkicksrestaurant.com
SUMMARY:Karaoke Tuesdays
DESCRIPTION:Bill Knowles hosts Karaoke on Tuesdays from 8pm-11pm!
URL:https://jfkicksrestaurant.com/event/karaoke-tuesdays/2025-09-23/
LOCATION:Inside Main Stage
CATEGORIES:Music
ATTACH;FMTTYPE=image/jpeg:https://jfkicksrestaurant.com/wp-content/uploads/2024/01/Karaoke-Tuesdays.jpg
END:VEVENT
BEGIN:VEVENT
DTSTART;TZID=America/New_York:20250920T200000
DTEND;TZID=America/New_York:20250920T235900
DTSTAMP:20260424T164048
CREATED:20250707T204039Z
LAST-MODIFIED:20250707T204039Z
UID:10007007-1758398400-1758412740@jfkicksrestaurant.com
SUMMARY:Feel-Better & Friends
DESCRIPTION:Feel-Better & Friends is here – Johnny Spieldenner\, SteveO\, Greg Culp\, and Al Burna rock out on the Kicks inside stage!
URL:https://jfkicksrestaurant.com/event/feel-better-friends-3/
LOCATION:Inside Main Stage
CATEGORIES:Music
ATTACH;FMTTYPE=image/jpeg:https://jfkicksrestaurant.com/wp-content/uploads/2025/06/Feel-Better-Friends-cropped-06-11-2025.jpg
END:VEVENT
BEGIN:VEVENT
DTSTART;TZID=America/New_York:20250920T120000
DTEND;TZID=America/New_York:20250920T200000
DTSTAMP:20260424T164048
CREATED:20250707T203834Z
LAST-MODIFIED:20250918T000415Z
UID:10007006-1758369600-1758398400@jfkicksrestaurant.com
SUMMARY:Original Music Showcase
DESCRIPTION:Are you a singer songwriter with original music that you’re ready to share? Contact johnny@jfkicksrestaurant.com to get into the line-up for the Kicks First Annual Original Music Showcase! Tired of playing cover songs and want to get real life reactions to the music that you have created? This event is your outlet!\nOriginal Music Showcase: 12-8pmFeel-Better & Friends (Inside Stage): 8pm-12am
URL:https://jfkicksrestaurant.com/event/original-music-showcase/
CATEGORIES:Music
ATTACH;FMTTYPE=image/jpeg:https://jfkicksrestaurant.com/wp-content/uploads/2025/07/Original-Music-Showcase-updated-9-17-25.jpg
END:VEVENT
BEGIN:VEVENT
DTSTART;TZID=America/New_York:20250919T210000
DTEND;TZID=America/New_York:20250920T010000
DTSTAMP:20260424T164048
CREATED:20250117T142331Z
LAST-MODIFIED:20250117T142331Z
UID:10006105-1758315600-1758330000@jfkicksrestaurant.com
SUMMARY:Karaoke Night
DESCRIPTION:Join us for Karaoke Night with Johnny Q inside from 9pm to 1am every Friday night! There is no cover\, and we have food and drink specials.
URL:https://jfkicksrestaurant.com/event/karaoke-fridays/2025-09-19/
LOCATION:Inside Main Stage
CATEGORIES:Music
ATTACH;FMTTYPE=image/jpeg:https://jfkicksrestaurant.com/wp-content/uploads/2025/01/Karaoke-Night-Friday-January-2025.jpg.jpeg
END:VEVENT
BEGIN:VEVENT
DTSTART;TZID=America/New_York:20250919T190000
DTEND;TZID=America/New_York:20250919T230000
DTSTAMP:20260424T164048
CREATED:20250813T220012Z
LAST-MODIFIED:20250813T220012Z
UID:10007042-1758308400-1758322800@jfkicksrestaurant.com
SUMMARY:3-Dom Band
DESCRIPTION:3-Dom Band brings “The Best Music Ever” to the JF Kicks Patio Friday night 7-11pm!
URL:https://jfkicksrestaurant.com/event/3-dom-band-5/
LOCATION:Outdoor Covered Patio Stage
CATEGORIES:Music
ATTACH;FMTTYPE=image/png:https://jfkicksrestaurant.com/wp-content/uploads/2024/01/3-Dom-Band.png
END:VEVENT
BEGIN:VEVENT
DTSTART;TZID=America/New_York:20250916T200000
DTEND;TZID=America/New_York:20250916T230000
DTSTAMP:20260424T164048
CREATED:20240115T042441Z
LAST-MODIFIED:20240212T142417Z
UID:10001404-1758052800-1758063600@jfkicksrestaurant.com
SUMMARY:Karaoke Tuesdays
DESCRIPTION:Bill Knowles hosts Karaoke on Tuesdays from 8pm-11pm!
URL:https://jfkicksrestaurant.com/event/karaoke-tuesdays/2025-09-16/
LOCATION:Inside Main Stage
CATEGORIES:Music
ATTACH;FMTTYPE=image/jpeg:https://jfkicksrestaurant.com/wp-content/uploads/2024/01/Karaoke-Tuesdays.jpg
END:VEVENT
BEGIN:VEVENT
DTSTART;TZID=America/New_York:20250913T190000
DTEND;TZID=America/New_York:20250913T230000
DTSTAMP:20260424T164048
CREATED:20250813T215630Z
LAST-MODIFIED:20250813T215630Z
UID:10007041-1757790000-1757804400@jfkicksrestaurant.com
SUMMARY:Edwin Rodriguez
DESCRIPTION:Acoustic musician Edwin “Bigfish” Rodriguez returns to the JF Kicks Patio Stage!
URL:https://jfkicksrestaurant.com/event/edwin-rodriguez-4/
LOCATION:Outdoor Covered Patio Stage
CATEGORIES:Music
ATTACH;FMTTYPE=image/jpeg:https://jfkicksrestaurant.com/wp-content/uploads/2024/05/Edwin-Rodriguez.jpeg
END:VEVENT
BEGIN:VEVENT
DTSTART;TZID=America/New_York:20250912T210000
DTEND;TZID=America/New_York:20250913T010000
DTSTAMP:20260424T164048
CREATED:20250117T142331Z
LAST-MODIFIED:20250117T142331Z
UID:10006104-1757710800-1757725200@jfkicksrestaurant.com
SUMMARY:Karaoke Night
DESCRIPTION:Join us for Karaoke Night with Johnny Q inside from 9pm to 1am every Friday night! There is no cover\, and we have food and drink specials.
URL:https://jfkicksrestaurant.com/event/karaoke-fridays/2025-09-12/
LOCATION:Inside Main Stage
CATEGORIES:Music
ATTACH;FMTTYPE=image/jpeg:https://jfkicksrestaurant.com/wp-content/uploads/2025/01/Karaoke-Night-Friday-January-2025.jpg.jpeg
END:VEVENT
BEGIN:VEVENT
DTSTART;TZID=America/New_York:20250912T190000
DTEND;TZID=America/New_York:20250912T230000
DTSTAMP:20260424T164048
CREATED:20250813T215523Z
LAST-MODIFIED:20250813T215523Z
UID:10007040-1757703600-1757718000@jfkicksrestaurant.com
SUMMARY:Technically Tampa Duo
DESCRIPTION:Join us for the Technically Tampa Duo. They bring you a high-energy mix of pop\, rock\, and country hits—perfect for kicking back with a cold drink on the patio.
URL:https://jfkicksrestaurant.com/event/technically-tampa-duo/
LOCATION:Outdoor Covered Patio Stage
CATEGORIES:Music
ATTACH;FMTTYPE=image/jpeg:https://jfkicksrestaurant.com/wp-content/uploads/2025/08/Technically-Tampa.jpg
END:VEVENT
BEGIN:VEVENT
DTSTART;TZID=America/New_York:20250909T200000
DTEND;TZID=America/New_York:20250909T230000
DTSTAMP:20260424T164048
CREATED:20240115T042441Z
LAST-MODIFIED:20240212T142417Z
UID:10001403-1757448000-1757458800@jfkicksrestaurant.com
SUMMARY:Karaoke Tuesdays
DESCRIPTION:Bill Knowles hosts Karaoke on Tuesdays from 8pm-11pm!
URL:https://jfkicksrestaurant.com/event/karaoke-tuesdays/2025-09-09/
LOCATION:Inside Main Stage
CATEGORIES:Music
ATTACH;FMTTYPE=image/jpeg:https://jfkicksrestaurant.com/wp-content/uploads/2024/01/Karaoke-Tuesdays.jpg
END:VEVENT
BEGIN:VEVENT
DTSTART;TZID=America/New_York:20250906T200000
DTEND;TZID=America/New_York:20250906T230000
DTSTAMP:20260424T164048
CREATED:20250129T142106Z
LAST-MODIFIED:20250923T160657Z
UID:10006398-1757188800-1757199600@jfkicksrestaurant.com
SUMMARY:Dueling Pianos
DESCRIPTION:Always a blast with Live Dueling Pianos from 8-11pm on the JF Kicks stage with the multi talented “That Piano Chick” Julie “Legend” Legner and guests! Get here early\, have a nice dinner and drinks\, and enjoy your favorite songs!
URL:https://jfkicksrestaurant.com/event/dueling-pianos-3/2025-09-06/
LOCATION:Inside Main Stage
CATEGORIES:Music
ATTACH;FMTTYPE=image/jpeg:https://jfkicksrestaurant.com/wp-content/uploads/2025/01/Dueling-Pianos-updated-September-2025.jpg
END:VEVENT
BEGIN:VEVENT
DTSTART;TZID=America/New_York:20250905T210000
DTEND;TZID=America/New_York:20250906T010000
DTSTAMP:20260424T164048
CREATED:20250117T142331Z
LAST-MODIFIED:20250117T142331Z
UID:10006103-1757106000-1757120400@jfkicksrestaurant.com
SUMMARY:Karaoke Night
DESCRIPTION:Join us for Karaoke Night with Johnny Q inside from 9pm to 1am every Friday night! There is no cover\, and we have food and drink specials.
URL:https://jfkicksrestaurant.com/event/karaoke-fridays/2025-09-05/
LOCATION:Inside Main Stage
CATEGORIES:Music
ATTACH;FMTTYPE=image/jpeg:https://jfkicksrestaurant.com/wp-content/uploads/2025/01/Karaoke-Night-Friday-January-2025.jpg.jpeg
END:VEVENT
BEGIN:VEVENT
DTSTART;TZID=America/New_York:20250905T190000
DTEND;TZID=America/New_York:20250905T230000
DTSTAMP:20260424T164048
CREATED:20250813T215222Z
LAST-MODIFIED:20250813T215222Z
UID:10007038-1757098800-1757113200@jfkicksrestaurant.com
SUMMARY:Josh Austin
DESCRIPTION:Born and raised in Dallas\, Texas\, acoustic musician Josh Austin now calls Tampa home. Come enjoy a taste of his music on the Kicks patio!
URL:https://jfkicksrestaurant.com/event/josh-austin-7/
LOCATION:Outdoor Covered Patio Stage
CATEGORIES:Music
ATTACH;FMTTYPE=image/jpeg:https://jfkicksrestaurant.com/wp-content/uploads/2024/05/Josh-Austin.jpeg
END:VEVENT
BEGIN:VEVENT
DTSTART;TZID=America/New_York:20250902T200000
DTEND;TZID=America/New_York:20250902T230000
DTSTAMP:20260424T164048
CREATED:20240115T042441Z
LAST-MODIFIED:20240212T142417Z
UID:10001402-1756843200-1756854000@jfkicksrestaurant.com
SUMMARY:Karaoke Tuesdays
DESCRIPTION:Bill Knowles hosts Karaoke on Tuesdays from 8pm-11pm!
URL:https://jfkicksrestaurant.com/event/karaoke-tuesdays/2025-09-02/
LOCATION:Inside Main Stage
CATEGORIES:Music
ATTACH;FMTTYPE=image/jpeg:https://jfkicksrestaurant.com/wp-content/uploads/2024/01/Karaoke-Tuesdays.jpg
END:VEVENT
BEGIN:VEVENT
DTSTART;TZID=America/New_York:20250831T120000
DTEND;TZID=America/New_York:20250831T160000
DTSTAMP:20260424T164048
CREATED:20250813T215324Z
LAST-MODIFIED:20250813T215324Z
UID:10007039-1756641600-1756656000@jfkicksrestaurant.com
SUMMARY:Skip & Nancy
DESCRIPTION:Skip & Nancy will be playing all your Classic R&R and blues favorites on the patio!
URL:https://jfkicksrestaurant.com/event/skip-nancy-5/
LOCATION:Outdoor Covered Patio Stage
CATEGORIES:Music
ATTACH;FMTTYPE=image/png:https://jfkicksrestaurant.com/wp-content/uploads/2025/07/Skip-Nancy-2.png
END:VEVENT
BEGIN:VEVENT
DTSTART;TZID=America/New_York:20250831T110000
DTEND;TZID=America/New_York:20250831T150000
DTSTAMP:20260424T164048
CREATED:20250411T181553Z
LAST-MODIFIED:20250411T191139Z
UID:10006733-1756638000-1756652400@jfkicksrestaurant.com
SUMMARY:Sunday Brunch
DESCRIPTION:Sundays are even better with Sunday Brunch at JF Kicks from 11am to 3pm. Enjoy our special Sunday Brunch menu\, Mimosa and Sangria specials\, and live acoustic music from amazing local musicians on our beautiful covered patio\, which is also dog friendly. It’s the perfect place to spend your Sunday with friends and family.
URL:https://jfkicksrestaurant.com/event/sunday-brunch/2025-08-31/
CATEGORIES:Drinks,Food,Music
ATTACH;FMTTYPE=image/jpeg:https://jfkicksrestaurant.com/wp-content/uploads/2025/04/Brunch-2025.jpg
END:VEVENT
BEGIN:VEVENT
DTSTART;TZID=America/New_York:20250829T210000
DTEND;TZID=America/New_York:20250830T010000
DTSTAMP:20260424T164048
CREATED:20250117T142331Z
LAST-MODIFIED:20250117T142331Z
UID:10006102-1756501200-1756515600@jfkicksrestaurant.com
SUMMARY:Karaoke Night
DESCRIPTION:Join us for Karaoke Night with Johnny Q inside from 9pm to 1am every Friday night! There is no cover\, and we have food and drink specials.
URL:https://jfkicksrestaurant.com/event/karaoke-fridays/2025-08-29/
LOCATION:Inside Main Stage
CATEGORIES:Music
ATTACH;FMTTYPE=image/jpeg:https://jfkicksrestaurant.com/wp-content/uploads/2025/01/Karaoke-Night-Friday-January-2025.jpg.jpeg
END:VEVENT
BEGIN:VEVENT
DTSTART;TZID=America/New_York:20250829T190000
DTEND;TZID=America/New_York:20250829T230000
DTSTAMP:20260424T164048
CREATED:20250812T003228Z
LAST-MODIFIED:20250812T003228Z
UID:10007030-1756494000-1756508400@jfkicksrestaurant.com
SUMMARY:Mary and Sam
DESCRIPTION:Acoustic duo Mary and Sam are back at Kicks!
URL:https://jfkicksrestaurant.com/event/mary-and-sam-2/
LOCATION:Outdoor Covered Patio Stage
CATEGORIES:Music
ATTACH;FMTTYPE=image/png:https://jfkicksrestaurant.com/wp-content/uploads/2025/08/Mary-and-Sam-Duo.png
END:VEVENT
BEGIN:VEVENT
DTSTART;TZID=America/New_York:20250826T200000
DTEND;TZID=America/New_York:20250826T230000
DTSTAMP:20260424T164048
CREATED:20240115T042441Z
LAST-MODIFIED:20240212T142417Z
UID:10001401-1756238400-1756249200@jfkicksrestaurant.com
SUMMARY:Karaoke Tuesdays
DESCRIPTION:Bill Knowles hosts Karaoke on Tuesdays from 8pm-11pm!
URL:https://jfkicksrestaurant.com/event/karaoke-tuesdays/2025-08-26/
LOCATION:Inside Main Stage
CATEGORIES:Music
ATTACH;FMTTYPE=image/jpeg:https://jfkicksrestaurant.com/wp-content/uploads/2024/01/Karaoke-Tuesdays.jpg
END:VEVENT
BEGIN:VEVENT
DTSTART;TZID=America/New_York:20250824T120000
DTEND;TZID=America/New_York:20250824T160000
DTSTAMP:20260424T164048
CREATED:20250812T002941Z
LAST-MODIFIED:20250812T002941Z
UID:10007029-1756036800-1756051200@jfkicksrestaurant.com
SUMMARY:Tourist Bob
DESCRIPTION:Come see Tourist Bob on the Kicks Patio! He was voted 2022’s & 2023’s “Best Of Central Florida” in the Live Music / Band / Artist category and is known as “the most fun musician in the sunshine state.” Tourist Bob plays songs that are upbeat and fun. You’ll hear songs you know all the words to and can’t help but sing along to.
URL:https://jfkicksrestaurant.com/event/tourist-bob-3/
LOCATION:Outdoor Covered Patio Stage
CATEGORIES:Music
ATTACH;FMTTYPE=image/jpeg:https://jfkicksrestaurant.com/wp-content/uploads/2025/08/Tourist-Bob.jpg
END:VEVENT
BEGIN:VEVENT
DTSTART;TZID=America/New_York:20250824T110000
DTEND;TZID=America/New_York:20250824T150000
DTSTAMP:20260424T164048
CREATED:20250411T181553Z
LAST-MODIFIED:20250411T191139Z
UID:10006732-1756033200-1756047600@jfkicksrestaurant.com
SUMMARY:Sunday Brunch
DESCRIPTION:Sundays are even better with Sunday Brunch at JF Kicks from 11am to 3pm. Enjoy our special Sunday Brunch menu\, Mimosa and Sangria specials\, and live acoustic music from amazing local musicians on our beautiful covered patio\, which is also dog friendly. It’s the perfect place to spend your Sunday with friends and family.
URL:https://jfkicksrestaurant.com/event/sunday-brunch/2025-08-24/
CATEGORIES:Drinks,Food,Music
ATTACH;FMTTYPE=image/jpeg:https://jfkicksrestaurant.com/wp-content/uploads/2025/04/Brunch-2025.jpg
END:VEVENT
BEGIN:VEVENT
DTSTART;TZID=America/New_York:20250823T200000
DTEND;TZID=America/New_York:20250823T235900
DTSTAMP:20260424T164048
CREATED:20250812T002512Z
LAST-MODIFIED:20250812T002512Z
UID:10007028-1755979200-1755993540@jfkicksrestaurant.com
SUMMARY:Bag-O-Trix
DESCRIPTION:Bag-O-Trix brings country rock to the Kicks Stage!
URL:https://jfkicksrestaurant.com/event/bag-o-trix-6/
LOCATION:Inside Main Stage
CATEGORIES:Music
ATTACH;FMTTYPE=image/jpeg:https://jfkicksrestaurant.com/wp-content/uploads/2024/07/Bag-O-Trix.jpg
END:VEVENT
BEGIN:VEVENT
DTSTART;TZID=America/New_York:20250823T190000
DTEND;TZID=America/New_York:20250823T230000
DTSTAMP:20260424T164048
CREATED:20250812T002414Z
LAST-MODIFIED:20250812T002414Z
UID:10007027-1755975600-1755990000@jfkicksrestaurant.com
SUMMARY:Patrick Foy
DESCRIPTION:Join us for live music from Patrick Foy!
URL:https://jfkicksrestaurant.com/event/patrick-foy-5/
LOCATION:Outdoor Covered Patio Stage
CATEGORIES:Music
ATTACH;FMTTYPE=image/jpeg:https://jfkicksrestaurant.com/wp-content/uploads/2024/05/Patrick-Foy.jpeg
END:VEVENT
BEGIN:VEVENT
DTSTART;TZID=America/New_York:20250822T210000
DTEND;TZID=America/New_York:20250823T010000
DTSTAMP:20260424T164048
CREATED:20250117T142331Z
LAST-MODIFIED:20250117T142331Z
UID:10006101-1755896400-1755910800@jfkicksrestaurant.com
SUMMARY:Karaoke Night
DESCRIPTION:Join us for Karaoke Night with Johnny Q inside from 9pm to 1am every Friday night! There is no cover\, and we have food and drink specials.
URL:https://jfkicksrestaurant.com/event/karaoke-fridays/2025-08-22/
LOCATION:Inside Main Stage
CATEGORIES:Music
ATTACH;FMTTYPE=image/jpeg:https://jfkicksrestaurant.com/wp-content/uploads/2025/01/Karaoke-Night-Friday-January-2025.jpg.jpeg
END:VEVENT
BEGIN:VEVENT
DTSTART;TZID=America/New_York:20250822T190000
DTEND;TZID=America/New_York:20250822T230000
DTSTAMP:20260424T164048
CREATED:20250812T002209Z
LAST-MODIFIED:20250812T002209Z
UID:10007026-1755889200-1755903600@jfkicksrestaurant.com
SUMMARY:James Oberlin
DESCRIPTION:Enjoy live music from guitar player James Oberlin on the Kicks patio!
URL:https://jfkicksrestaurant.com/event/james-oberlin/
LOCATION:Outdoor Covered Patio Stage
CATEGORIES:Music
ATTACH;FMTTYPE=image/jpeg:https://jfkicksrestaurant.com/wp-content/uploads/2025/08/James-Oberlin.jpg
END:VEVENT
BEGIN:VEVENT
DTSTART;TZID=America/New_York:20250821T190000
DTEND;TZID=America/New_York:20250821T230000
DTSTAMP:20260424T164048
CREATED:20250821T164407Z
LAST-MODIFIED:20250821T164407Z
UID:10007047-1755802800-1755817200@jfkicksrestaurant.com
SUMMARY:Greg Culp
DESCRIPTION:Acoustic Guitarist/Vocalist Greg Culp will be playing on the inside stage!
URL:https://jfkicksrestaurant.com/event/greg-culp-4/
LOCATION:Inside Main Stage
CATEGORIES:Music
ATTACH;FMTTYPE=image/jpeg:https://jfkicksrestaurant.com/wp-content/uploads/2025/08/Greg-Culp.jpg
END:VEVENT
END:VCALENDAR