BEGIN:VCALENDAR
VERSION:2.0
PRODID:-//JF Kicks Restaurant - ECPv6.15.18//NONSGML v1.0//EN
CALSCALE:GREGORIAN
METHOD:PUBLISH
X-WR-CALNAME:JF Kicks Restaurant
X-ORIGINAL-URL:https://jfkicksrestaurant.com
X-WR-CALDESC:Events for JF Kicks Restaurant
REFRESH-INTERVAL;VALUE=DURATION:PT1H
X-Robots-Tag:noindex
X-PUBLISHED-TTL:PT1H
BEGIN:VTIMEZONE
TZID:America/New_York
BEGIN:DAYLIGHT
TZOFFSETFROM:-0500
TZOFFSETTO:-0400
TZNAME:EDT
DTSTART:20230312T070000
END:DAYLIGHT
BEGIN:STANDARD
TZOFFSETFROM:-0400
TZOFFSETTO:-0500
TZNAME:EST
DTSTART:20231105T060000
END:STANDARD
BEGIN:DAYLIGHT
TZOFFSETFROM:-0500
TZOFFSETTO:-0400
TZNAME:EDT
DTSTART:20240310T070000
END:DAYLIGHT
BEGIN:STANDARD
TZOFFSETFROM:-0400
TZOFFSETTO:-0500
TZNAME:EST
DTSTART:20241103T060000
END:STANDARD
BEGIN:DAYLIGHT
TZOFFSETFROM:-0500
TZOFFSETTO:-0400
TZNAME:EDT
DTSTART:20250309T070000
END:DAYLIGHT
BEGIN:STANDARD
TZOFFSETFROM:-0400
TZOFFSETTO:-0500
TZNAME:EST
DTSTART:20251102T060000
END:STANDARD
BEGIN:DAYLIGHT
TZOFFSETFROM:-0500
TZOFFSETTO:-0400
TZNAME:EDT
DTSTART:20260308T070000
END:DAYLIGHT
BEGIN:STANDARD
TZOFFSETFROM:-0400
TZOFFSETTO:-0500
TZNAME:EST
DTSTART:20261101T060000
END:STANDARD
END:VTIMEZONE
BEGIN:VEVENT
DTSTART;TZID=America/New_York:20250315T140000
DTEND;TZID=America/New_York:20250315T180000
DTSTAMP:20260420T073930
CREATED:20250312T175938Z
LAST-MODIFIED:20250312T182111Z
UID:10006438-1742047200-1742061600@jfkicksrestaurant.com
SUMMARY:DJ Grimey
DESCRIPTION:Celebrate St. Patrick’s during our 4-day celebration. Here is what’s happening on Saturday\, March 15: \n– St. Puppy’s Day: 2-6pm (patio)\n– DJ Grimey: 2-6pm (outside tent)\n– Whiskey Sonic: 7-11pm (inside) \nThis family-friendly event will have Best Female and Male Dog Awards\, vendors\, raffles\, half-priced Peel & Eat Shrimp all day\, and more!
URL:https://jfkicksrestaurant.com/event/dj-grimey-2/
CATEGORIES:Community,Holiday,Music
ATTACH;FMTTYPE=image/jpeg:https://jfkicksrestaurant.com/wp-content/uploads/2025/03/DJ-Grimey-edited.jpg
END:VEVENT
BEGIN:VEVENT
DTSTART;TZID=America/New_York:20250315T140000
DTEND;TZID=America/New_York:20250315T180000
DTSTAMP:20260420T073930
CREATED:20250312T144209Z
LAST-MODIFIED:20250312T180231Z
UID:10006433-1742047200-1742061600@jfkicksrestaurant.com
SUMMARY:St. Puppy's Day
DESCRIPTION:Bring your dogs to help us celebrate the 1st Annual St. Puppy’s Day at JF Kicks as part of our St. Patrick’s 4-Day Celebration! This family-friendly event will have Best Female and Male Dog Awards\, vendors\, raffles\, and more. Also\, we have a special Dog Menu\, so feel free to treat your dog.
URL:https://jfkicksrestaurant.com/event/st-puppys-day/
CATEGORIES:Community,Holiday
ATTACH;FMTTYPE=image/jpeg:https://jfkicksrestaurant.com/wp-content/uploads/2025/03/Saturday-St.-Patricks-2025.JPG.jpeg
END:VEVENT
BEGIN:VEVENT
DTSTART;TZID=America/New_York:20250314T190000
DTEND;TZID=America/New_York:20250314T230000
DTSTAMP:20260420T073930
CREATED:20250311T211633Z
LAST-MODIFIED:20250312T180125Z
UID:10006432-1741978800-1741993200@jfkicksrestaurant.com
SUMMARY:The Reasons Duo
DESCRIPTION:The Reasons Duo returns to JF Kicks to play the patio stage during our St. Patrick’s 4-Day Celebration!
URL:https://jfkicksrestaurant.com/event/the-reasons-duo-5/
LOCATION:Outdoor Covered Patio Stage
CATEGORIES:Holiday,Music
ATTACH;FMTTYPE=image/jpeg:https://jfkicksrestaurant.com/wp-content/uploads/2025/03/Friday-March-14-St.-Patricks-2025.jpg.jpeg
END:VEVENT
BEGIN:VEVENT
DTSTART;VALUE=DATE:20250314
DTEND;VALUE=DATE:20250319
DTSTAMP:20260420T073930
CREATED:20250221T184430Z
LAST-MODIFIED:20250221T184430Z
UID:10006425-1741917600-1742263199@jfkicksrestaurant.com
SUMMARY:St. Patrick's 4-Day Weekend Celebration
DESCRIPTION:Celebrate St. Paddy’s Day with us at “O’Kicks!” Enjoy food and drink specials plus live entertainment all 4 days\, Friday through Monday!
URL:https://jfkicksrestaurant.com/event/st-patricks-4-day-weekend-celebration/
CATEGORIES:Holiday
ATTACH;FMTTYPE=image/jpeg:https://jfkicksrestaurant.com/wp-content/uploads/2025/02/St.-Patricks-2025-cropped.jpg
END:VEVENT
BEGIN:VEVENT
DTSTART;TZID=America/New_York:20250215T170000
DTEND;TZID=America/New_York:20250215T230000
DTSTAMP:20260420T073930
CREATED:20250213T062811Z
LAST-MODIFIED:20250213T063038Z
UID:10006418-1739638800-1739660400@jfkicksrestaurant.com
SUMMARY:Galentine's Day with Glass Painting & The Ladies Man
DESCRIPTION:It’s Galentine’s Day at JF Kicks! Join us from 5-7pm for our glass painting event on the upper patio. $20 per person for 2 pieces. We will have our special Valentine’s food and drink menu as well as chocolate covered strawberries and champagne. Then at 7pm\, sing along to empowering music by and for women\, performed by The Ladies Man. To reserve your spot for glass painting\, please email: tamra@jfkicksrestaurant.com
URL:https://jfkicksrestaurant.com/event/galentines-day-with-glass-painting-the-ladies-man/
CATEGORIES:Arts & Crafts,Drinks,Food,Holiday,Music
ATTACH;FMTTYPE=image/jpeg:https://jfkicksrestaurant.com/wp-content/uploads/2025/02/Galentines-Day-Saturday-2025-v2.jpg.jpeg
END:VEVENT
BEGIN:VEVENT
DTSTART;TZID=America/New_York:20250214T190000
DTEND;TZID=America/New_York:20250214T235900
DTSTAMP:20260420T073930
CREATED:20250213T062131Z
LAST-MODIFIED:20250213T062131Z
UID:10006417-1739559600-1739577540@jfkicksrestaurant.com
SUMMARY:Valentine's Day
DESCRIPTION:Celebrate a sweet Valentine’s Day at JF Kicks. Brack Harris will be playing live on our covered Patio starting at 7pm and our Annual Karaoke contest continues at 9pm\, there’s no cover. Check out our special Valentine’s Menu and drink specials too!
URL:https://jfkicksrestaurant.com/event/valentines-day/
CATEGORIES:Drinks,Food,Holiday,Music
ATTACH;FMTTYPE=image/jpeg:https://jfkicksrestaurant.com/wp-content/uploads/2025/02/Valentines-Day-Friday-2025-v2.jpg.jpeg
END:VEVENT
BEGIN:VEVENT
DTSTART;TZID=America/New_York:20250213T160000
DTEND;TZID=America/New_York:20250213T230000
DTSTAMP:20260420T073930
CREATED:20250213T061041Z
LAST-MODIFIED:20250213T061100Z
UID:10006416-1739462400-1739487600@jfkicksrestaurant.com
SUMMARY:Daddy Daughter Date Night with Piano Show
DESCRIPTION:Join us for our Daddy & Daughter Date Night! It’s time to spend some quality time with your little princess! Call ahead and let our Host know you are coming for ‘Date Night’ and they will make sure your table is set for a special evening just for the two of you. Enjoy an all request Piano Show\, plus a free rose and chocolate for the daughters.
URL:https://jfkicksrestaurant.com/event/daddy-daughter-date-night-with-piano-show/
LOCATION:Inside Main Stage
CATEGORIES:Food,Holiday,Music
ATTACH;FMTTYPE=image/jpeg:https://jfkicksrestaurant.com/wp-content/uploads/2025/02/Daddy-Daughter-Date-Night-Thursday-2025-v2.jpg.jpeg
END:VEVENT
BEGIN:VEVENT
DTSTART;TZID=America/New_York:20241231T210000
DTEND;TZID=America/New_York:20250101T010000
DTSTAMP:20260420T073930
CREATED:20241218T171948Z
LAST-MODIFIED:20241220T134721Z
UID:10005936-1735678800-1735693200@jfkicksrestaurant.com
SUMMARY:New Year's Celebration
DESCRIPTION:Say goodbye to 2024 and hello to 2025 at JF Kicks! We’ll be celebrating with fantastic tunes from DJ Vic\, a champagne toast at midnight and free party favors. We’ll have a special New Year’s Eve menu available too. There’s no cover and parking is free. \nFor reservations\, please email Tamra@jfkicksrestaurant.com
URL:https://jfkicksrestaurant.com/event/new-years-celebration/
CATEGORIES:Community,Drinks,Food,Holiday,Music
ATTACH;FMTTYPE=image/jpeg:https://jfkicksrestaurant.com/wp-content/uploads/2024/12/New-Year-2025-12-18-2024-v1.jpg
END:VEVENT
BEGIN:VEVENT
DTSTART;TZID=America/New_York:20241231T170000
DTEND;TZID=America/New_York:20241231T210000
DTSTAMP:20260420T073930
CREATED:20241220T133237Z
LAST-MODIFIED:20241220T134757Z
UID:10005937-1735664400-1735678800@jfkicksrestaurant.com
SUMMARY:Irish New Year
DESCRIPTION:Ring in the Irish New Year at JF Kicks with a countdown and champagne toast at 7pm as we stream the ball drop in Dublin. This is a family friendly event\, and we’ll have a non-alcoholic beverage for kids to toast too! Enjoy our special New Year’s Eve menu and a special way to ring in 2025!
URL:https://jfkicksrestaurant.com/event/irish-new-year/
CATEGORIES:Community,Drinks,Food,Holiday
ATTACH;FMTTYPE=image/jpeg:https://jfkicksrestaurant.com/wp-content/uploads/2024/12/0572020_NewYearsEveIRISH_JAN2024-v2.jpeg
END:VEVENT
END:VCALENDAR