BEGIN:VCALENDAR
VERSION:2.0
PRODID:-//JF Kicks Restaurant - ECPv6.15.18//NONSGML v1.0//EN
CALSCALE:GREGORIAN
METHOD:PUBLISH
X-ORIGINAL-URL:https://jfkicksrestaurant.com
X-WR-CALDESC:Events for JF Kicks Restaurant
REFRESH-INTERVAL;VALUE=DURATION:PT1H
X-Robots-Tag:noindex
X-PUBLISHED-TTL:PT1H
BEGIN:VTIMEZONE
TZID:America/New_York
BEGIN:DAYLIGHT
TZOFFSETFROM:-0500
TZOFFSETTO:-0400
TZNAME:EDT
DTSTART:20240310T070000
END:DAYLIGHT
BEGIN:STANDARD
TZOFFSETFROM:-0400
TZOFFSETTO:-0500
TZNAME:EST
DTSTART:20241103T060000
END:STANDARD
BEGIN:DAYLIGHT
TZOFFSETFROM:-0500
TZOFFSETTO:-0400
TZNAME:EDT
DTSTART:20250309T070000
END:DAYLIGHT
BEGIN:STANDARD
TZOFFSETFROM:-0400
TZOFFSETTO:-0500
TZNAME:EST
DTSTART:20251102T060000
END:STANDARD
BEGIN:DAYLIGHT
TZOFFSETFROM:-0500
TZOFFSETTO:-0400
TZNAME:EDT
DTSTART:20260308T070000
END:DAYLIGHT
BEGIN:STANDARD
TZOFFSETFROM:-0400
TZOFFSETTO:-0500
TZNAME:EST
DTSTART:20261101T060000
END:STANDARD
END:VTIMEZONE
BEGIN:VEVENT
DTSTART;TZID=America/New_York:20251214T150000
DTEND;TZID=America/New_York:20251214T170000
DTSTAMP:20260420T122800
CREATED:20251208T203628Z
LAST-MODIFIED:20251208T203928Z
UID:10008657-1765724400-1765731600@jfkicksrestaurant.com
SUMMARY:Meet a Highland Cow and Mini Goats
DESCRIPTION:Meet Cash the Highland Cow and Mini Goats Brady and Penelope on Sunday\, December 14 from 3-5pm.
URL:https://jfkicksrestaurant.com/event/meet-a-highland-cow-and-mini-goats/
CATEGORIES:Community,Holiday
ATTACH;FMTTYPE=image/png:https://jfkicksrestaurant.com/wp-content/uploads/2025/12/Petting-Zoo-12-8-25.png
END:VEVENT
BEGIN:VEVENT
DTSTART;TZID=America/New_York:20251214T170000
DTEND;TZID=America/New_York:20251214T180000
DTSTAMP:20260420T122800
CREATED:20251208T203848Z
LAST-MODIFIED:20251208T203848Z
UID:10008658-1765731600-1765735200@jfkicksrestaurant.com
SUMMARY:Meet The Grinch
DESCRIPTION:Meet The Grinch on Sunday from 5-6pm. Holiday fun for the whole family!
URL:https://jfkicksrestaurant.com/event/meet-the-grinch/
CATEGORIES:Holiday
ATTACH;FMTTYPE=image/png:https://jfkicksrestaurant.com/wp-content/uploads/2025/12/Meet-Grinch-12-24-2025.png
END:VEVENT
END:VCALENDAR