BEGIN:VCALENDAR
VERSION:2.0
PRODID:-//JF Kicks Restaurant - ECPv6.15.18//NONSGML v1.0//EN
CALSCALE:GREGORIAN
METHOD:PUBLISH
X-ORIGINAL-URL:https://jfkicksrestaurant.com
X-WR-CALDESC:Events for JF Kicks Restaurant
REFRESH-INTERVAL;VALUE=DURATION:PT1H
X-Robots-Tag:noindex
X-PUBLISHED-TTL:PT1H
BEGIN:VTIMEZONE
TZID:America/New_York
BEGIN:DAYLIGHT
TZOFFSETFROM:-0500
TZOFFSETTO:-0400
TZNAME:EDT
DTSTART:20250309T070000
END:DAYLIGHT
BEGIN:STANDARD
TZOFFSETFROM:-0400
TZOFFSETTO:-0500
TZNAME:EST
DTSTART:20251102T060000
END:STANDARD
BEGIN:DAYLIGHT
TZOFFSETFROM:-0500
TZOFFSETTO:-0400
TZNAME:EDT
DTSTART:20260308T070000
END:DAYLIGHT
BEGIN:STANDARD
TZOFFSETFROM:-0400
TZOFFSETTO:-0500
TZNAME:EST
DTSTART:20261101T060000
END:STANDARD
BEGIN:DAYLIGHT
TZOFFSETFROM:-0500
TZOFFSETTO:-0400
TZNAME:EDT
DTSTART:20270314T070000
END:DAYLIGHT
BEGIN:STANDARD
TZOFFSETFROM:-0400
TZOFFSETTO:-0500
TZNAME:EST
DTSTART:20271107T060000
END:STANDARD
END:VTIMEZONE
BEGIN:VEVENT
DTSTART;TZID=America/New_York:20260420T190000
DTEND;TZID=America/New_York:20260420T210000
DTSTAMP:20260419T165505
CREATED:20260105T232742Z
LAST-MODIFIED:20260105T232742Z
UID:10005136-1776711600-1776718800@jfkicksrestaurant.com
SUMMARY:Trivia Night
DESCRIPTION:Trivia at JF Kicks is on Monday nights from 7pm-9pm\, what a great trivia group!
URL:https://jfkicksrestaurant.com/event/trivia-night-2/2026-04-20/
LOCATION:Inside Main Stage
CATEGORIES:Game
ATTACH;FMTTYPE=image/jpeg:https://jfkicksrestaurant.com/wp-content/uploads/2023/12/New-Trivia-Night-Dec-2025.jpg
END:VEVENT
BEGIN:VEVENT
DTSTART;TZID=America/New_York:20260422T190000
DTEND;TZID=America/New_York:20260422T210000
DTSTAMP:20260419T165505
CREATED:20241207T024703Z
LAST-MODIFIED:20251120T131724Z
UID:10000912-1776884400-1776891600@jfkicksrestaurant.com
SUMMARY:Singo Music Bingo
DESCRIPTION:Join us for Singo\, the game of music Bingo that’s fun for everyone! Just like Bingo\, but with your favorite songs. Sit back\, listen\, and win awesome prizes! Play for a chance to win free food\, free drinks\, and free gift cards. It’s free to play and for all ages.
URL:https://jfkicksrestaurant.com/event/singo-music-bingo/2026-04-22/
LOCATION:Inside Main Stage
CATEGORIES:Game
ATTACH;FMTTYPE=image/jpeg:https://jfkicksrestaurant.com/wp-content/uploads/2024/12/Singo-Music-Bingo-Nov-2025.jpg
END:VEVENT
BEGIN:VEVENT
DTSTART;TZID=America/New_York:20260423T190000
DTEND;TZID=America/New_York:20260423T230000
DTSTAMP:20260419T165505
CREATED:20260410T160926Z
LAST-MODIFIED:20260416T172635Z
UID:10010636-1776970800-1776985200@jfkicksrestaurant.com
SUMMARY:NFL Draft Bingo
DESCRIPTION:We’re playing NFL Draft Bingo at Kicks. There will be prizes for 1st\, 2nd\, and 3rd place. Boards out at 7pm\, Draft starts at 8pm.
URL:https://jfkicksrestaurant.com/event/nfl-draft-bingo-2/
CATEGORIES:Game,Sports
ATTACH;FMTTYPE=image/jpeg:https://jfkicksrestaurant.com/wp-content/uploads/2026/04/NFL-Draft-Bingo-updated-04-16-2026.jpeg
END:VEVENT
BEGIN:VEVENT
DTSTART;TZID=America/New_York:20260427T190000
DTEND;TZID=America/New_York:20260427T210000
DTSTAMP:20260419T165505
CREATED:20260105T232742Z
LAST-MODIFIED:20260105T232742Z
UID:10005137-1777316400-1777323600@jfkicksrestaurant.com
SUMMARY:Trivia Night
DESCRIPTION:Trivia at JF Kicks is on Monday nights from 7pm-9pm\, what a great trivia group!
URL:https://jfkicksrestaurant.com/event/trivia-night-2/2026-04-27/
LOCATION:Inside Main Stage
CATEGORIES:Game
ATTACH;FMTTYPE=image/jpeg:https://jfkicksrestaurant.com/wp-content/uploads/2023/12/New-Trivia-Night-Dec-2025.jpg
END:VEVENT
BEGIN:VEVENT
DTSTART;TZID=America/New_York:20260429T190000
DTEND;TZID=America/New_York:20260429T210000
DTSTAMP:20260419T165505
CREATED:20241207T024703Z
LAST-MODIFIED:20251120T131724Z
UID:10000913-1777489200-1777496400@jfkicksrestaurant.com
SUMMARY:Singo Music Bingo
DESCRIPTION:Join us for Singo\, the game of music Bingo that’s fun for everyone! Just like Bingo\, but with your favorite songs. Sit back\, listen\, and win awesome prizes! Play for a chance to win free food\, free drinks\, and free gift cards. It’s free to play and for all ages.
URL:https://jfkicksrestaurant.com/event/singo-music-bingo/2026-04-29/
LOCATION:Inside Main Stage
CATEGORIES:Game
ATTACH;FMTTYPE=image/jpeg:https://jfkicksrestaurant.com/wp-content/uploads/2024/12/Singo-Music-Bingo-Nov-2025.jpg
END:VEVENT
END:VCALENDAR