BEGIN:VCALENDAR
VERSION:2.0
PRODID:-//JF Kicks Restaurant - ECPv6.15.18//NONSGML v1.0//EN
CALSCALE:GREGORIAN
METHOD:PUBLISH
X-ORIGINAL-URL:https://jfkicksrestaurant.com
X-WR-CALDESC:Events for JF Kicks Restaurant
REFRESH-INTERVAL;VALUE=DURATION:PT1H
X-Robots-Tag:noindex
X-PUBLISHED-TTL:PT1H
BEGIN:VTIMEZONE
TZID:America/New_York
BEGIN:DAYLIGHT
TZOFFSETFROM:-0500
TZOFFSETTO:-0400
TZNAME:EDT
DTSTART:20230312T070000
END:DAYLIGHT
BEGIN:STANDARD
TZOFFSETFROM:-0400
TZOFFSETTO:-0500
TZNAME:EST
DTSTART:20231105T060000
END:STANDARD
BEGIN:DAYLIGHT
TZOFFSETFROM:-0500
TZOFFSETTO:-0400
TZNAME:EDT
DTSTART:20240310T070000
END:DAYLIGHT
BEGIN:STANDARD
TZOFFSETFROM:-0400
TZOFFSETTO:-0500
TZNAME:EST
DTSTART:20241103T060000
END:STANDARD
BEGIN:DAYLIGHT
TZOFFSETFROM:-0500
TZOFFSETTO:-0400
TZNAME:EDT
DTSTART:20250309T070000
END:DAYLIGHT
BEGIN:STANDARD
TZOFFSETFROM:-0400
TZOFFSETTO:-0500
TZNAME:EST
DTSTART:20251102T060000
END:STANDARD
BEGIN:DAYLIGHT
TZOFFSETFROM:-0500
TZOFFSETTO:-0400
TZNAME:EDT
DTSTART:20260308T070000
END:DAYLIGHT
BEGIN:STANDARD
TZOFFSETFROM:-0400
TZOFFSETTO:-0500
TZNAME:EST
DTSTART:20261101T060000
END:STANDARD
END:VTIMEZONE
BEGIN:VEVENT
DTSTART;TZID=America/New_York:20250122T173000
DTEND;TZID=America/New_York:20250122T190000
DTSTAMP:20260420T125905
CREATED:20250121T161757Z
LAST-MODIFIED:20250121T161757Z
UID:10006337-1737567000-1737572400@jfkicksrestaurant.com
SUMMARY:Dancing for a Difference Spirit Night
DESCRIPTION:Come and support a local non-profit “Dancing for a Difference” at 5:30pm! 10% of sales go towards breathing the art of dance into some great kids.
URL:https://jfkicksrestaurant.com/event/dancing-for-a-difference-spirit-night-5/
LOCATION:Inside Main Stage
CATEGORIES:Community,Fundraising,Performance
ATTACH;FMTTYPE=image/jpeg:https://jfkicksrestaurant.com/wp-content/uploads/2024/11/Dancing-for-a-Difference-Nov-2024.jpg
END:VEVENT
BEGIN:VEVENT
DTSTART;TZID=America/New_York:20241211T173000
DTEND;TZID=America/New_York:20241211T190000
DTSTAMP:20260420T125905
CREATED:20241104T123304Z
LAST-MODIFIED:20241116T041518Z
UID:10005511-1733938200-1733943600@jfkicksrestaurant.com
SUMMARY:Dancing for a Difference Spirit Night
DESCRIPTION:Come and support a local non-profit “Dancing for a Difference” tonight at 5:30pm! 10% of sales go towards breathing the art of dance into some great kids.
URL:https://jfkicksrestaurant.com/event/dancing-for-a-difference-spirit-night-4/
LOCATION:Inside Main Stage
CATEGORIES:Community,Fundraising,Performance
ATTACH;FMTTYPE=image/jpeg:https://jfkicksrestaurant.com/wp-content/uploads/2024/11/Dancing-for-a-Difference-Nov-2024.jpg
END:VEVENT
BEGIN:VEVENT
DTSTART;TZID=America/New_York:20241029T173000
DTEND;TZID=America/New_York:20241029T193000
DTSTAMP:20260420T125905
CREATED:20250925T175103Z
LAST-MODIFIED:20250925T175103Z
UID:10008528-1730223000-1730230200@jfkicksrestaurant.com
SUMMARY:Dancing for A Difference Spirit Night
DESCRIPTION:Come and support a local non-profit “Dancing for A Difference” tonight at 5:30! 10% of sales go towards breathing the art of dance into some great young kids in our community.
URL:https://jfkicksrestaurant.com/event/dancing-for-a-difference-spirit-night-7/
LOCATION:Inside Main Stage
CATEGORIES:Community,Fundraising,Performance
ATTACH;FMTTYPE=image/webp:https://jfkicksrestaurant.com/wp-content/uploads/2024/11/Dancing-for-a-Difference-Nov-2024.webp
END:VEVENT
BEGIN:VEVENT
DTSTART;TZID=America/New_York:20241024T190000
DTEND;TZID=America/New_York:20241024T210000
DTSTAMP:20260420T125905
CREATED:20240930T151345Z
LAST-MODIFIED:20240930T151345Z
UID:10005499-1729796400-1729803600@jfkicksrestaurant.com
SUMMARY:Valrico Fishhawk Chamber of Commerce Music Bingo Fundraiser
DESCRIPTION:Music Bingo at JF Kick’s to Benefit VFCC’s Charity of Choice\, Raining Cats & Dogs Sanctuary. Doors open at 6pm\, and Music Bingo starts at 7pm.  Register here: https://valricofishhawk.chambermaster.com/eventregistration/register/7312
URL:https://jfkicksrestaurant.com/event/valrico-fishhawk-chamber-of-commerce-music-bingo-fundraiser/
CATEGORIES:Community,Fundraising
ATTACH;FMTTYPE=image/jpeg:https://jfkicksrestaurant.com/wp-content/uploads/2024/09/Music-Bingo-Halloween.jpg
END:VEVENT
BEGIN:VEVENT
DTSTART;TZID=America/New_York:20241005T100000
DTEND;TZID=America/New_York:20241005T140000
DTSTAMP:20260420T125905
CREATED:20240830T191703Z
LAST-MODIFIED:20240830T191703Z
UID:10005488-1728122400-1728136800@jfkicksrestaurant.com
SUMMARY:Kickstand Up Against Pediatric Cancer
DESCRIPTION:Join us for an unforgettable ride to honor and support children battling cancer. Let’s come together\, raise awareness\, and fund the incredible programs that offer tailored support to these superhero kids and their warrior sidekick siblings. \nWhat’s in Store: \n🎉 Meet amazing vendors and community members \n🎶 Groove to live music \n🍔 Enjoy delicious food specials \n🍹 Sip on refreshing drink specials \n🌟 Discover the life-changing programs by Small But Mighty Heroes \nLet’s make some noise and ride for a cause! Feel the thrill of the ride while making a real difference in the lives of brave children. \nLet’s Ride Like Heroes!
URL:https://jfkicksrestaurant.com/event/kickstand-up-against-pediatric-cancer/
CATEGORIES:Community,Fundraising
ATTACH;FMTTYPE=image/jpeg:https://jfkicksrestaurant.com/wp-content/uploads/2024/08/Kickstand-Up-Against-Pediatric-Cancer.jpeg
END:VEVENT
BEGIN:VEVENT
DTSTART;TZID=America/New_York:20240824T130000
DTEND;TZID=America/New_York:20240824T160000
DTSTAMP:20260420T125905
CREATED:20240715T173020Z
LAST-MODIFIED:20240715T173020Z
UID:10005442-1724504400-1724515200@jfkicksrestaurant.com
SUMMARY:Sips for Shelter Wine Tasting
DESCRIPTION:Come taste great local and international wines while supporting local charity A1 Opportunities and their mission to cure homelessness. Purchase tickets here.\n\n Wine Tasting of Local & International Wines Live music from Gene Cannon Magician Patrick Francis Silent Auction & 50/50 Raffle
URL:https://jfkicksrestaurant.com/event/sips-for-shelter-wine-tasting/
CATEGORIES:Community,Drinks,Food,Fundraising,Music,Performance
ATTACH;FMTTYPE=image/jpeg:https://jfkicksrestaurant.com/wp-content/uploads/2024/07/Sips-for-Shelter-August-2024.jpeg
END:VEVENT
BEGIN:VEVENT
DTSTART;TZID=America/New_York:20240622T130000
DTEND;TZID=America/New_York:20240622T170000
DTSTAMP:20260420T125905
CREATED:20240424T135110Z
LAST-MODIFIED:20240614T140838Z
UID:10005294-1719061200-1719075600@jfkicksrestaurant.com
SUMMARY:CANCELED - Rock Out Pediatric Cancer Lip Sync Battle
DESCRIPTION:This event has been canceled. \n  \nCome join us for a night of fun and fundraising! Show off your lip-syncing skills and help us raise money to fight pediatric cancer. Whether you’re a seasoned performer or just looking to have a good time\, this event is for you. Grab your friends\, pick your favorite song\, and get ready to rock the stage. \nLet’s come together to make a difference and support a great cause. See you there! \nSign up at our Eventbrite page here.
URL:https://jfkicksrestaurant.com/event/rock-out-pediatric-cancer-lip-sync-battle/
CATEGORIES:Community,Fundraising,Music
ATTACH;FMTTYPE=image/jpeg:https://jfkicksrestaurant.com/wp-content/uploads/2024/04/Lip-Sync-Battle-June-2024.jpeg
END:VEVENT
BEGIN:VEVENT
DTSTART;TZID=America/New_York:20240505T130000
DTEND;TZID=America/New_York:20240505T160000
DTSTAMP:20260420T125905
CREATED:20240424T142051Z
LAST-MODIFIED:20240505T152444Z
UID:10005296-1714914000-1714924800@jfkicksrestaurant.com
SUMMARY:Let There Be Rock
DESCRIPTION:We’re having a special event for Let There Be Rock Riverview inside JF Kicks! It’s a $10 cover to benefit the school\, and all are invited to attend. Enjoy a music show featuring talented bands performing live. Our covered patio will also be open to all patrons!
URL:https://jfkicksrestaurant.com/event/let-there-be-rock/
LOCATION:Inside Main Stage
CATEGORIES:Community,Fundraising,Music
ATTACH;FMTTYPE=image/jpeg:https://jfkicksrestaurant.com/wp-content/uploads/2024/03/Let-There-Be-Rock-Schools-Logo.jpeg
END:VEVENT
BEGIN:VEVENT
DTSTART;TZID=America/New_York:20240417T173000
DTEND;TZID=America/New_York:20240417T191500
DTSTAMP:20260420T125905
CREATED:20240227T032058Z
LAST-MODIFIED:20240325T144823Z
UID:10004202-1713375000-1713381300@jfkicksrestaurant.com
SUMMARY:Dance For Donations Spirit Night
DESCRIPTION:Come and support a local non-profit “Dance for Donations” tonight at 5:30! 10% of sales go towards breathing the art of dance into some great young kids.
URL:https://jfkicksrestaurant.com/event/dance-for-donations-spirit-night/
LOCATION:Inside Main Stage
CATEGORIES:Community,Fundraising,Performance
ATTACH;FMTTYPE=image/png:https://jfkicksrestaurant.com/wp-content/uploads/2023/11/JF-Kicks-Round-Brick-Logo-20_web.png
END:VEVENT
END:VCALENDAR