BEGIN:VCALENDAR
VERSION:2.0
PRODID:-//JF Kicks Restaurant - ECPv6.15.18//NONSGML v1.0//EN
CALSCALE:GREGORIAN
METHOD:PUBLISH
X-ORIGINAL-URL:https://jfkicksrestaurant.com
X-WR-CALDESC:Events for JF Kicks Restaurant
REFRESH-INTERVAL;VALUE=DURATION:PT1H
X-Robots-Tag:noindex
X-PUBLISHED-TTL:PT1H
BEGIN:VTIMEZONE
TZID:America/New_York
BEGIN:DAYLIGHT
TZOFFSETFROM:-0500
TZOFFSETTO:-0400
TZNAME:EDT
DTSTART:20240310T070000
END:DAYLIGHT
BEGIN:STANDARD
TZOFFSETFROM:-0400
TZOFFSETTO:-0500
TZNAME:EST
DTSTART:20241103T060000
END:STANDARD
BEGIN:DAYLIGHT
TZOFFSETFROM:-0500
TZOFFSETTO:-0400
TZNAME:EDT
DTSTART:20250309T070000
END:DAYLIGHT
BEGIN:STANDARD
TZOFFSETFROM:-0400
TZOFFSETTO:-0500
TZNAME:EST
DTSTART:20251102T060000
END:STANDARD
BEGIN:DAYLIGHT
TZOFFSETFROM:-0500
TZOFFSETTO:-0400
TZNAME:EDT
DTSTART:20260308T070000
END:DAYLIGHT
BEGIN:STANDARD
TZOFFSETFROM:-0400
TZOFFSETTO:-0500
TZNAME:EST
DTSTART:20261101T060000
END:STANDARD
END:VTIMEZONE
BEGIN:VEVENT
DTSTART;TZID=America/New_York:20251115T160000
DTEND;TZID=America/New_York:20251115T210000
DTSTAMP:20260423T155426
CREATED:20231220T071858Z
LAST-MODIFIED:20240115T134139Z
UID:10003313-1763222400-1763240400@jfkicksrestaurant.com
SUMMARY:Half Priced Peel-N-Eat Shrimp Dinner Special
DESCRIPTION:Saturdays we offer Half Priced Peel-N-Eat Shrimp from 4-9pm!
URL:https://jfkicksrestaurant.com/event/half-price-peel-n-eat-shrimp/2025-11-15/
CATEGORIES:Food
ATTACH;FMTTYPE=image/jpeg:https://jfkicksrestaurant.com/wp-content/uploads/2023/12/410739926_777516257729740_5467180394573693269_n.jpg
END:VEVENT
BEGIN:VEVENT
DTSTART;VALUE=DATE:20251117
DTEND;VALUE=DATE:20251119
DTSTAMP:20260423T155426
CREATED:20250829T152007Z
LAST-MODIFIED:20250829T152054Z
UID:10007321-1763344800-1763431199@jfkicksrestaurant.com
SUMMARY:Smash Burger Special
DESCRIPTION:On Mondays\, enjoy our Smash Burger special all day – a delicious smash burger served with Gaelic chips for $10.95. Available for dine-in only.
URL:https://jfkicksrestaurant.com/event/smash-burger-special/2025-11-17/
CATEGORIES:Food
ATTACH;FMTTYPE=image/jpeg:https://jfkicksrestaurant.com/wp-content/uploads/2025/08/Smash-Burger-Monday-Aug-2025.jpg
END:VEVENT
BEGIN:VEVENT
DTSTART;VALUE=DATE:20251117
DTEND;VALUE=DATE:20251119
DTSTAMP:20260423T155426
CREATED:20250829T152603Z
LAST-MODIFIED:20250829T152603Z
UID:10007842-1763344800-1763431199@jfkicksrestaurant.com
SUMMARY:Kids Eat Free
DESCRIPTION:All day on Mondays\, kids 12 and under eat free with the purchase of a single item valued at $15 or more. This offer is available for dine-in only.
URL:https://jfkicksrestaurant.com/event/kids-eat-free/2025-11-17/
CATEGORIES:Food
ATTACH;FMTTYPE=image/jpeg:https://jfkicksrestaurant.com/wp-content/uploads/2025/08/Kids-Eat-Free-Mondays-Aug-2025.jpg
END:VEVENT
BEGIN:VEVENT
DTSTART;VALUE=DATE:20251117
DTEND;VALUE=DATE:20251119
DTSTAMP:20260423T155426
CREATED:20251017T124353Z
LAST-MODIFIED:20251017T124456Z
UID:10008545-1763344800-1763431199@jfkicksrestaurant.com
SUMMARY:Monday Night Football Specials
DESCRIPTION:Monday Night Football is at JF Kicks. Check out our Monday Night Football specials: \n\n$5 Jack Daniels\n$4 Shot Specials\n$18.95 Domestic Buckets\n$24.95 Import Buckets\n$28.95 Seltzer Buckets\nHappy Hour Specials 11am-7pm\n$10.95 Smash Burger
URL:https://jfkicksrestaurant.com/event/monday-night-football-specials/2025-11-17/
CATEGORIES:Drinks,Food,Sports
ATTACH;FMTTYPE=image/jpeg:https://jfkicksrestaurant.com/wp-content/uploads/2025/10/Monday-Night-Football-specials-2025-downsized.jpg
END:VEVENT
BEGIN:VEVENT
DTSTART;VALUE=DATE:20251118
DTEND;VALUE=DATE:20251120
DTSTAMP:20260423T155426
CREATED:20250829T152333Z
LAST-MODIFIED:20260105T232636Z
UID:10007581-1763431200-1763517599@jfkicksrestaurant.com
SUMMARY:Taco Tuesday
DESCRIPTION:Come on in for our 3 for $6 tacos ordered with a hard or soft shell and beef or chicken! We $5 Margaritas too!
URL:https://jfkicksrestaurant.com/event/taco-tuesday-2/2025-11-18/
CATEGORIES:Food
ATTACH;FMTTYPE=image/jpeg:https://jfkicksrestaurant.com/wp-content/uploads/2023/12/Taco-Tuesday-2-11-2025.jpg
END:VEVENT
BEGIN:VEVENT
DTSTART;VALUE=DATE:20251119
DTEND;VALUE=DATE:20251121
DTSTAMP:20260423T155426
CREATED:20231220T214515Z
LAST-MODIFIED:20260312T171055Z
UID:10009761-1763517600-1763603999@jfkicksrestaurant.com
SUMMARY:Pasta Night
DESCRIPTION:Wednesday is Pasta Night! Get our Chicken Parmesan or Spaghetti & Meatball Dinner for just $12.99 or Chicken Parmesan or Meatball Sub for only $10.99! Pair with a glass of our house wine on happy hour\, ’til 7pm!
URL:https://jfkicksrestaurant.com/event/pasta-night-every-wednesday/2025-11-19/
CATEGORIES:Food
ATTACH;FMTTYPE=image/jpeg:https://jfkicksrestaurant.com/wp-content/uploads/2023/12/412409329_780079227473443_7247072684232210429_n.jpg
END:VEVENT
BEGIN:VEVENT
DTSTART;VALUE=DATE:20251120
DTEND;VALUE=DATE:20251122
DTSTAMP:20260423T155426
CREATED:20250906T170157Z
LAST-MODIFIED:20251120T125300Z
UID:10008468-1763604000-1763690399@jfkicksrestaurant.com
SUMMARY:Thursday Night Football Specials
DESCRIPTION:Come watch Thursday Night Football at JF Kicks. Check out our Thursday Night Football specials: \n\n$5 Jack Daniels\n$4 Shot Specials\n$18.95 Domestic Buckets\n$24.95 Import Buckets\n$28.95 Seltzer Buckets\n$12.95 Chicken Wing Basket – 6 Bone-In or 10 Boneless Wings with French Fries
URL:https://jfkicksrestaurant.com/event/thursday-night-football-specials/2025-11-20/
CATEGORIES:Drinks,Food,Sports
ATTACH;FMTTYPE=image/jpeg:https://jfkicksrestaurant.com/wp-content/uploads/2025/09/Thursday-NFL-Drink-Specials-cropped.jpg
END:VEVENT
BEGIN:VEVENT
DTSTART;TZID=America/New_York:20251120T180000
DTEND;TZID=America/New_York:20251120T210000
DTSTAMP:20260423T155426
CREATED:20251017T123712Z
LAST-MODIFIED:20251113T034511Z
UID:10008539-1763661600-1763672400@jfkicksrestaurant.com
SUMMARY:Bike Night
DESCRIPTION:It’s Bike Night at Kicks! Join us for a night with vendors\, food and drink specials\, Thursday Night Football\, and live music. It’s fun for all and free to the public.
URL:https://jfkicksrestaurant.com/event/bike-night-2/
CATEGORIES:Community,Drinks,Food,Music
ATTACH;FMTTYPE=image/jpeg:https://jfkicksrestaurant.com/wp-content/uploads/2025/10/Bike-Night-Nov-2025-Live-Music.jpg
END:VEVENT
BEGIN:VEVENT
DTSTART;VALUE=DATE:20251121
DTEND;VALUE=DATE:20251123
DTSTAMP:20260423T155426
CREATED:20240115T130234Z
LAST-MODIFIED:20250901T230000Z
UID:10008191-1763690400-1763776799@jfkicksrestaurant.com
SUMMARY:All You Can Eat Fish & Chips
DESCRIPTION:Delicious\, crispy All You Can Eat Fish & Chips for $14.95 every Friday all day!
URL:https://jfkicksrestaurant.com/event/all-you-can-eat-fish-chips/2025-11-21/
CATEGORIES:Food
ATTACH;FMTTYPE=image/jpeg:https://jfkicksrestaurant.com/wp-content/uploads/2024/01/All-You-Can-Eat-Fish-n-Chips-January-2025.jpg.jpeg
END:VEVENT
BEGIN:VEVENT
DTSTART;VALUE=DATE:20251122
DTEND;VALUE=DATE:20251124
DTSTAMP:20260423T155426
CREATED:20250906T165304Z
LAST-MODIFIED:20250906T165304Z
UID:10008452-1763776800-1763863199@jfkicksrestaurant.com
SUMMARY:College Football Specials
DESCRIPTION:Check out our Saturday College Football specials: \n\nHalf-Priced Peel n’ Eat Shrimp\n$5 Jack Daniels\n$4 Shot Specials\n$18.95 Domestic Buckets\n$24.95 Import Buckets\n$28.95 Seltzer Buckets\n$6.50 Tito’s Zing Zang Bloody Marys
URL:https://jfkicksrestaurant.com/event/college-football-specials/2025-11-22/
CATEGORIES:Drinks,Food,Sports
ATTACH;FMTTYPE=image/jpeg:https://jfkicksrestaurant.com/wp-content/uploads/2025/09/Saturday-College-Football-Specials-Sept-2025-cropped.jpg
END:VEVENT
BEGIN:VEVENT
DTSTART;TZID=America/New_York:20251122T110000
DTEND;TZID=America/New_York:20251122T150000
DTSTAMP:20260423T155426
CREATED:20240115T134039Z
LAST-MODIFIED:20241116T043704Z
UID:10005581-1763809200-1763823600@jfkicksrestaurant.com
SUMMARY:Shaved Prime Rib Sandwich Lunch Special
DESCRIPTION:Try our Saturday lunch special\, Shaved Prime Rib on a garlic grilled hoagie with horsey sauce\, onions\, mushrooms\, and cheddarjack cheese served with side of fries for $12.95.
URL:https://jfkicksrestaurant.com/event/shaved-prime-rib-sandwich-lunch-special/2025-11-22/
CATEGORIES:Food
ATTACH;FMTTYPE=image/jpeg:https://jfkicksrestaurant.com/wp-content/uploads/2024/01/Shaved-Prime-Rib-Sandwich-.jpg
END:VEVENT
BEGIN:VEVENT
DTSTART;TZID=America/New_York:20251122T160000
DTEND;TZID=America/New_York:20251122T210000
DTSTAMP:20260423T155426
CREATED:20231220T071858Z
LAST-MODIFIED:20240115T134139Z
UID:10003314-1763827200-1763845200@jfkicksrestaurant.com
SUMMARY:Half Priced Peel-N-Eat Shrimp Dinner Special
DESCRIPTION:Saturdays we offer Half Priced Peel-N-Eat Shrimp from 4-9pm!
URL:https://jfkicksrestaurant.com/event/half-price-peel-n-eat-shrimp/2025-11-22/
CATEGORIES:Food
ATTACH;FMTTYPE=image/jpeg:https://jfkicksrestaurant.com/wp-content/uploads/2023/12/410739926_777516257729740_5467180394573693269_n.jpg
END:VEVENT
BEGIN:VEVENT
DTSTART;VALUE=DATE:20251124
DTEND;VALUE=DATE:20251126
DTSTAMP:20260423T155426
CREATED:20250829T152007Z
LAST-MODIFIED:20250829T152054Z
UID:10007322-1763949600-1764035999@jfkicksrestaurant.com
SUMMARY:Smash Burger Special
DESCRIPTION:On Mondays\, enjoy our Smash Burger special all day – a delicious smash burger served with Gaelic chips for $10.95. Available for dine-in only.
URL:https://jfkicksrestaurant.com/event/smash-burger-special/2025-11-24/
CATEGORIES:Food
ATTACH;FMTTYPE=image/jpeg:https://jfkicksrestaurant.com/wp-content/uploads/2025/08/Smash-Burger-Monday-Aug-2025.jpg
END:VEVENT
BEGIN:VEVENT
DTSTART;VALUE=DATE:20251124
DTEND;VALUE=DATE:20251126
DTSTAMP:20260423T155426
CREATED:20250829T152603Z
LAST-MODIFIED:20250829T152603Z
UID:10007843-1763949600-1764035999@jfkicksrestaurant.com
SUMMARY:Kids Eat Free
DESCRIPTION:All day on Mondays\, kids 12 and under eat free with the purchase of a single item valued at $15 or more. This offer is available for dine-in only.
URL:https://jfkicksrestaurant.com/event/kids-eat-free/2025-11-24/
CATEGORIES:Food
ATTACH;FMTTYPE=image/jpeg:https://jfkicksrestaurant.com/wp-content/uploads/2025/08/Kids-Eat-Free-Mondays-Aug-2025.jpg
END:VEVENT
BEGIN:VEVENT
DTSTART;VALUE=DATE:20251124
DTEND;VALUE=DATE:20251126
DTSTAMP:20260423T155426
CREATED:20251017T124353Z
LAST-MODIFIED:20251017T124456Z
UID:10008546-1763949600-1764035999@jfkicksrestaurant.com
SUMMARY:Monday Night Football Specials
DESCRIPTION:Monday Night Football is at JF Kicks. Check out our Monday Night Football specials: \n\n$5 Jack Daniels\n$4 Shot Specials\n$18.95 Domestic Buckets\n$24.95 Import Buckets\n$28.95 Seltzer Buckets\nHappy Hour Specials 11am-7pm\n$10.95 Smash Burger
URL:https://jfkicksrestaurant.com/event/monday-night-football-specials/2025-11-24/
CATEGORIES:Drinks,Food,Sports
ATTACH;FMTTYPE=image/jpeg:https://jfkicksrestaurant.com/wp-content/uploads/2025/10/Monday-Night-Football-specials-2025-downsized.jpg
END:VEVENT
BEGIN:VEVENT
DTSTART;VALUE=DATE:20251125
DTEND;VALUE=DATE:20251127
DTSTAMP:20260423T155426
CREATED:20250829T152333Z
LAST-MODIFIED:20260105T232636Z
UID:10007582-1764036000-1764122399@jfkicksrestaurant.com
SUMMARY:Taco Tuesday
DESCRIPTION:Come on in for our 3 for $6 tacos ordered with a hard or soft shell and beef or chicken! We $5 Margaritas too!
URL:https://jfkicksrestaurant.com/event/taco-tuesday-2/2025-11-25/
CATEGORIES:Food
ATTACH;FMTTYPE=image/jpeg:https://jfkicksrestaurant.com/wp-content/uploads/2023/12/Taco-Tuesday-2-11-2025.jpg
END:VEVENT
BEGIN:VEVENT
DTSTART;VALUE=DATE:20251126
DTEND;VALUE=DATE:20251128
DTSTAMP:20260423T155426
CREATED:20231220T214515Z
LAST-MODIFIED:20260312T171055Z
UID:10009762-1764122400-1764208799@jfkicksrestaurant.com
SUMMARY:Pasta Night
DESCRIPTION:Wednesday is Pasta Night! Get our Chicken Parmesan or Spaghetti & Meatball Dinner for just $12.99 or Chicken Parmesan or Meatball Sub for only $10.99! Pair with a glass of our house wine on happy hour\, ’til 7pm!
URL:https://jfkicksrestaurant.com/event/pasta-night-every-wednesday/2025-11-26/
CATEGORIES:Food
ATTACH;FMTTYPE=image/jpeg:https://jfkicksrestaurant.com/wp-content/uploads/2023/12/412409329_780079227473443_7247072684232210429_n.jpg
END:VEVENT
BEGIN:VEVENT
DTSTART;TZID=America/New_York:20251126T190000
DTEND;TZID=America/New_York:20251126T230000
DTSTAMP:20260423T155426
CREATED:20251120T125850Z
LAST-MODIFIED:20251120T130038Z
UID:10008562-1764183600-1764198000@jfkicksrestaurant.com
SUMMARY:The Night Before Kicksgiving
DESCRIPTION:Get ready for Thanksgiving with The Night Before Kicksgiving! Come play Singo Music Bingo and Pub Poll. Plus DJ Vic will be playing all your favorite music on our heated\, covered patio! Enjoy food and drink specials too. The perfect way to get in the holiday spirit.
URL:https://jfkicksrestaurant.com/event/the-night-before-thanksgiving/
CATEGORIES:Drinks,Food,Game,Holiday,Music
ATTACH;FMTTYPE=image/jpeg:https://jfkicksrestaurant.com/wp-content/uploads/2025/11/Night-Before-Thanksgiving-Nov-26-2025.jpg
END:VEVENT
BEGIN:VEVENT
DTSTART;VALUE=DATE:20251128
DTEND;VALUE=DATE:20251130
DTSTAMP:20260423T155426
CREATED:20240115T130234Z
LAST-MODIFIED:20250901T230000Z
UID:10008192-1764295200-1764381599@jfkicksrestaurant.com
SUMMARY:All You Can Eat Fish & Chips
DESCRIPTION:Delicious\, crispy All You Can Eat Fish & Chips for $14.95 every Friday all day!
URL:https://jfkicksrestaurant.com/event/all-you-can-eat-fish-chips/2025-11-28/
CATEGORIES:Food
ATTACH;FMTTYPE=image/jpeg:https://jfkicksrestaurant.com/wp-content/uploads/2024/01/All-You-Can-Eat-Fish-n-Chips-January-2025.jpg.jpeg
END:VEVENT
BEGIN:VEVENT
DTSTART;VALUE=DATE:20251129
DTEND;VALUE=DATE:20251201
DTSTAMP:20260423T155426
CREATED:20250906T165304Z
LAST-MODIFIED:20250906T165304Z
UID:10008453-1764381600-1764467999@jfkicksrestaurant.com
SUMMARY:College Football Specials
DESCRIPTION:Check out our Saturday College Football specials: \n\nHalf-Priced Peel n’ Eat Shrimp\n$5 Jack Daniels\n$4 Shot Specials\n$18.95 Domestic Buckets\n$24.95 Import Buckets\n$28.95 Seltzer Buckets\n$6.50 Tito’s Zing Zang Bloody Marys
URL:https://jfkicksrestaurant.com/event/college-football-specials/2025-11-29/
CATEGORIES:Drinks,Food,Sports
ATTACH;FMTTYPE=image/jpeg:https://jfkicksrestaurant.com/wp-content/uploads/2025/09/Saturday-College-Football-Specials-Sept-2025-cropped.jpg
END:VEVENT
BEGIN:VEVENT
DTSTART;TZID=America/New_York:20251129T110000
DTEND;TZID=America/New_York:20251129T150000
DTSTAMP:20260423T155426
CREATED:20240115T134039Z
LAST-MODIFIED:20241116T043704Z
UID:10005582-1764414000-1764428400@jfkicksrestaurant.com
SUMMARY:Shaved Prime Rib Sandwich Lunch Special
DESCRIPTION:Try our Saturday lunch special\, Shaved Prime Rib on a garlic grilled hoagie with horsey sauce\, onions\, mushrooms\, and cheddarjack cheese served with side of fries for $12.95.
URL:https://jfkicksrestaurant.com/event/shaved-prime-rib-sandwich-lunch-special/2025-11-29/
CATEGORIES:Food
ATTACH;FMTTYPE=image/jpeg:https://jfkicksrestaurant.com/wp-content/uploads/2024/01/Shaved-Prime-Rib-Sandwich-.jpg
END:VEVENT
BEGIN:VEVENT
DTSTART;TZID=America/New_York:20251129T160000
DTEND;TZID=America/New_York:20251129T210000
DTSTAMP:20260423T155426
CREATED:20231220T071858Z
LAST-MODIFIED:20240115T134139Z
UID:10003315-1764432000-1764450000@jfkicksrestaurant.com
SUMMARY:Half Priced Peel-N-Eat Shrimp Dinner Special
DESCRIPTION:Saturdays we offer Half Priced Peel-N-Eat Shrimp from 4-9pm!
URL:https://jfkicksrestaurant.com/event/half-price-peel-n-eat-shrimp/2025-11-29/
CATEGORIES:Food
ATTACH;FMTTYPE=image/jpeg:https://jfkicksrestaurant.com/wp-content/uploads/2023/12/410739926_777516257729740_5467180394573693269_n.jpg
END:VEVENT
BEGIN:VEVENT
DTSTART;VALUE=DATE:20251201
DTEND;VALUE=DATE:20251203
DTSTAMP:20260423T155426
CREATED:20250829T152007Z
LAST-MODIFIED:20250829T152054Z
UID:10007323-1764554400-1764640799@jfkicksrestaurant.com
SUMMARY:Smash Burger Special
DESCRIPTION:On Mondays\, enjoy our Smash Burger special all day – a delicious smash burger served with Gaelic chips for $10.95. Available for dine-in only.
URL:https://jfkicksrestaurant.com/event/smash-burger-special/2025-12-01/
CATEGORIES:Food
ATTACH;FMTTYPE=image/jpeg:https://jfkicksrestaurant.com/wp-content/uploads/2025/08/Smash-Burger-Monday-Aug-2025.jpg
END:VEVENT
BEGIN:VEVENT
DTSTART;VALUE=DATE:20251201
DTEND;VALUE=DATE:20251203
DTSTAMP:20260423T155426
CREATED:20250829T152603Z
LAST-MODIFIED:20250829T152603Z
UID:10007844-1764554400-1764640799@jfkicksrestaurant.com
SUMMARY:Kids Eat Free
DESCRIPTION:All day on Mondays\, kids 12 and under eat free with the purchase of a single item valued at $15 or more. This offer is available for dine-in only.
URL:https://jfkicksrestaurant.com/event/kids-eat-free/2025-12-01/
CATEGORIES:Food
ATTACH;FMTTYPE=image/jpeg:https://jfkicksrestaurant.com/wp-content/uploads/2025/08/Kids-Eat-Free-Mondays-Aug-2025.jpg
END:VEVENT
BEGIN:VEVENT
DTSTART;VALUE=DATE:20251201
DTEND;VALUE=DATE:20251203
DTSTAMP:20260423T155426
CREATED:20251017T124353Z
LAST-MODIFIED:20251017T124456Z
UID:10008547-1764554400-1764640799@jfkicksrestaurant.com
SUMMARY:Monday Night Football Specials
DESCRIPTION:Monday Night Football is at JF Kicks. Check out our Monday Night Football specials: \n\n$5 Jack Daniels\n$4 Shot Specials\n$18.95 Domestic Buckets\n$24.95 Import Buckets\n$28.95 Seltzer Buckets\nHappy Hour Specials 11am-7pm\n$10.95 Smash Burger
URL:https://jfkicksrestaurant.com/event/monday-night-football-specials/2025-12-01/
CATEGORIES:Drinks,Food,Sports
ATTACH;FMTTYPE=image/jpeg:https://jfkicksrestaurant.com/wp-content/uploads/2025/10/Monday-Night-Football-specials-2025-downsized.jpg
END:VEVENT
BEGIN:VEVENT
DTSTART;VALUE=DATE:20251202
DTEND;VALUE=DATE:20251204
DTSTAMP:20260423T155426
CREATED:20250829T152333Z
LAST-MODIFIED:20260105T232636Z
UID:10007583-1764640800-1764727199@jfkicksrestaurant.com
SUMMARY:Taco Tuesday
DESCRIPTION:Come on in for our 3 for $6 tacos ordered with a hard or soft shell and beef or chicken! We $5 Margaritas too!
URL:https://jfkicksrestaurant.com/event/taco-tuesday-2/2025-12-02/
CATEGORIES:Food
ATTACH;FMTTYPE=image/jpeg:https://jfkicksrestaurant.com/wp-content/uploads/2023/12/Taco-Tuesday-2-11-2025.jpg
END:VEVENT
BEGIN:VEVENT
DTSTART;VALUE=DATE:20251203
DTEND;VALUE=DATE:20251205
DTSTAMP:20260423T155426
CREATED:20231220T214515Z
LAST-MODIFIED:20260312T171055Z
UID:10009763-1764727200-1764813599@jfkicksrestaurant.com
SUMMARY:Pasta Night
DESCRIPTION:Wednesday is Pasta Night! Get our Chicken Parmesan or Spaghetti & Meatball Dinner for just $12.99 or Chicken Parmesan or Meatball Sub for only $10.99! Pair with a glass of our house wine on happy hour\, ’til 7pm!
URL:https://jfkicksrestaurant.com/event/pasta-night-every-wednesday/2025-12-03/
CATEGORIES:Food
ATTACH;FMTTYPE=image/jpeg:https://jfkicksrestaurant.com/wp-content/uploads/2023/12/412409329_780079227473443_7247072684232210429_n.jpg
END:VEVENT
BEGIN:VEVENT
DTSTART;VALUE=DATE:20251204
DTEND;VALUE=DATE:20251206
DTSTAMP:20260423T155426
CREATED:20250906T170157Z
LAST-MODIFIED:20251120T125300Z
UID:10008470-1764813600-1764899999@jfkicksrestaurant.com
SUMMARY:Thursday Night Football Specials
DESCRIPTION:Come watch Thursday Night Football at JF Kicks. Check out our Thursday Night Football specials: \n\n$5 Jack Daniels\n$4 Shot Specials\n$18.95 Domestic Buckets\n$24.95 Import Buckets\n$28.95 Seltzer Buckets\n$12.95 Chicken Wing Basket – 6 Bone-In or 10 Boneless Wings with French Fries
URL:https://jfkicksrestaurant.com/event/thursday-night-football-specials/2025-12-04/
CATEGORIES:Drinks,Food,Sports
ATTACH;FMTTYPE=image/jpeg:https://jfkicksrestaurant.com/wp-content/uploads/2025/09/Thursday-NFL-Drink-Specials-cropped.jpg
END:VEVENT
BEGIN:VEVENT
DTSTART;VALUE=DATE:20251205
DTEND;VALUE=DATE:20251207
DTSTAMP:20260423T155426
CREATED:20240115T130234Z
LAST-MODIFIED:20250901T230000Z
UID:10008193-1764900000-1764986399@jfkicksrestaurant.com
SUMMARY:All You Can Eat Fish & Chips
DESCRIPTION:Delicious\, crispy All You Can Eat Fish & Chips for $14.95 every Friday all day!
URL:https://jfkicksrestaurant.com/event/all-you-can-eat-fish-chips/2025-12-05/
CATEGORIES:Food
ATTACH;FMTTYPE=image/jpeg:https://jfkicksrestaurant.com/wp-content/uploads/2024/01/All-You-Can-Eat-Fish-n-Chips-January-2025.jpg.jpeg
END:VEVENT
BEGIN:VEVENT
DTSTART;TZID=America/New_York:20251205T180000
DTEND;TZID=America/New_York:20251205T220000
DTSTAMP:20260423T155426
CREATED:20251124T112313Z
LAST-MODIFIED:20251124T112313Z
UID:10008576-1764957600-1764972000@jfkicksrestaurant.com
SUMMARY:Christmas Olympics
DESCRIPTION:Lots of fun and games at the Christmas Olympics fundraiser for A1 Opportunities\, who help folks in need with outreach and support\, including housing. There will be music\, Karaoke\, a prize for best dressed\, and more! A ticket gets you a buffet style meal and a drink ticket. Call 813-313-9943 or email info@a1opportunities.org to RSVP
URL:https://jfkicksrestaurant.com/event/christmas-olympics/
CATEGORIES:Community,Drinks,Food,Fundraising,Game,Holiday,Music
ATTACH;FMTTYPE=image/jpeg:https://jfkicksrestaurant.com/wp-content/uploads/2025/11/Christmas-Olympics-Dec-5-2025.jpg
END:VEVENT
END:VCALENDAR