BEGIN:VCALENDAR
VERSION:2.0
PRODID:-//JF Kicks Restaurant - ECPv6.15.18//NONSGML v1.0//EN
CALSCALE:GREGORIAN
METHOD:PUBLISH
X-WR-CALNAME:JF Kicks Restaurant
X-ORIGINAL-URL:https://jfkicksrestaurant.com
X-WR-CALDESC:Events for JF Kicks Restaurant
REFRESH-INTERVAL;VALUE=DURATION:PT1H
X-Robots-Tag:noindex
X-PUBLISHED-TTL:PT1H
BEGIN:VTIMEZONE
TZID:America/New_York
BEGIN:DAYLIGHT
TZOFFSETFROM:-0500
TZOFFSETTO:-0400
TZNAME:EDT
DTSTART:20240310T070000
END:DAYLIGHT
BEGIN:STANDARD
TZOFFSETFROM:-0400
TZOFFSETTO:-0500
TZNAME:EST
DTSTART:20241103T060000
END:STANDARD
BEGIN:DAYLIGHT
TZOFFSETFROM:-0500
TZOFFSETTO:-0400
TZNAME:EDT
DTSTART:20250309T070000
END:DAYLIGHT
BEGIN:STANDARD
TZOFFSETFROM:-0400
TZOFFSETTO:-0500
TZNAME:EST
DTSTART:20251102T060000
END:STANDARD
BEGIN:DAYLIGHT
TZOFFSETFROM:-0500
TZOFFSETTO:-0400
TZNAME:EDT
DTSTART:20260308T070000
END:DAYLIGHT
BEGIN:STANDARD
TZOFFSETFROM:-0400
TZOFFSETTO:-0500
TZNAME:EST
DTSTART:20261101T060000
END:STANDARD
BEGIN:DAYLIGHT
TZOFFSETFROM:-0500
TZOFFSETTO:-0400
TZNAME:EDT
DTSTART:20270314T070000
END:DAYLIGHT
BEGIN:STANDARD
TZOFFSETFROM:-0400
TZOFFSETTO:-0500
TZNAME:EST
DTSTART:20271107T060000
END:STANDARD
END:VTIMEZONE
BEGIN:VEVENT
DTSTART;VALUE=DATE:20251223
DTEND;VALUE=DATE:20251225
DTSTAMP:20260423T113827
CREATED:20250829T152333Z
LAST-MODIFIED:20260105T232636Z
UID:10007586-1766455200-1766541599@jfkicksrestaurant.com
SUMMARY:Taco Tuesday
DESCRIPTION:Come on in for our 3 for $6 tacos ordered with a hard or soft shell and beef or chicken! We $5 Margaritas too!
URL:https://jfkicksrestaurant.com/event/taco-tuesday-2/2025-12-23/
CATEGORIES:Food
ATTACH;FMTTYPE=image/jpeg:https://jfkicksrestaurant.com/wp-content/uploads/2023/12/Taco-Tuesday-2-11-2025.jpg
END:VEVENT
BEGIN:VEVENT
DTSTART;VALUE=DATE:20251224
DTEND;VALUE=DATE:20251226
DTSTAMP:20260423T113827
CREATED:20231220T214515Z
LAST-MODIFIED:20260312T171055Z
UID:10009766-1766541600-1766627999@jfkicksrestaurant.com
SUMMARY:Pasta Night
DESCRIPTION:Wednesday is Pasta Night! Get our Chicken Parmesan or Spaghetti & Meatball Dinner for just $12.99 or Chicken Parmesan or Meatball Sub for only $10.99! Pair with a glass of our house wine on happy hour\, ’til 7pm!
URL:https://jfkicksrestaurant.com/event/pasta-night-every-wednesday/2025-12-24/
CATEGORIES:Food
ATTACH;FMTTYPE=image/jpeg:https://jfkicksrestaurant.com/wp-content/uploads/2023/12/412409329_780079227473443_7247072684232210429_n.jpg
END:VEVENT
BEGIN:VEVENT
DTSTART;VALUE=DATE:20251225
DTEND;VALUE=DATE:20251227
DTSTAMP:20260423T113827
CREATED:20250906T170157Z
LAST-MODIFIED:20251120T125300Z
UID:10008473-1766628000-1766714399@jfkicksrestaurant.com
SUMMARY:Thursday Night Football Specials
DESCRIPTION:Come watch Thursday Night Football at JF Kicks. Check out our Thursday Night Football specials: \n\n$5 Jack Daniels\n$4 Shot Specials\n$18.95 Domestic Buckets\n$24.95 Import Buckets\n$28.95 Seltzer Buckets\n$12.95 Chicken Wing Basket – 6 Bone-In or 10 Boneless Wings with French Fries
URL:https://jfkicksrestaurant.com/event/thursday-night-football-specials/2025-12-25/
CATEGORIES:Drinks,Food,Sports
ATTACH;FMTTYPE=image/jpeg:https://jfkicksrestaurant.com/wp-content/uploads/2025/09/Thursday-NFL-Drink-Specials-cropped.jpg
END:VEVENT
BEGIN:VEVENT
DTSTART;VALUE=DATE:20251226
DTEND;VALUE=DATE:20251228
DTSTAMP:20260423T113827
CREATED:20240115T130234Z
LAST-MODIFIED:20250901T230000Z
UID:10008196-1766714400-1766800799@jfkicksrestaurant.com
SUMMARY:All You Can Eat Fish & Chips
DESCRIPTION:Delicious\, crispy All You Can Eat Fish & Chips for $14.95 every Friday all day!
URL:https://jfkicksrestaurant.com/event/all-you-can-eat-fish-chips/2025-12-26/
CATEGORIES:Food
ATTACH;FMTTYPE=image/jpeg:https://jfkicksrestaurant.com/wp-content/uploads/2024/01/All-You-Can-Eat-Fish-n-Chips-January-2025.jpg.jpeg
END:VEVENT
BEGIN:VEVENT
DTSTART;VALUE=DATE:20251227
DTEND;VALUE=DATE:20251229
DTSTAMP:20260423T113827
CREATED:20250906T165304Z
LAST-MODIFIED:20250906T165304Z
UID:10008457-1766800800-1766887199@jfkicksrestaurant.com
SUMMARY:College Football Specials
DESCRIPTION:Check out our Saturday College Football specials: \n\nHalf-Priced Peel n’ Eat Shrimp\n$5 Jack Daniels\n$4 Shot Specials\n$18.95 Domestic Buckets\n$24.95 Import Buckets\n$28.95 Seltzer Buckets\n$6.50 Tito’s Zing Zang Bloody Marys
URL:https://jfkicksrestaurant.com/event/college-football-specials/2025-12-27/
CATEGORIES:Drinks,Food,Sports
ATTACH;FMTTYPE=image/jpeg:https://jfkicksrestaurant.com/wp-content/uploads/2025/09/Saturday-College-Football-Specials-Sept-2025-cropped.jpg
END:VEVENT
BEGIN:VEVENT
DTSTART;TZID=America/New_York:20251227T110000
DTEND;TZID=America/New_York:20251227T150000
DTSTAMP:20260423T113827
CREATED:20240115T134039Z
LAST-MODIFIED:20241116T043704Z
UID:10005586-1766833200-1766847600@jfkicksrestaurant.com
SUMMARY:Shaved Prime Rib Sandwich Lunch Special
DESCRIPTION:Try our Saturday lunch special\, Shaved Prime Rib on a garlic grilled hoagie with horsey sauce\, onions\, mushrooms\, and cheddarjack cheese served with side of fries for $12.95.
URL:https://jfkicksrestaurant.com/event/shaved-prime-rib-sandwich-lunch-special/2025-12-27/
CATEGORIES:Food
ATTACH;FMTTYPE=image/jpeg:https://jfkicksrestaurant.com/wp-content/uploads/2024/01/Shaved-Prime-Rib-Sandwich-.jpg
END:VEVENT
BEGIN:VEVENT
DTSTART;TZID=America/New_York:20251227T160000
DTEND;TZID=America/New_York:20251227T210000
DTSTAMP:20260423T113827
CREATED:20231220T071858Z
LAST-MODIFIED:20240115T134139Z
UID:10003319-1766851200-1766869200@jfkicksrestaurant.com
SUMMARY:Half Priced Peel-N-Eat Shrimp Dinner Special
DESCRIPTION:Saturdays we offer Half Priced Peel-N-Eat Shrimp from 4-9pm!
URL:https://jfkicksrestaurant.com/event/half-price-peel-n-eat-shrimp/2025-12-27/
CATEGORIES:Food
ATTACH;FMTTYPE=image/jpeg:https://jfkicksrestaurant.com/wp-content/uploads/2023/12/410739926_777516257729740_5467180394573693269_n.jpg
END:VEVENT
BEGIN:VEVENT
DTSTART;VALUE=DATE:20251229
DTEND;VALUE=DATE:20251231
DTSTAMP:20260423T113827
CREATED:20250829T152007Z
LAST-MODIFIED:20250829T152054Z
UID:10007327-1766973600-1767059999@jfkicksrestaurant.com
SUMMARY:Smash Burger Special
DESCRIPTION:On Mondays\, enjoy our Smash Burger special all day – a delicious smash burger served with Gaelic chips for $10.95. Available for dine-in only.
URL:https://jfkicksrestaurant.com/event/smash-burger-special/2025-12-29/
CATEGORIES:Food
ATTACH;FMTTYPE=image/jpeg:https://jfkicksrestaurant.com/wp-content/uploads/2025/08/Smash-Burger-Monday-Aug-2025.jpg
END:VEVENT
BEGIN:VEVENT
DTSTART;VALUE=DATE:20251229
DTEND;VALUE=DATE:20251231
DTSTAMP:20260423T113827
CREATED:20250829T152603Z
LAST-MODIFIED:20250829T152603Z
UID:10007848-1766973600-1767059999@jfkicksrestaurant.com
SUMMARY:Kids Eat Free
DESCRIPTION:All day on Mondays\, kids 12 and under eat free with the purchase of a single item valued at $15 or more. This offer is available for dine-in only.
URL:https://jfkicksrestaurant.com/event/kids-eat-free/2025-12-29/
CATEGORIES:Food
ATTACH;FMTTYPE=image/jpeg:https://jfkicksrestaurant.com/wp-content/uploads/2025/08/Kids-Eat-Free-Mondays-Aug-2025.jpg
END:VEVENT
BEGIN:VEVENT
DTSTART;VALUE=DATE:20251229
DTEND;VALUE=DATE:20251231
DTSTAMP:20260423T113827
CREATED:20251017T124353Z
LAST-MODIFIED:20251017T124456Z
UID:10008551-1766973600-1767059999@jfkicksrestaurant.com
SUMMARY:Monday Night Football Specials
DESCRIPTION:Monday Night Football is at JF Kicks. Check out our Monday Night Football specials: \n\n$5 Jack Daniels\n$4 Shot Specials\n$18.95 Domestic Buckets\n$24.95 Import Buckets\n$28.95 Seltzer Buckets\nHappy Hour Specials 11am-7pm\n$10.95 Smash Burger
URL:https://jfkicksrestaurant.com/event/monday-night-football-specials/2025-12-29/
CATEGORIES:Drinks,Food,Sports
ATTACH;FMTTYPE=image/jpeg:https://jfkicksrestaurant.com/wp-content/uploads/2025/10/Monday-Night-Football-specials-2025-downsized.jpg
END:VEVENT
BEGIN:VEVENT
DTSTART;VALUE=DATE:20251230
DTEND;VALUE=DATE:20260101
DTSTAMP:20260423T113827
CREATED:20250829T152333Z
LAST-MODIFIED:20260105T232636Z
UID:10007587-1767060000-1767146399@jfkicksrestaurant.com
SUMMARY:Taco Tuesday
DESCRIPTION:Come on in for our 3 for $6 tacos ordered with a hard or soft shell and beef or chicken! We $5 Margaritas too!
URL:https://jfkicksrestaurant.com/event/taco-tuesday-2/2025-12-30/
CATEGORIES:Food
ATTACH;FMTTYPE=image/jpeg:https://jfkicksrestaurant.com/wp-content/uploads/2023/12/Taco-Tuesday-2-11-2025.jpg
END:VEVENT
BEGIN:VEVENT
DTSTART;VALUE=DATE:20251231
DTEND;VALUE=DATE:20260102
DTSTAMP:20260423T113827
CREATED:20231220T214515Z
LAST-MODIFIED:20260312T171055Z
UID:10009767-1767146400-1767232799@jfkicksrestaurant.com
SUMMARY:Pasta Night
DESCRIPTION:Wednesday is Pasta Night! Get our Chicken Parmesan or Spaghetti & Meatball Dinner for just $12.99 or Chicken Parmesan or Meatball Sub for only $10.99! Pair with a glass of our house wine on happy hour\, ’til 7pm!
URL:https://jfkicksrestaurant.com/event/pasta-night-every-wednesday/2025-12-31/
CATEGORIES:Food
ATTACH;FMTTYPE=image/jpeg:https://jfkicksrestaurant.com/wp-content/uploads/2023/12/412409329_780079227473443_7247072684232210429_n.jpg
END:VEVENT
BEGIN:VEVENT
DTSTART;TZID=America/New_York:20251231T210000
DTEND;TZID=America/New_York:20260101T010000
DTSTAMP:20260423T113827
CREATED:20251204T185128Z
LAST-MODIFIED:20251213T184345Z
UID:10008653-1767214800-1767229200@jfkicksrestaurant.com
SUMMARY:New Year's Eve Celebration
DESCRIPTION:Say goodbye to 2025 and hello to 2026 with DJ Vic and all your friends at JF Kicks! \n\nIrish New Year Toast: 7pm\nCollege Bowl with Ohio State: 7pm\nDJ Vic: 9pm-1am\nNew Years Toast: 12am
URL:https://jfkicksrestaurant.com/event/new-years-eve-celebration-2025/
CATEGORIES:Drinks,Food,Holiday,Music
ATTACH;FMTTYPE=image/jpeg:https://jfkicksrestaurant.com/wp-content/uploads/2025/12/NYE-2025-Updated-12-13-2025.jpg
END:VEVENT
BEGIN:VEVENT
DTSTART;VALUE=DATE:20260102
DTEND;VALUE=DATE:20260104
DTSTAMP:20260423T113827
CREATED:20240115T130234Z
LAST-MODIFIED:20250901T230000Z
UID:10008197-1767319200-1767405599@jfkicksrestaurant.com
SUMMARY:All You Can Eat Fish & Chips
DESCRIPTION:Delicious\, crispy All You Can Eat Fish & Chips for $14.95 every Friday all day!
URL:https://jfkicksrestaurant.com/event/all-you-can-eat-fish-chips/2026-01-02/
CATEGORIES:Food
ATTACH;FMTTYPE=image/jpeg:https://jfkicksrestaurant.com/wp-content/uploads/2024/01/All-You-Can-Eat-Fish-n-Chips-January-2025.jpg.jpeg
END:VEVENT
BEGIN:VEVENT
DTSTART;TZID=America/New_York:20260103T110000
DTEND;TZID=America/New_York:20260103T150000
DTSTAMP:20260423T113827
CREATED:20240115T134039Z
LAST-MODIFIED:20241116T043704Z
UID:10005587-1767438000-1767452400@jfkicksrestaurant.com
SUMMARY:Shaved Prime Rib Sandwich Lunch Special
DESCRIPTION:Try our Saturday lunch special\, Shaved Prime Rib on a garlic grilled hoagie with horsey sauce\, onions\, mushrooms\, and cheddarjack cheese served with side of fries for $12.95.
URL:https://jfkicksrestaurant.com/event/shaved-prime-rib-sandwich-lunch-special/2026-01-03/
CATEGORIES:Food
ATTACH;FMTTYPE=image/jpeg:https://jfkicksrestaurant.com/wp-content/uploads/2024/01/Shaved-Prime-Rib-Sandwich-.jpg
END:VEVENT
BEGIN:VEVENT
DTSTART;TZID=America/New_York:20260103T160000
DTEND;TZID=America/New_York:20260103T210000
DTSTAMP:20260423T113827
CREATED:20231220T071858Z
LAST-MODIFIED:20240115T134139Z
UID:10003320-1767456000-1767474000@jfkicksrestaurant.com
SUMMARY:Half Priced Peel-N-Eat Shrimp Dinner Special
DESCRIPTION:Saturdays we offer Half Priced Peel-N-Eat Shrimp from 4-9pm!
URL:https://jfkicksrestaurant.com/event/half-price-peel-n-eat-shrimp/2026-01-03/
CATEGORIES:Food
ATTACH;FMTTYPE=image/jpeg:https://jfkicksrestaurant.com/wp-content/uploads/2023/12/410739926_777516257729740_5467180394573693269_n.jpg
END:VEVENT
BEGIN:VEVENT
DTSTART;VALUE=DATE:20260105
DTEND;VALUE=DATE:20260107
DTSTAMP:20260423T113827
CREATED:20250829T152007Z
LAST-MODIFIED:20250829T152054Z
UID:10007328-1767578400-1767664799@jfkicksrestaurant.com
SUMMARY:Smash Burger Special
DESCRIPTION:On Mondays\, enjoy our Smash Burger special all day – a delicious smash burger served with Gaelic chips for $10.95. Available for dine-in only.
URL:https://jfkicksrestaurant.com/event/smash-burger-special/2026-01-05/
CATEGORIES:Food
ATTACH;FMTTYPE=image/jpeg:https://jfkicksrestaurant.com/wp-content/uploads/2025/08/Smash-Burger-Monday-Aug-2025.jpg
END:VEVENT
BEGIN:VEVENT
DTSTART;VALUE=DATE:20260105
DTEND;VALUE=DATE:20260107
DTSTAMP:20260423T113827
CREATED:20250829T152603Z
LAST-MODIFIED:20250829T152603Z
UID:10007849-1767578400-1767664799@jfkicksrestaurant.com
SUMMARY:Kids Eat Free
DESCRIPTION:All day on Mondays\, kids 12 and under eat free with the purchase of a single item valued at $15 or more. This offer is available for dine-in only.
URL:https://jfkicksrestaurant.com/event/kids-eat-free/2026-01-05/
CATEGORIES:Food
ATTACH;FMTTYPE=image/jpeg:https://jfkicksrestaurant.com/wp-content/uploads/2025/08/Kids-Eat-Free-Mondays-Aug-2025.jpg
END:VEVENT
BEGIN:VEVENT
DTSTART;VALUE=DATE:20260106
DTEND;VALUE=DATE:20260108
DTSTAMP:20260423T113827
CREATED:20250829T152333Z
LAST-MODIFIED:20260105T232636Z
UID:10007588-1767664800-1767751199@jfkicksrestaurant.com
SUMMARY:Taco Tuesday
DESCRIPTION:Come on in for our 3 for $6 tacos ordered with a hard or soft shell and beef or chicken! We $5 Margaritas too!
URL:https://jfkicksrestaurant.com/event/taco-tuesday-2/2026-01-06/
CATEGORIES:Food
ATTACH;FMTTYPE=image/jpeg:https://jfkicksrestaurant.com/wp-content/uploads/2023/12/Taco-Tuesday-2-11-2025.jpg
END:VEVENT
BEGIN:VEVENT
DTSTART;VALUE=DATE:20260107
DTEND;VALUE=DATE:20260109
DTSTAMP:20260423T113827
CREATED:20231220T214515Z
LAST-MODIFIED:20260312T171055Z
UID:10009768-1767751200-1767837599@jfkicksrestaurant.com
SUMMARY:Pasta Night
DESCRIPTION:Wednesday is Pasta Night! Get our Chicken Parmesan or Spaghetti & Meatball Dinner for just $12.99 or Chicken Parmesan or Meatball Sub for only $10.99! Pair with a glass of our house wine on happy hour\, ’til 7pm!
URL:https://jfkicksrestaurant.com/event/pasta-night-every-wednesday/2026-01-07/
CATEGORIES:Food
ATTACH;FMTTYPE=image/jpeg:https://jfkicksrestaurant.com/wp-content/uploads/2023/12/412409329_780079227473443_7247072684232210429_n.jpg
END:VEVENT
BEGIN:VEVENT
DTSTART;TZID=America/New_York:20260108T180000
DTEND;TZID=America/New_York:20260108T210000
DTSTAMP:20260423T113827
CREATED:20251204T123733Z
LAST-MODIFIED:20260325T184613Z
UID:10008581-1767895200-1767906000@jfkicksrestaurant.com
SUMMARY:Bike Night
DESCRIPTION:It’s Bike Night at Kicks! Join us for a night with vendors\, food and drink specials\, Thursday Night Football\, and live music. It’s fun for all and free to the public.
URL:https://jfkicksrestaurant.com/event/bike-night-3/2026-01-08/
CATEGORIES:Community,Drinks,Food,Music
ATTACH;FMTTYPE=image/jpeg:https://jfkicksrestaurant.com/wp-content/uploads/2025/12/Bike-Night-2nd-Thursday-Dec-2025.jpeg
END:VEVENT
BEGIN:VEVENT
DTSTART;VALUE=DATE:20260109
DTEND;VALUE=DATE:20260111
DTSTAMP:20260423T113827
CREATED:20240115T130234Z
LAST-MODIFIED:20250901T230000Z
UID:10008198-1767924000-1768010399@jfkicksrestaurant.com
SUMMARY:All You Can Eat Fish & Chips
DESCRIPTION:Delicious\, crispy All You Can Eat Fish & Chips for $14.95 every Friday all day!
URL:https://jfkicksrestaurant.com/event/all-you-can-eat-fish-chips/2026-01-09/
CATEGORIES:Food
ATTACH;FMTTYPE=image/jpeg:https://jfkicksrestaurant.com/wp-content/uploads/2024/01/All-You-Can-Eat-Fish-n-Chips-January-2025.jpg.jpeg
END:VEVENT
BEGIN:VEVENT
DTSTART;TZID=America/New_York:20260110T110000
DTEND;TZID=America/New_York:20260110T150000
DTSTAMP:20260423T113827
CREATED:20240115T134039Z
LAST-MODIFIED:20241116T043704Z
UID:10005588-1768042800-1768057200@jfkicksrestaurant.com
SUMMARY:Shaved Prime Rib Sandwich Lunch Special
DESCRIPTION:Try our Saturday lunch special\, Shaved Prime Rib on a garlic grilled hoagie with horsey sauce\, onions\, mushrooms\, and cheddarjack cheese served with side of fries for $12.95.
URL:https://jfkicksrestaurant.com/event/shaved-prime-rib-sandwich-lunch-special/2026-01-10/
CATEGORIES:Food
ATTACH;FMTTYPE=image/jpeg:https://jfkicksrestaurant.com/wp-content/uploads/2024/01/Shaved-Prime-Rib-Sandwich-.jpg
END:VEVENT
BEGIN:VEVENT
DTSTART;TZID=America/New_York:20260110T160000
DTEND;TZID=America/New_York:20260110T210000
DTSTAMP:20260423T113827
CREATED:20231220T071858Z
LAST-MODIFIED:20240115T134139Z
UID:10003321-1768060800-1768078800@jfkicksrestaurant.com
SUMMARY:Half Priced Peel-N-Eat Shrimp Dinner Special
DESCRIPTION:Saturdays we offer Half Priced Peel-N-Eat Shrimp from 4-9pm!
URL:https://jfkicksrestaurant.com/event/half-price-peel-n-eat-shrimp/2026-01-10/
CATEGORIES:Food
ATTACH;FMTTYPE=image/jpeg:https://jfkicksrestaurant.com/wp-content/uploads/2023/12/410739926_777516257729740_5467180394573693269_n.jpg
END:VEVENT
BEGIN:VEVENT
DTSTART;VALUE=DATE:20260112
DTEND;VALUE=DATE:20260114
DTSTAMP:20260423T113827
CREATED:20250829T152007Z
LAST-MODIFIED:20250829T152054Z
UID:10007329-1768183200-1768269599@jfkicksrestaurant.com
SUMMARY:Smash Burger Special
DESCRIPTION:On Mondays\, enjoy our Smash Burger special all day – a delicious smash burger served with Gaelic chips for $10.95. Available for dine-in only.
URL:https://jfkicksrestaurant.com/event/smash-burger-special/2026-01-12/
CATEGORIES:Food
ATTACH;FMTTYPE=image/jpeg:https://jfkicksrestaurant.com/wp-content/uploads/2025/08/Smash-Burger-Monday-Aug-2025.jpg
END:VEVENT
BEGIN:VEVENT
DTSTART;VALUE=DATE:20260112
DTEND;VALUE=DATE:20260114
DTSTAMP:20260423T113827
CREATED:20250829T152603Z
LAST-MODIFIED:20250829T152603Z
UID:10007850-1768183200-1768269599@jfkicksrestaurant.com
SUMMARY:Kids Eat Free
DESCRIPTION:All day on Mondays\, kids 12 and under eat free with the purchase of a single item valued at $15 or more. This offer is available for dine-in only.
URL:https://jfkicksrestaurant.com/event/kids-eat-free/2026-01-12/
CATEGORIES:Food
ATTACH;FMTTYPE=image/jpeg:https://jfkicksrestaurant.com/wp-content/uploads/2025/08/Kids-Eat-Free-Mondays-Aug-2025.jpg
END:VEVENT
BEGIN:VEVENT
DTSTART;VALUE=DATE:20260113
DTEND;VALUE=DATE:20260115
DTSTAMP:20260423T113827
CREATED:20250829T152333Z
LAST-MODIFIED:20260105T232636Z
UID:10007589-1768269600-1768355999@jfkicksrestaurant.com
SUMMARY:Taco Tuesday
DESCRIPTION:Come on in for our 3 for $6 tacos ordered with a hard or soft shell and beef or chicken! We $5 Margaritas too!
URL:https://jfkicksrestaurant.com/event/taco-tuesday-2/2026-01-13/
CATEGORIES:Food
ATTACH;FMTTYPE=image/jpeg:https://jfkicksrestaurant.com/wp-content/uploads/2023/12/Taco-Tuesday-2-11-2025.jpg
END:VEVENT
BEGIN:VEVENT
DTSTART;VALUE=DATE:20260114
DTEND;VALUE=DATE:20260116
DTSTAMP:20260423T113827
CREATED:20231220T214515Z
LAST-MODIFIED:20260312T171055Z
UID:10009769-1768356000-1768442399@jfkicksrestaurant.com
SUMMARY:Pasta Night
DESCRIPTION:Wednesday is Pasta Night! Get our Chicken Parmesan or Spaghetti & Meatball Dinner for just $12.99 or Chicken Parmesan or Meatball Sub for only $10.99! Pair with a glass of our house wine on happy hour\, ’til 7pm!
URL:https://jfkicksrestaurant.com/event/pasta-night-every-wednesday/2026-01-14/
CATEGORIES:Food
ATTACH;FMTTYPE=image/jpeg:https://jfkicksrestaurant.com/wp-content/uploads/2023/12/412409329_780079227473443_7247072684232210429_n.jpg
END:VEVENT
BEGIN:VEVENT
DTSTART;VALUE=DATE:20260116
DTEND;VALUE=DATE:20260118
DTSTAMP:20260423T113827
CREATED:20240115T130234Z
LAST-MODIFIED:20250901T230000Z
UID:10008199-1768528800-1768615199@jfkicksrestaurant.com
SUMMARY:All You Can Eat Fish & Chips
DESCRIPTION:Delicious\, crispy All You Can Eat Fish & Chips for $14.95 every Friday all day!
URL:https://jfkicksrestaurant.com/event/all-you-can-eat-fish-chips/2026-01-16/
CATEGORIES:Food
ATTACH;FMTTYPE=image/jpeg:https://jfkicksrestaurant.com/wp-content/uploads/2024/01/All-You-Can-Eat-Fish-n-Chips-January-2025.jpg.jpeg
END:VEVENT
BEGIN:VEVENT
DTSTART;TZID=America/New_York:20260117T110000
DTEND;TZID=America/New_York:20260117T150000
DTSTAMP:20260423T113827
CREATED:20240115T134039Z
LAST-MODIFIED:20241116T043704Z
UID:10005589-1768647600-1768662000@jfkicksrestaurant.com
SUMMARY:Shaved Prime Rib Sandwich Lunch Special
DESCRIPTION:Try our Saturday lunch special\, Shaved Prime Rib on a garlic grilled hoagie with horsey sauce\, onions\, mushrooms\, and cheddarjack cheese served with side of fries for $12.95.
URL:https://jfkicksrestaurant.com/event/shaved-prime-rib-sandwich-lunch-special/2026-01-17/
CATEGORIES:Food
ATTACH;FMTTYPE=image/jpeg:https://jfkicksrestaurant.com/wp-content/uploads/2024/01/Shaved-Prime-Rib-Sandwich-.jpg
END:VEVENT
END:VCALENDAR