BEGIN:VCALENDAR
VERSION:2.0
PRODID:-//JF Kicks Restaurant - ECPv6.15.18//NONSGML v1.0//EN
CALSCALE:GREGORIAN
METHOD:PUBLISH
X-WR-CALNAME:JF Kicks Restaurant
X-ORIGINAL-URL:https://jfkicksrestaurant.com
X-WR-CALDESC:Events for JF Kicks Restaurant
REFRESH-INTERVAL;VALUE=DURATION:PT1H
X-Robots-Tag:noindex
X-PUBLISHED-TTL:PT1H
BEGIN:VTIMEZONE
TZID:America/New_York
BEGIN:DAYLIGHT
TZOFFSETFROM:-0500
TZOFFSETTO:-0400
TZNAME:EDT
DTSTART:20250309T070000
END:DAYLIGHT
BEGIN:STANDARD
TZOFFSETFROM:-0400
TZOFFSETTO:-0500
TZNAME:EST
DTSTART:20251102T060000
END:STANDARD
BEGIN:DAYLIGHT
TZOFFSETFROM:-0500
TZOFFSETTO:-0400
TZNAME:EDT
DTSTART:20260308T070000
END:DAYLIGHT
BEGIN:STANDARD
TZOFFSETFROM:-0400
TZOFFSETTO:-0500
TZNAME:EST
DTSTART:20261101T060000
END:STANDARD
BEGIN:DAYLIGHT
TZOFFSETFROM:-0500
TZOFFSETTO:-0400
TZNAME:EDT
DTSTART:20270314T070000
END:DAYLIGHT
BEGIN:STANDARD
TZOFFSETFROM:-0400
TZOFFSETTO:-0500
TZNAME:EST
DTSTART:20271107T060000
END:STANDARD
END:VTIMEZONE
BEGIN:VEVENT
DTSTART;VALUE=DATE:20260309
DTEND;VALUE=DATE:20260311
DTSTAMP:20260423T045742
CREATED:20250829T152007Z
LAST-MODIFIED:20250829T152054Z
UID:10007337-1773021600-1773107999@jfkicksrestaurant.com
SUMMARY:Smash Burger Special
DESCRIPTION:On Mondays\, enjoy our Smash Burger special all day – a delicious smash burger served with Gaelic chips for $10.95. Available for dine-in only.
URL:https://jfkicksrestaurant.com/event/smash-burger-special/2026-03-09/
CATEGORIES:Food
ATTACH;FMTTYPE=image/jpeg:https://jfkicksrestaurant.com/wp-content/uploads/2025/08/Smash-Burger-Monday-Aug-2025.jpg
END:VEVENT
BEGIN:VEVENT
DTSTART;VALUE=DATE:20260309
DTEND;VALUE=DATE:20260311
DTSTAMP:20260423T045742
CREATED:20250829T152603Z
LAST-MODIFIED:20250829T152603Z
UID:10007858-1773021600-1773107999@jfkicksrestaurant.com
SUMMARY:Kids Eat Free
DESCRIPTION:All day on Mondays\, kids 12 and under eat free with the purchase of a single item valued at $15 or more. This offer is available for dine-in only.
URL:https://jfkicksrestaurant.com/event/kids-eat-free/2026-03-09/
CATEGORIES:Food
ATTACH;FMTTYPE=image/jpeg:https://jfkicksrestaurant.com/wp-content/uploads/2025/08/Kids-Eat-Free-Mondays-Aug-2025.jpg
END:VEVENT
BEGIN:VEVENT
DTSTART;VALUE=DATE:20260310
DTEND;VALUE=DATE:20260312
DTSTAMP:20260423T045742
CREATED:20250829T152333Z
LAST-MODIFIED:20260105T232636Z
UID:10007597-1773108000-1773194399@jfkicksrestaurant.com
SUMMARY:Taco Tuesday
DESCRIPTION:Come on in for our 3 for $6 tacos ordered with a hard or soft shell and beef or chicken! We $5 Margaritas too!
URL:https://jfkicksrestaurant.com/event/taco-tuesday-2/2026-03-10/
CATEGORIES:Food
ATTACH;FMTTYPE=image/jpeg:https://jfkicksrestaurant.com/wp-content/uploads/2023/12/Taco-Tuesday-2-11-2025.jpg
END:VEVENT
BEGIN:VEVENT
DTSTART;VALUE=DATE:20260311
DTEND;VALUE=DATE:20260313
DTSTAMP:20260423T045742
CREATED:20231220T214515Z
LAST-MODIFIED:20260312T171055Z
UID:10009777-1773194400-1773280799@jfkicksrestaurant.com
SUMMARY:Pasta Night
DESCRIPTION:Wednesday is Pasta Night! Get our Chicken Parmesan or Spaghetti & Meatball Dinner for just $12.99 or Chicken Parmesan or Meatball Sub for only $10.99! Pair with a glass of our house wine on happy hour\, ’til 7pm!
URL:https://jfkicksrestaurant.com/event/pasta-night-every-wednesday/2026-03-11/
CATEGORIES:Food
ATTACH;FMTTYPE=image/jpeg:https://jfkicksrestaurant.com/wp-content/uploads/2023/12/412409329_780079227473443_7247072684232210429_n.jpg
END:VEVENT
BEGIN:VEVENT
DTSTART;VALUE=DATE:20260312
DTEND;VALUE=DATE:20260314
DTSTAMP:20260423T045742
CREATED:20260312T170853Z
LAST-MODIFIED:20260312T170853Z
UID:10009402-1773280800-1773367199@jfkicksrestaurant.com
SUMMARY:Chicken Wings and French Fries Special
DESCRIPTION:Check out our $12.95 Chicken Wings and French Fry special\, available all day Thursdays for dine-in!
URL:https://jfkicksrestaurant.com/event/chicken-wings-and-french-fries-special/2026-03-12/
CATEGORIES:Food
ATTACH;FMTTYPE=image/jpeg:https://jfkicksrestaurant.com/wp-content/uploads/2026/03/Chicken-Wings-Special-03-12-2026.jpg
END:VEVENT
BEGIN:VEVENT
DTSTART;VALUE=DATE:20260313
DTEND;VALUE=DATE:20260315
DTSTAMP:20260423T045742
CREATED:20240115T130234Z
LAST-MODIFIED:20250901T230000Z
UID:10008207-1773367200-1773453599@jfkicksrestaurant.com
SUMMARY:All You Can Eat Fish & Chips
DESCRIPTION:Delicious\, crispy All You Can Eat Fish & Chips for $14.95 every Friday all day!
URL:https://jfkicksrestaurant.com/event/all-you-can-eat-fish-chips/2026-03-13/
CATEGORIES:Food
ATTACH;FMTTYPE=image/jpeg:https://jfkicksrestaurant.com/wp-content/uploads/2024/01/All-You-Can-Eat-Fish-n-Chips-January-2025.jpg.jpeg
END:VEVENT
BEGIN:VEVENT
DTSTART;TZID=America/New_York:20260313T170000
DTEND;TZID=America/New_York:20260313T220000
DTSTAMP:20260423T045742
CREATED:20260312T171357Z
LAST-MODIFIED:20260312T171357Z
UID:10010039-1773421200-1773439200@jfkicksrestaurant.com
SUMMARY:Prime Rib Dinner
DESCRIPTION:Friday Nights we offer a Prime Rib Dinner special\, available starting at 5pm. Prime Rib served with green beans and mashed potatoes. A perfect\, tasty way to cap off the week and look forward to the weekend.
URL:https://jfkicksrestaurant.com/event/prime-rib-dinner-2/2026-03-13/
CATEGORIES:Food
ATTACH;FMTTYPE=image/jpeg:https://jfkicksrestaurant.com/wp-content/uploads/2026/03/Prime-Rib-Friday-May-2025.jpg
END:VEVENT
BEGIN:VEVENT
DTSTART;TZID=America/New_York:20260314T110000
DTEND;TZID=America/New_York:20260314T150000
DTSTAMP:20260423T045742
CREATED:20240115T134039Z
LAST-MODIFIED:20241116T043704Z
UID:10005597-1773486000-1773500400@jfkicksrestaurant.com
SUMMARY:Shaved Prime Rib Sandwich Lunch Special
DESCRIPTION:Try our Saturday lunch special\, Shaved Prime Rib on a garlic grilled hoagie with horsey sauce\, onions\, mushrooms\, and cheddarjack cheese served with side of fries for $12.95.
URL:https://jfkicksrestaurant.com/event/shaved-prime-rib-sandwich-lunch-special/2026-03-14/
CATEGORIES:Food
ATTACH;FMTTYPE=image/jpeg:https://jfkicksrestaurant.com/wp-content/uploads/2024/01/Shaved-Prime-Rib-Sandwich-.jpg
END:VEVENT
BEGIN:VEVENT
DTSTART;TZID=America/New_York:20260314T160000
DTEND;TZID=America/New_York:20260314T210000
DTSTAMP:20260423T045742
CREATED:20231220T071858Z
LAST-MODIFIED:20240115T134139Z
UID:10003330-1773504000-1773522000@jfkicksrestaurant.com
SUMMARY:Half Priced Peel-N-Eat Shrimp Dinner Special
DESCRIPTION:Saturdays we offer Half Priced Peel-N-Eat Shrimp from 4-9pm!
URL:https://jfkicksrestaurant.com/event/half-price-peel-n-eat-shrimp/2026-03-14/
CATEGORIES:Food
ATTACH;FMTTYPE=image/jpeg:https://jfkicksrestaurant.com/wp-content/uploads/2023/12/410739926_777516257729740_5467180394573693269_n.jpg
END:VEVENT
BEGIN:VEVENT
DTSTART;TZID=America/New_York:20260315T110000
DTEND;TZID=America/New_York:20260315T150000
DTSTAMP:20260423T045742
CREATED:20260201T031804Z
LAST-MODIFIED:20260211T150151Z
UID:10009220-1773572400-1773586800@jfkicksrestaurant.com
SUMMARY:Sunday Brunch
DESCRIPTION:Enjoy our special Sunday Brunch Menu and $20 Bottomless Mimosa & Sangria 11am-3pm on our covered patio and in our inviting indoor dining area. Live music on the patio 12-4pm.
URL:https://jfkicksrestaurant.com/event/sunday-brunch-2/2026-03-15/
CATEGORIES:Drinks,Food,Music
ATTACH;FMTTYPE=image/jpeg:https://jfkicksrestaurant.com/wp-content/uploads/2026/01/Brunch-2026.jpeg
END:VEVENT
BEGIN:VEVENT
DTSTART;TZID=America/New_York:20260315T140000
DTEND;TZID=America/New_York:20260315T180000
DTSTAMP:20260423T045742
CREATED:20260225T185359Z
LAST-MODIFIED:20260306T174855Z
UID:10009391-1773583200-1773597600@jfkicksrestaurant.com
SUMMARY:St. Puppy's Day
DESCRIPTION:Get in the St. Patrick’s Day Spirit with the 2nd Annual St. Puppy’s Day at JF Kicks and in collaboration with 4 Lucky Dogs Pet Rescue. Bring your dogs and help us celebrate! This family-friendly event will have awards for Best Female Dog and Best Male Dog\, vendors\, raffles\, and more! We’ll have Sunday Brunch 11am-3pm. And guess what? We have a very special menu just for dogs (which our furry friends are big fans of)\, so feel free to treat your best bud and hang out on our covered patio.
URL:https://jfkicksrestaurant.com/event/st-puppys-day-2026/
CATEGORIES:Community,Drinks,Food,Holiday
ATTACH;FMTTYPE=image/jpeg:https://jfkicksrestaurant.com/wp-content/uploads/2026/02/St.-Puppys-Day-updated-March-2026.jpeg
END:VEVENT
BEGIN:VEVENT
DTSTART;TZID=America/New_York:20260315T180000
DTEND;TZID=America/New_York:20260315T230000
DTSTAMP:20260423T045742
CREATED:20260227T193322Z
LAST-MODIFIED:20260227T193322Z
UID:10009393-1773597600-1773615600@jfkicksrestaurant.com
SUMMARY:Oscar Night at JF Kicks
DESCRIPTION:Walk our red carpet and watch the Oscars with us at our Oscar Night party. Best Dressed wins a prize! Plus…\n– Oscar Ballots– Oscar Bingo– Win Prizes– 1st glass of champagne for anyone dressed up– Martini\, House Wine & Food Specials
URL:https://jfkicksrestaurant.com/event/oscar-night-at-jf-kicks/
CATEGORIES:Community,Drinks,Food
ATTACH;FMTTYPE=image/jpeg:https://jfkicksrestaurant.com/wp-content/uploads/2026/02/Oscar-Night-March-15-2026.jpeg
END:VEVENT
BEGIN:VEVENT
DTSTART;VALUE=DATE:20260316
DTEND;VALUE=DATE:20260318
DTSTAMP:20260423T045742
CREATED:20250829T152007Z
LAST-MODIFIED:20250829T152054Z
UID:10007338-1773626400-1773712799@jfkicksrestaurant.com
SUMMARY:Smash Burger Special
DESCRIPTION:On Mondays\, enjoy our Smash Burger special all day – a delicious smash burger served with Gaelic chips for $10.95. Available for dine-in only.
URL:https://jfkicksrestaurant.com/event/smash-burger-special/2026-03-16/
CATEGORIES:Food
ATTACH;FMTTYPE=image/jpeg:https://jfkicksrestaurant.com/wp-content/uploads/2025/08/Smash-Burger-Monday-Aug-2025.jpg
END:VEVENT
BEGIN:VEVENT
DTSTART;VALUE=DATE:20260316
DTEND;VALUE=DATE:20260318
DTSTAMP:20260423T045742
CREATED:20250829T152603Z
LAST-MODIFIED:20250829T152603Z
UID:10007859-1773626400-1773712799@jfkicksrestaurant.com
SUMMARY:Kids Eat Free
DESCRIPTION:All day on Mondays\, kids 12 and under eat free with the purchase of a single item valued at $15 or more. This offer is available for dine-in only.
URL:https://jfkicksrestaurant.com/event/kids-eat-free/2026-03-16/
CATEGORIES:Food
ATTACH;FMTTYPE=image/jpeg:https://jfkicksrestaurant.com/wp-content/uploads/2025/08/Kids-Eat-Free-Mondays-Aug-2025.jpg
END:VEVENT
BEGIN:VEVENT
DTSTART;VALUE=DATE:20260317
DTEND;VALUE=DATE:20260319
DTSTAMP:20260423T045742
CREATED:20250829T152333Z
LAST-MODIFIED:20260105T232636Z
UID:10007598-1773712800-1773799199@jfkicksrestaurant.com
SUMMARY:Taco Tuesday
DESCRIPTION:Come on in for our 3 for $6 tacos ordered with a hard or soft shell and beef or chicken! We $5 Margaritas too!
URL:https://jfkicksrestaurant.com/event/taco-tuesday-2/2026-03-17/
CATEGORIES:Food
ATTACH;FMTTYPE=image/jpeg:https://jfkicksrestaurant.com/wp-content/uploads/2023/12/Taco-Tuesday-2-11-2025.jpg
END:VEVENT
BEGIN:VEVENT
DTSTART;TZID=America/New_York:20260317T110000
DTEND;TZID=America/New_York:20260317T230000
DTSTAMP:20260423T045742
CREATED:20260226T205112Z
LAST-MODIFIED:20260226T205114Z
UID:10009392-1773745200-1773788400@jfkicksrestaurant.com
SUMMARY:St. Patrick's Day at O'Kicks
DESCRIPTION:We’re celebrating the luck o’ the Irish all day long on St. Patrick’s Day at JF Kicks! Enjoy green beer\, food & drink specials\, and Irish fare all day. Plus\, we’ve got the following entertainment scheduled: \n– 3 Dom Band: 7-11pm (Patio) \n– Bagpipes with William Howard: 7:30-8:30pm \n– Karaoke with Bill Knowles: 8-11pm (Inside)
URL:https://jfkicksrestaurant.com/event/st-patricks-day-at-okicks/
CATEGORIES:Drinks,Food,Holiday,Music
ATTACH;FMTTYPE=image/jpeg:https://jfkicksrestaurant.com/wp-content/uploads/2026/02/TUESDAY_StPatricksDay2026.jpeg
END:VEVENT
BEGIN:VEVENT
DTSTART;VALUE=DATE:20260318
DTEND;VALUE=DATE:20260320
DTSTAMP:20260423T045742
CREATED:20231220T214515Z
LAST-MODIFIED:20260312T171055Z
UID:10009778-1773799200-1773885599@jfkicksrestaurant.com
SUMMARY:Pasta Night
DESCRIPTION:Wednesday is Pasta Night! Get our Chicken Parmesan or Spaghetti & Meatball Dinner for just $12.99 or Chicken Parmesan or Meatball Sub for only $10.99! Pair with a glass of our house wine on happy hour\, ’til 7pm!
URL:https://jfkicksrestaurant.com/event/pasta-night-every-wednesday/2026-03-18/
CATEGORIES:Food
ATTACH;FMTTYPE=image/jpeg:https://jfkicksrestaurant.com/wp-content/uploads/2023/12/412409329_780079227473443_7247072684232210429_n.jpg
END:VEVENT
BEGIN:VEVENT
DTSTART;VALUE=DATE:20260319
DTEND;VALUE=DATE:20260321
DTSTAMP:20260423T045742
CREATED:20260312T170853Z
LAST-MODIFIED:20260312T170853Z
UID:10009403-1773885600-1773971999@jfkicksrestaurant.com
SUMMARY:Chicken Wings and French Fries Special
DESCRIPTION:Check out our $12.95 Chicken Wings and French Fry special\, available all day Thursdays for dine-in!
URL:https://jfkicksrestaurant.com/event/chicken-wings-and-french-fries-special/2026-03-19/
CATEGORIES:Food
ATTACH;FMTTYPE=image/jpeg:https://jfkicksrestaurant.com/wp-content/uploads/2026/03/Chicken-Wings-Special-03-12-2026.jpg
END:VEVENT
BEGIN:VEVENT
DTSTART;VALUE=DATE:20260320
DTEND;VALUE=DATE:20260322
DTSTAMP:20260423T045742
CREATED:20240115T130234Z
LAST-MODIFIED:20250901T230000Z
UID:10008208-1773972000-1774058399@jfkicksrestaurant.com
SUMMARY:All You Can Eat Fish & Chips
DESCRIPTION:Delicious\, crispy All You Can Eat Fish & Chips for $14.95 every Friday all day!
URL:https://jfkicksrestaurant.com/event/all-you-can-eat-fish-chips/2026-03-20/
CATEGORIES:Food
ATTACH;FMTTYPE=image/jpeg:https://jfkicksrestaurant.com/wp-content/uploads/2024/01/All-You-Can-Eat-Fish-n-Chips-January-2025.jpg.jpeg
END:VEVENT
BEGIN:VEVENT
DTSTART;TZID=America/New_York:20260320T170000
DTEND;TZID=America/New_York:20260320T220000
DTSTAMP:20260423T045742
CREATED:20260312T171357Z
LAST-MODIFIED:20260312T171357Z
UID:10010040-1774026000-1774044000@jfkicksrestaurant.com
SUMMARY:Prime Rib Dinner
DESCRIPTION:Friday Nights we offer a Prime Rib Dinner special\, available starting at 5pm. Prime Rib served with green beans and mashed potatoes. A perfect\, tasty way to cap off the week and look forward to the weekend.
URL:https://jfkicksrestaurant.com/event/prime-rib-dinner-2/2026-03-20/
CATEGORIES:Food
ATTACH;FMTTYPE=image/jpeg:https://jfkicksrestaurant.com/wp-content/uploads/2026/03/Prime-Rib-Friday-May-2025.jpg
END:VEVENT
BEGIN:VEVENT
DTSTART;TZID=America/New_York:20260321T110000
DTEND;TZID=America/New_York:20260321T150000
DTSTAMP:20260423T045742
CREATED:20240115T134039Z
LAST-MODIFIED:20241116T043704Z
UID:10005598-1774090800-1774105200@jfkicksrestaurant.com
SUMMARY:Shaved Prime Rib Sandwich Lunch Special
DESCRIPTION:Try our Saturday lunch special\, Shaved Prime Rib on a garlic grilled hoagie with horsey sauce\, onions\, mushrooms\, and cheddarjack cheese served with side of fries for $12.95.
URL:https://jfkicksrestaurant.com/event/shaved-prime-rib-sandwich-lunch-special/2026-03-21/
CATEGORIES:Food
ATTACH;FMTTYPE=image/jpeg:https://jfkicksrestaurant.com/wp-content/uploads/2024/01/Shaved-Prime-Rib-Sandwich-.jpg
END:VEVENT
BEGIN:VEVENT
DTSTART;TZID=America/New_York:20260321T160000
DTEND;TZID=America/New_York:20260321T210000
DTSTAMP:20260423T045742
CREATED:20231220T071858Z
LAST-MODIFIED:20240115T134139Z
UID:10003331-1774108800-1774126800@jfkicksrestaurant.com
SUMMARY:Half Priced Peel-N-Eat Shrimp Dinner Special
DESCRIPTION:Saturdays we offer Half Priced Peel-N-Eat Shrimp from 4-9pm!
URL:https://jfkicksrestaurant.com/event/half-price-peel-n-eat-shrimp/2026-03-21/
CATEGORIES:Food
ATTACH;FMTTYPE=image/jpeg:https://jfkicksrestaurant.com/wp-content/uploads/2023/12/410739926_777516257729740_5467180394573693269_n.jpg
END:VEVENT
BEGIN:VEVENT
DTSTART;TZID=America/New_York:20260322T110000
DTEND;TZID=America/New_York:20260322T150000
DTSTAMP:20260423T045742
CREATED:20260201T031804Z
LAST-MODIFIED:20260211T150151Z
UID:10009221-1774177200-1774191600@jfkicksrestaurant.com
SUMMARY:Sunday Brunch
DESCRIPTION:Enjoy our special Sunday Brunch Menu and $20 Bottomless Mimosa & Sangria 11am-3pm on our covered patio and in our inviting indoor dining area. Live music on the patio 12-4pm.
URL:https://jfkicksrestaurant.com/event/sunday-brunch-2/2026-03-22/
CATEGORIES:Drinks,Food,Music
ATTACH;FMTTYPE=image/jpeg:https://jfkicksrestaurant.com/wp-content/uploads/2026/01/Brunch-2026.jpeg
END:VEVENT
BEGIN:VEVENT
DTSTART;VALUE=DATE:20260323
DTEND;VALUE=DATE:20260325
DTSTAMP:20260423T045742
CREATED:20250829T152007Z
LAST-MODIFIED:20250829T152054Z
UID:10007339-1774231200-1774317599@jfkicksrestaurant.com
SUMMARY:Smash Burger Special
DESCRIPTION:On Mondays\, enjoy our Smash Burger special all day – a delicious smash burger served with Gaelic chips for $10.95. Available for dine-in only.
URL:https://jfkicksrestaurant.com/event/smash-burger-special/2026-03-23/
CATEGORIES:Food
ATTACH;FMTTYPE=image/jpeg:https://jfkicksrestaurant.com/wp-content/uploads/2025/08/Smash-Burger-Monday-Aug-2025.jpg
END:VEVENT
BEGIN:VEVENT
DTSTART;VALUE=DATE:20260323
DTEND;VALUE=DATE:20260325
DTSTAMP:20260423T045742
CREATED:20250829T152603Z
LAST-MODIFIED:20250829T152603Z
UID:10007860-1774231200-1774317599@jfkicksrestaurant.com
SUMMARY:Kids Eat Free
DESCRIPTION:All day on Mondays\, kids 12 and under eat free with the purchase of a single item valued at $15 or more. This offer is available for dine-in only.
URL:https://jfkicksrestaurant.com/event/kids-eat-free/2026-03-23/
CATEGORIES:Food
ATTACH;FMTTYPE=image/jpeg:https://jfkicksrestaurant.com/wp-content/uploads/2025/08/Kids-Eat-Free-Mondays-Aug-2025.jpg
END:VEVENT
BEGIN:VEVENT
DTSTART;VALUE=DATE:20260324
DTEND;VALUE=DATE:20260326
DTSTAMP:20260423T045742
CREATED:20250829T152333Z
LAST-MODIFIED:20260105T232636Z
UID:10007599-1774317600-1774403999@jfkicksrestaurant.com
SUMMARY:Taco Tuesday
DESCRIPTION:Come on in for our 3 for $6 tacos ordered with a hard or soft shell and beef or chicken! We $5 Margaritas too!
URL:https://jfkicksrestaurant.com/event/taco-tuesday-2/2026-03-24/
CATEGORIES:Food
ATTACH;FMTTYPE=image/jpeg:https://jfkicksrestaurant.com/wp-content/uploads/2023/12/Taco-Tuesday-2-11-2025.jpg
END:VEVENT
BEGIN:VEVENT
DTSTART;VALUE=DATE:20260325
DTEND;VALUE=DATE:20260327
DTSTAMP:20260423T045742
CREATED:20231220T214515Z
LAST-MODIFIED:20260312T171055Z
UID:10009779-1774404000-1774490399@jfkicksrestaurant.com
SUMMARY:Pasta Night
DESCRIPTION:Wednesday is Pasta Night! Get our Chicken Parmesan or Spaghetti & Meatball Dinner for just $12.99 or Chicken Parmesan or Meatball Sub for only $10.99! Pair with a glass of our house wine on happy hour\, ’til 7pm!
URL:https://jfkicksrestaurant.com/event/pasta-night-every-wednesday/2026-03-25/
CATEGORIES:Food
ATTACH;FMTTYPE=image/jpeg:https://jfkicksrestaurant.com/wp-content/uploads/2023/12/412409329_780079227473443_7247072684232210429_n.jpg
END:VEVENT
BEGIN:VEVENT
DTSTART;VALUE=DATE:20260326
DTEND;VALUE=DATE:20260328
DTSTAMP:20260423T045742
CREATED:20260312T170853Z
LAST-MODIFIED:20260312T170853Z
UID:10009404-1774490400-1774576799@jfkicksrestaurant.com
SUMMARY:Chicken Wings and French Fries Special
DESCRIPTION:Check out our $12.95 Chicken Wings and French Fry special\, available all day Thursdays for dine-in!
URL:https://jfkicksrestaurant.com/event/chicken-wings-and-french-fries-special/2026-03-26/
CATEGORIES:Food
ATTACH;FMTTYPE=image/jpeg:https://jfkicksrestaurant.com/wp-content/uploads/2026/03/Chicken-Wings-Special-03-12-2026.jpg
END:VEVENT
BEGIN:VEVENT
DTSTART;TZID=America/New_York:20260326T120000
DTEND;TZID=America/New_York:20260326T230000
DTSTAMP:20260423T045742
CREATED:20260303T172616Z
LAST-MODIFIED:20260303T172617Z
UID:10009396-1774526400-1774566000@jfkicksrestaurant.com
SUMMARY:MLB Opening Day
DESCRIPTION:Enjoy MLB Opening Day at JF Kicks with food and drink specials\, starting at 12pm! We’ve got TVs inside and on our covered patio to watch the games. Check out our offerings:\n\n– Drinks & Shots Specials– Hot Dogs & Chili Dogs– Hot Boiled Peanuts– Hand-Dipped Corndogs
URL:https://jfkicksrestaurant.com/event/mlb-opening-day-2/
CATEGORIES:Drinks,Food,Sports
ATTACH;FMTTYPE=image/jpeg:https://jfkicksrestaurant.com/wp-content/uploads/2026/03/BASEBALL_MLBOpeningDay.jpeg
END:VEVENT
BEGIN:VEVENT
DTSTART;VALUE=DATE:20260327
DTEND;VALUE=DATE:20260329
DTSTAMP:20260423T045742
CREATED:20240115T130234Z
LAST-MODIFIED:20250901T230000Z
UID:10008209-1774576800-1774663199@jfkicksrestaurant.com
SUMMARY:All You Can Eat Fish & Chips
DESCRIPTION:Delicious\, crispy All You Can Eat Fish & Chips for $14.95 every Friday all day!
URL:https://jfkicksrestaurant.com/event/all-you-can-eat-fish-chips/2026-03-27/
CATEGORIES:Food
ATTACH;FMTTYPE=image/jpeg:https://jfkicksrestaurant.com/wp-content/uploads/2024/01/All-You-Can-Eat-Fish-n-Chips-January-2025.jpg.jpeg
END:VEVENT
END:VCALENDAR