BEGIN:VCALENDAR
VERSION:2.0
PRODID:-//JF Kicks Restaurant - ECPv6.15.18//NONSGML v1.0//EN
CALSCALE:GREGORIAN
METHOD:PUBLISH
X-WR-CALNAME:JF Kicks Restaurant
X-ORIGINAL-URL:https://jfkicksrestaurant.com
X-WR-CALDESC:Events for JF Kicks Restaurant
REFRESH-INTERVAL;VALUE=DURATION:PT1H
X-Robots-Tag:noindex
X-PUBLISHED-TTL:PT1H
BEGIN:VTIMEZONE
TZID:America/New_York
BEGIN:DAYLIGHT
TZOFFSETFROM:-0500
TZOFFSETTO:-0400
TZNAME:EDT
DTSTART:20250309T070000
END:DAYLIGHT
BEGIN:STANDARD
TZOFFSETFROM:-0400
TZOFFSETTO:-0500
TZNAME:EST
DTSTART:20251102T060000
END:STANDARD
BEGIN:DAYLIGHT
TZOFFSETFROM:-0500
TZOFFSETTO:-0400
TZNAME:EDT
DTSTART:20260308T070000
END:DAYLIGHT
BEGIN:STANDARD
TZOFFSETFROM:-0400
TZOFFSETTO:-0500
TZNAME:EST
DTSTART:20261101T060000
END:STANDARD
BEGIN:DAYLIGHT
TZOFFSETFROM:-0500
TZOFFSETTO:-0400
TZNAME:EDT
DTSTART:20270314T070000
END:DAYLIGHT
BEGIN:STANDARD
TZOFFSETFROM:-0400
TZOFFSETTO:-0500
TZNAME:EST
DTSTART:20271107T060000
END:STANDARD
END:VTIMEZONE
BEGIN:VEVENT
DTSTART;VALUE=DATE:20260119
DTEND;VALUE=DATE:20260121
DTSTAMP:20260423T045729
CREATED:20250829T152007Z
LAST-MODIFIED:20250829T152054Z
UID:10007330-1768788000-1768874399@jfkicksrestaurant.com
SUMMARY:Smash Burger Special
DESCRIPTION:On Mondays\, enjoy our Smash Burger special all day – a delicious smash burger served with Gaelic chips for $10.95. Available for dine-in only.
URL:https://jfkicksrestaurant.com/event/smash-burger-special/2026-01-19/
CATEGORIES:Food
ATTACH;FMTTYPE=image/jpeg:https://jfkicksrestaurant.com/wp-content/uploads/2025/08/Smash-Burger-Monday-Aug-2025.jpg
END:VEVENT
BEGIN:VEVENT
DTSTART;VALUE=DATE:20260119
DTEND;VALUE=DATE:20260121
DTSTAMP:20260423T045729
CREATED:20250829T152603Z
LAST-MODIFIED:20250829T152603Z
UID:10007851-1768788000-1768874399@jfkicksrestaurant.com
SUMMARY:Kids Eat Free
DESCRIPTION:All day on Mondays\, kids 12 and under eat free with the purchase of a single item valued at $15 or more. This offer is available for dine-in only.
URL:https://jfkicksrestaurant.com/event/kids-eat-free/2026-01-19/
CATEGORIES:Food
ATTACH;FMTTYPE=image/jpeg:https://jfkicksrestaurant.com/wp-content/uploads/2025/08/Kids-Eat-Free-Mondays-Aug-2025.jpg
END:VEVENT
BEGIN:VEVENT
DTSTART;VALUE=DATE:20260120
DTEND;VALUE=DATE:20260122
DTSTAMP:20260423T045729
CREATED:20250829T152333Z
LAST-MODIFIED:20260105T232636Z
UID:10007590-1768874400-1768960799@jfkicksrestaurant.com
SUMMARY:Taco Tuesday
DESCRIPTION:Come on in for our 3 for $6 tacos ordered with a hard or soft shell and beef or chicken! We $5 Margaritas too!
URL:https://jfkicksrestaurant.com/event/taco-tuesday-2/2026-01-20/
CATEGORIES:Food
ATTACH;FMTTYPE=image/jpeg:https://jfkicksrestaurant.com/wp-content/uploads/2023/12/Taco-Tuesday-2-11-2025.jpg
END:VEVENT
BEGIN:VEVENT
DTSTART;VALUE=DATE:20260121
DTEND;VALUE=DATE:20260123
DTSTAMP:20260423T045729
CREATED:20231220T214515Z
LAST-MODIFIED:20260312T171055Z
UID:10009770-1768960800-1769047199@jfkicksrestaurant.com
SUMMARY:Pasta Night
DESCRIPTION:Wednesday is Pasta Night! Get our Chicken Parmesan or Spaghetti & Meatball Dinner for just $12.99 or Chicken Parmesan or Meatball Sub for only $10.99! Pair with a glass of our house wine on happy hour\, ’til 7pm!
URL:https://jfkicksrestaurant.com/event/pasta-night-every-wednesday/2026-01-21/
CATEGORIES:Food
ATTACH;FMTTYPE=image/jpeg:https://jfkicksrestaurant.com/wp-content/uploads/2023/12/412409329_780079227473443_7247072684232210429_n.jpg
END:VEVENT
BEGIN:VEVENT
DTSTART;VALUE=DATE:20260123
DTEND;VALUE=DATE:20260125
DTSTAMP:20260423T045729
CREATED:20240115T130234Z
LAST-MODIFIED:20250901T230000Z
UID:10008200-1769133600-1769219999@jfkicksrestaurant.com
SUMMARY:All You Can Eat Fish & Chips
DESCRIPTION:Delicious\, crispy All You Can Eat Fish & Chips for $14.95 every Friday all day!
URL:https://jfkicksrestaurant.com/event/all-you-can-eat-fish-chips/2026-01-23/
CATEGORIES:Food
ATTACH;FMTTYPE=image/jpeg:https://jfkicksrestaurant.com/wp-content/uploads/2024/01/All-You-Can-Eat-Fish-n-Chips-January-2025.jpg.jpeg
END:VEVENT
BEGIN:VEVENT
DTSTART;TZID=America/New_York:20260124T110000
DTEND;TZID=America/New_York:20260124T150000
DTSTAMP:20260423T045729
CREATED:20240115T134039Z
LAST-MODIFIED:20241116T043704Z
UID:10005590-1769252400-1769266800@jfkicksrestaurant.com
SUMMARY:Shaved Prime Rib Sandwich Lunch Special
DESCRIPTION:Try our Saturday lunch special\, Shaved Prime Rib on a garlic grilled hoagie with horsey sauce\, onions\, mushrooms\, and cheddarjack cheese served with side of fries for $12.95.
URL:https://jfkicksrestaurant.com/event/shaved-prime-rib-sandwich-lunch-special/2026-01-24/
CATEGORIES:Food
ATTACH;FMTTYPE=image/jpeg:https://jfkicksrestaurant.com/wp-content/uploads/2024/01/Shaved-Prime-Rib-Sandwich-.jpg
END:VEVENT
BEGIN:VEVENT
DTSTART;TZID=America/New_York:20260124T160000
DTEND;TZID=America/New_York:20260124T210000
DTSTAMP:20260423T045729
CREATED:20231220T071858Z
LAST-MODIFIED:20240115T134139Z
UID:10003323-1769270400-1769288400@jfkicksrestaurant.com
SUMMARY:Half Priced Peel-N-Eat Shrimp Dinner Special
DESCRIPTION:Saturdays we offer Half Priced Peel-N-Eat Shrimp from 4-9pm!
URL:https://jfkicksrestaurant.com/event/half-price-peel-n-eat-shrimp/2026-01-24/
CATEGORIES:Food
ATTACH;FMTTYPE=image/jpeg:https://jfkicksrestaurant.com/wp-content/uploads/2023/12/410739926_777516257729740_5467180394573693269_n.jpg
END:VEVENT
BEGIN:VEVENT
DTSTART;VALUE=DATE:20260126
DTEND;VALUE=DATE:20260128
DTSTAMP:20260423T045729
CREATED:20250829T152007Z
LAST-MODIFIED:20250829T152054Z
UID:10007331-1769392800-1769479199@jfkicksrestaurant.com
SUMMARY:Smash Burger Special
DESCRIPTION:On Mondays\, enjoy our Smash Burger special all day – a delicious smash burger served with Gaelic chips for $10.95. Available for dine-in only.
URL:https://jfkicksrestaurant.com/event/smash-burger-special/2026-01-26/
CATEGORIES:Food
ATTACH;FMTTYPE=image/jpeg:https://jfkicksrestaurant.com/wp-content/uploads/2025/08/Smash-Burger-Monday-Aug-2025.jpg
END:VEVENT
BEGIN:VEVENT
DTSTART;VALUE=DATE:20260126
DTEND;VALUE=DATE:20260128
DTSTAMP:20260423T045729
CREATED:20250829T152603Z
LAST-MODIFIED:20250829T152603Z
UID:10007852-1769392800-1769479199@jfkicksrestaurant.com
SUMMARY:Kids Eat Free
DESCRIPTION:All day on Mondays\, kids 12 and under eat free with the purchase of a single item valued at $15 or more. This offer is available for dine-in only.
URL:https://jfkicksrestaurant.com/event/kids-eat-free/2026-01-26/
CATEGORIES:Food
ATTACH;FMTTYPE=image/jpeg:https://jfkicksrestaurant.com/wp-content/uploads/2025/08/Kids-Eat-Free-Mondays-Aug-2025.jpg
END:VEVENT
BEGIN:VEVENT
DTSTART;VALUE=DATE:20260127
DTEND;VALUE=DATE:20260129
DTSTAMP:20260423T045729
CREATED:20250829T152333Z
LAST-MODIFIED:20260105T232636Z
UID:10007591-1769479200-1769565599@jfkicksrestaurant.com
SUMMARY:Taco Tuesday
DESCRIPTION:Come on in for our 3 for $6 tacos ordered with a hard or soft shell and beef or chicken! We $5 Margaritas too!
URL:https://jfkicksrestaurant.com/event/taco-tuesday-2/2026-01-27/
CATEGORIES:Food
ATTACH;FMTTYPE=image/jpeg:https://jfkicksrestaurant.com/wp-content/uploads/2023/12/Taco-Tuesday-2-11-2025.jpg
END:VEVENT
BEGIN:VEVENT
DTSTART;VALUE=DATE:20260128
DTEND;VALUE=DATE:20260130
DTSTAMP:20260423T045729
CREATED:20231220T214515Z
LAST-MODIFIED:20260312T171055Z
UID:10009771-1769565600-1769651999@jfkicksrestaurant.com
SUMMARY:Pasta Night
DESCRIPTION:Wednesday is Pasta Night! Get our Chicken Parmesan or Spaghetti & Meatball Dinner for just $12.99 or Chicken Parmesan or Meatball Sub for only $10.99! Pair with a glass of our house wine on happy hour\, ’til 7pm!
URL:https://jfkicksrestaurant.com/event/pasta-night-every-wednesday/2026-01-28/
CATEGORIES:Food
ATTACH;FMTTYPE=image/jpeg:https://jfkicksrestaurant.com/wp-content/uploads/2023/12/412409329_780079227473443_7247072684232210429_n.jpg
END:VEVENT
BEGIN:VEVENT
DTSTART;VALUE=DATE:20260130
DTEND;VALUE=DATE:20260201
DTSTAMP:20260423T045729
CREATED:20240115T130234Z
LAST-MODIFIED:20250901T230000Z
UID:10008201-1769738400-1769824799@jfkicksrestaurant.com
SUMMARY:All You Can Eat Fish & Chips
DESCRIPTION:Delicious\, crispy All You Can Eat Fish & Chips for $14.95 every Friday all day!
URL:https://jfkicksrestaurant.com/event/all-you-can-eat-fish-chips/2026-01-30/
CATEGORIES:Food
ATTACH;FMTTYPE=image/jpeg:https://jfkicksrestaurant.com/wp-content/uploads/2024/01/All-You-Can-Eat-Fish-n-Chips-January-2025.jpg.jpeg
END:VEVENT
BEGIN:VEVENT
DTSTART;TZID=America/New_York:20260131T110000
DTEND;TZID=America/New_York:20260131T150000
DTSTAMP:20260423T045729
CREATED:20240115T134039Z
LAST-MODIFIED:20241116T043704Z
UID:10005591-1769857200-1769871600@jfkicksrestaurant.com
SUMMARY:Shaved Prime Rib Sandwich Lunch Special
DESCRIPTION:Try our Saturday lunch special\, Shaved Prime Rib on a garlic grilled hoagie with horsey sauce\, onions\, mushrooms\, and cheddarjack cheese served with side of fries for $12.95.
URL:https://jfkicksrestaurant.com/event/shaved-prime-rib-sandwich-lunch-special/2026-01-31/
CATEGORIES:Food
ATTACH;FMTTYPE=image/jpeg:https://jfkicksrestaurant.com/wp-content/uploads/2024/01/Shaved-Prime-Rib-Sandwich-.jpg
END:VEVENT
BEGIN:VEVENT
DTSTART;TZID=America/New_York:20260131T160000
DTEND;TZID=America/New_York:20260131T210000
DTSTAMP:20260423T045729
CREATED:20231220T071858Z
LAST-MODIFIED:20240115T134139Z
UID:10003324-1769875200-1769893200@jfkicksrestaurant.com
SUMMARY:Half Priced Peel-N-Eat Shrimp Dinner Special
DESCRIPTION:Saturdays we offer Half Priced Peel-N-Eat Shrimp from 4-9pm!
URL:https://jfkicksrestaurant.com/event/half-price-peel-n-eat-shrimp/2026-01-31/
CATEGORIES:Food
ATTACH;FMTTYPE=image/jpeg:https://jfkicksrestaurant.com/wp-content/uploads/2023/12/410739926_777516257729740_5467180394573693269_n.jpg
END:VEVENT
BEGIN:VEVENT
DTSTART;TZID=America/New_York:20260201T130000
DTEND;TZID=America/New_York:20260201T150000
DTSTAMP:20260423T045729
CREATED:20251208T135409Z
LAST-MODIFIED:20260201T030758Z
UID:10008656-1769950800-1769958000@jfkicksrestaurant.com
SUMMARY:Annual Chili Cookoff
DESCRIPTION:Join the Annual Chili Cookoff at JF Kicks! To join the cookoff and compete to be the chili champion\, please email tamra@jfkicksrestaurant.com or sign up at JF Kicks. Include your name\, contact phone number\, and the name for your chili. On the day of the competition\, bring your chili in a crockpot by 1pm. \nA randomly selected judging committee will determine the winner. There will be 1st\, 2nd\, and 3rd place winners awarded. 1st Place receives a chili trophy\, a $50 gift card\, and bragging rights until next year.
URL:https://jfkicksrestaurant.com/event/annual-chili-cookoff/
CATEGORIES:Food
ATTACH;FMTTYPE=image/jpeg:https://jfkicksrestaurant.com/wp-content/uploads/2025/12/Chili-Cookoff-Feb-1-updated.jpeg
END:VEVENT
BEGIN:VEVENT
DTSTART;VALUE=DATE:20260202
DTEND;VALUE=DATE:20260204
DTSTAMP:20260423T045729
CREATED:20250829T152007Z
LAST-MODIFIED:20250829T152054Z
UID:10007332-1769997600-1770083999@jfkicksrestaurant.com
SUMMARY:Smash Burger Special
DESCRIPTION:On Mondays\, enjoy our Smash Burger special all day – a delicious smash burger served with Gaelic chips for $10.95. Available for dine-in only.
URL:https://jfkicksrestaurant.com/event/smash-burger-special/2026-02-02/
CATEGORIES:Food
ATTACH;FMTTYPE=image/jpeg:https://jfkicksrestaurant.com/wp-content/uploads/2025/08/Smash-Burger-Monday-Aug-2025.jpg
END:VEVENT
BEGIN:VEVENT
DTSTART;VALUE=DATE:20260202
DTEND;VALUE=DATE:20260204
DTSTAMP:20260423T045729
CREATED:20250829T152603Z
LAST-MODIFIED:20250829T152603Z
UID:10007853-1769997600-1770083999@jfkicksrestaurant.com
SUMMARY:Kids Eat Free
DESCRIPTION:All day on Mondays\, kids 12 and under eat free with the purchase of a single item valued at $15 or more. This offer is available for dine-in only.
URL:https://jfkicksrestaurant.com/event/kids-eat-free/2026-02-02/
CATEGORIES:Food
ATTACH;FMTTYPE=image/jpeg:https://jfkicksrestaurant.com/wp-content/uploads/2025/08/Kids-Eat-Free-Mondays-Aug-2025.jpg
END:VEVENT
BEGIN:VEVENT
DTSTART;VALUE=DATE:20260203
DTEND;VALUE=DATE:20260205
DTSTAMP:20260423T045729
CREATED:20250829T152333Z
LAST-MODIFIED:20260105T232636Z
UID:10007592-1770084000-1770170399@jfkicksrestaurant.com
SUMMARY:Taco Tuesday
DESCRIPTION:Come on in for our 3 for $6 tacos ordered with a hard or soft shell and beef or chicken! We $5 Margaritas too!
URL:https://jfkicksrestaurant.com/event/taco-tuesday-2/2026-02-03/
CATEGORIES:Food
ATTACH;FMTTYPE=image/jpeg:https://jfkicksrestaurant.com/wp-content/uploads/2023/12/Taco-Tuesday-2-11-2025.jpg
END:VEVENT
BEGIN:VEVENT
DTSTART;VALUE=DATE:20260204
DTEND;VALUE=DATE:20260206
DTSTAMP:20260423T045729
CREATED:20231220T214515Z
LAST-MODIFIED:20260312T171055Z
UID:10009772-1770170400-1770256799@jfkicksrestaurant.com
SUMMARY:Pasta Night
DESCRIPTION:Wednesday is Pasta Night! Get our Chicken Parmesan or Spaghetti & Meatball Dinner for just $12.99 or Chicken Parmesan or Meatball Sub for only $10.99! Pair with a glass of our house wine on happy hour\, ’til 7pm!
URL:https://jfkicksrestaurant.com/event/pasta-night-every-wednesday/2026-02-04/
CATEGORIES:Food
ATTACH;FMTTYPE=image/jpeg:https://jfkicksrestaurant.com/wp-content/uploads/2023/12/412409329_780079227473443_7247072684232210429_n.jpg
END:VEVENT
BEGIN:VEVENT
DTSTART;VALUE=DATE:20260206
DTEND;VALUE=DATE:20260208
DTSTAMP:20260423T045729
CREATED:20240115T130234Z
LAST-MODIFIED:20250901T230000Z
UID:10008202-1770343200-1770429599@jfkicksrestaurant.com
SUMMARY:All You Can Eat Fish & Chips
DESCRIPTION:Delicious\, crispy All You Can Eat Fish & Chips for $14.95 every Friday all day!
URL:https://jfkicksrestaurant.com/event/all-you-can-eat-fish-chips/2026-02-06/
CATEGORIES:Food
ATTACH;FMTTYPE=image/jpeg:https://jfkicksrestaurant.com/wp-content/uploads/2024/01/All-You-Can-Eat-Fish-n-Chips-January-2025.jpg.jpeg
END:VEVENT
BEGIN:VEVENT
DTSTART;TZID=America/New_York:20260207T110000
DTEND;TZID=America/New_York:20260207T150000
DTSTAMP:20260423T045729
CREATED:20240115T134039Z
LAST-MODIFIED:20241116T043704Z
UID:10005592-1770462000-1770476400@jfkicksrestaurant.com
SUMMARY:Shaved Prime Rib Sandwich Lunch Special
DESCRIPTION:Try our Saturday lunch special\, Shaved Prime Rib on a garlic grilled hoagie with horsey sauce\, onions\, mushrooms\, and cheddarjack cheese served with side of fries for $12.95.
URL:https://jfkicksrestaurant.com/event/shaved-prime-rib-sandwich-lunch-special/2026-02-07/
CATEGORIES:Food
ATTACH;FMTTYPE=image/jpeg:https://jfkicksrestaurant.com/wp-content/uploads/2024/01/Shaved-Prime-Rib-Sandwich-.jpg
END:VEVENT
BEGIN:VEVENT
DTSTART;TZID=America/New_York:20260207T160000
DTEND;TZID=America/New_York:20260207T210000
DTSTAMP:20260423T045729
CREATED:20231220T071858Z
LAST-MODIFIED:20240115T134139Z
UID:10003325-1770480000-1770498000@jfkicksrestaurant.com
SUMMARY:Half Priced Peel-N-Eat Shrimp Dinner Special
DESCRIPTION:Saturdays we offer Half Priced Peel-N-Eat Shrimp from 4-9pm!
URL:https://jfkicksrestaurant.com/event/half-price-peel-n-eat-shrimp/2026-02-07/
CATEGORIES:Food
ATTACH;FMTTYPE=image/jpeg:https://jfkicksrestaurant.com/wp-content/uploads/2023/12/410739926_777516257729740_5467180394573693269_n.jpg
END:VEVENT
BEGIN:VEVENT
DTSTART;VALUE=DATE:20260209
DTEND;VALUE=DATE:20260211
DTSTAMP:20260423T045729
CREATED:20250829T152007Z
LAST-MODIFIED:20250829T152054Z
UID:10007333-1770602400-1770688799@jfkicksrestaurant.com
SUMMARY:Smash Burger Special
DESCRIPTION:On Mondays\, enjoy our Smash Burger special all day – a delicious smash burger served with Gaelic chips for $10.95. Available for dine-in only.
URL:https://jfkicksrestaurant.com/event/smash-burger-special/2026-02-09/
CATEGORIES:Food
ATTACH;FMTTYPE=image/jpeg:https://jfkicksrestaurant.com/wp-content/uploads/2025/08/Smash-Burger-Monday-Aug-2025.jpg
END:VEVENT
BEGIN:VEVENT
DTSTART;VALUE=DATE:20260209
DTEND;VALUE=DATE:20260211
DTSTAMP:20260423T045729
CREATED:20250829T152603Z
LAST-MODIFIED:20250829T152603Z
UID:10007854-1770602400-1770688799@jfkicksrestaurant.com
SUMMARY:Kids Eat Free
DESCRIPTION:All day on Mondays\, kids 12 and under eat free with the purchase of a single item valued at $15 or more. This offer is available for dine-in only.
URL:https://jfkicksrestaurant.com/event/kids-eat-free/2026-02-09/
CATEGORIES:Food
ATTACH;FMTTYPE=image/jpeg:https://jfkicksrestaurant.com/wp-content/uploads/2025/08/Kids-Eat-Free-Mondays-Aug-2025.jpg
END:VEVENT
BEGIN:VEVENT
DTSTART;VALUE=DATE:20260210
DTEND;VALUE=DATE:20260212
DTSTAMP:20260423T045729
CREATED:20250829T152333Z
LAST-MODIFIED:20260105T232636Z
UID:10007593-1770688800-1770775199@jfkicksrestaurant.com
SUMMARY:Taco Tuesday
DESCRIPTION:Come on in for our 3 for $6 tacos ordered with a hard or soft shell and beef or chicken! We $5 Margaritas too!
URL:https://jfkicksrestaurant.com/event/taco-tuesday-2/2026-02-10/
CATEGORIES:Food
ATTACH;FMTTYPE=image/jpeg:https://jfkicksrestaurant.com/wp-content/uploads/2023/12/Taco-Tuesday-2-11-2025.jpg
END:VEVENT
BEGIN:VEVENT
DTSTART;VALUE=DATE:20260211
DTEND;VALUE=DATE:20260213
DTSTAMP:20260423T045729
CREATED:20231220T214515Z
LAST-MODIFIED:20260312T171055Z
UID:10009773-1770775200-1770861599@jfkicksrestaurant.com
SUMMARY:Pasta Night
DESCRIPTION:Wednesday is Pasta Night! Get our Chicken Parmesan or Spaghetti & Meatball Dinner for just $12.99 or Chicken Parmesan or Meatball Sub for only $10.99! Pair with a glass of our house wine on happy hour\, ’til 7pm!
URL:https://jfkicksrestaurant.com/event/pasta-night-every-wednesday/2026-02-11/
CATEGORIES:Food
ATTACH;FMTTYPE=image/jpeg:https://jfkicksrestaurant.com/wp-content/uploads/2023/12/412409329_780079227473443_7247072684232210429_n.jpg
END:VEVENT
BEGIN:VEVENT
DTSTART;TZID=America/New_York:20260211T190000
DTEND;TZID=America/New_York:20260211T210000
DTSTAMP:20260423T045729
CREATED:20260205T134335Z
LAST-MODIFIED:20260205T134601Z
UID:10009271-1770836400-1770843600@jfkicksrestaurant.com
SUMMARY:Paint & Sip with PaintTopia - Cheers to Love!
DESCRIPTION:Join us for a relaxing and creative Paint & Sip event! Enjoy a fun and social atmosphere as you follow step-by-step guidance to create your own masterpiece. No prior experience needed—just bring your creativity and enjoy a memorable evening! \nTickets are $35\, buy them here
URL:https://jfkicksrestaurant.com/event/paint-sip-with-painttopia-cheers-to-love/
CATEGORIES:Arts & Crafts,Community,Drinks,Food
ATTACH;FMTTYPE=image/jpeg:https://jfkicksrestaurant.com/wp-content/uploads/2026/02/Sip-Paint-02-11-2026.jpeg
END:VEVENT
BEGIN:VEVENT
DTSTART;TZID=America/New_York:20260212T180000
DTEND;TZID=America/New_York:20260212T210000
DTSTAMP:20260423T045729
CREATED:20251204T123733Z
LAST-MODIFIED:20260325T184613Z
UID:10008582-1770919200-1770930000@jfkicksrestaurant.com
SUMMARY:Bike Night
DESCRIPTION:It’s Bike Night at Kicks! Join us for a night with vendors\, food and drink specials\, Thursday Night Football\, and live music. It’s fun for all and free to the public.
URL:https://jfkicksrestaurant.com/event/bike-night-3/2026-02-12/
CATEGORIES:Community,Drinks,Food,Music
ATTACH;FMTTYPE=image/jpeg:https://jfkicksrestaurant.com/wp-content/uploads/2025/12/Bike-Night-2nd-Thursday-Dec-2025.jpeg
END:VEVENT
BEGIN:VEVENT
DTSTART;VALUE=DATE:20260213
DTEND;VALUE=DATE:20260215
DTSTAMP:20260423T045729
CREATED:20240115T130234Z
LAST-MODIFIED:20250901T230000Z
UID:10008203-1770948000-1771034399@jfkicksrestaurant.com
SUMMARY:All You Can Eat Fish & Chips
DESCRIPTION:Delicious\, crispy All You Can Eat Fish & Chips for $14.95 every Friday all day!
URL:https://jfkicksrestaurant.com/event/all-you-can-eat-fish-chips/2026-02-13/
CATEGORIES:Food
ATTACH;FMTTYPE=image/jpeg:https://jfkicksrestaurant.com/wp-content/uploads/2024/01/All-You-Can-Eat-Fish-n-Chips-January-2025.jpg.jpeg
END:VEVENT
BEGIN:VEVENT
DTSTART;TZID=America/New_York:20260214T110000
DTEND;TZID=America/New_York:20260214T150000
DTSTAMP:20260423T045729
CREATED:20240115T134039Z
LAST-MODIFIED:20241116T043704Z
UID:10005593-1771066800-1771081200@jfkicksrestaurant.com
SUMMARY:Shaved Prime Rib Sandwich Lunch Special
DESCRIPTION:Try our Saturday lunch special\, Shaved Prime Rib on a garlic grilled hoagie with horsey sauce\, onions\, mushrooms\, and cheddarjack cheese served with side of fries for $12.95.
URL:https://jfkicksrestaurant.com/event/shaved-prime-rib-sandwich-lunch-special/2026-02-14/
CATEGORIES:Food
ATTACH;FMTTYPE=image/jpeg:https://jfkicksrestaurant.com/wp-content/uploads/2024/01/Shaved-Prime-Rib-Sandwich-.jpg
END:VEVENT
END:VCALENDAR