BEGIN:VCALENDAR
VERSION:2.0
PRODID:-//JF Kicks Restaurant - ECPv6.15.18//NONSGML v1.0//EN
CALSCALE:GREGORIAN
METHOD:PUBLISH
X-WR-CALNAME:JF Kicks Restaurant
X-ORIGINAL-URL:https://jfkicksrestaurant.com
X-WR-CALDESC:Events for JF Kicks Restaurant
REFRESH-INTERVAL;VALUE=DURATION:PT1H
X-Robots-Tag:noindex
X-PUBLISHED-TTL:PT1H
BEGIN:VTIMEZONE
TZID:America/New_York
BEGIN:DAYLIGHT
TZOFFSETFROM:-0500
TZOFFSETTO:-0400
TZNAME:EDT
DTSTART:20240310T070000
END:DAYLIGHT
BEGIN:STANDARD
TZOFFSETFROM:-0400
TZOFFSETTO:-0500
TZNAME:EST
DTSTART:20241103T060000
END:STANDARD
BEGIN:DAYLIGHT
TZOFFSETFROM:-0500
TZOFFSETTO:-0400
TZNAME:EDT
DTSTART:20250309T070000
END:DAYLIGHT
BEGIN:STANDARD
TZOFFSETFROM:-0400
TZOFFSETTO:-0500
TZNAME:EST
DTSTART:20251102T060000
END:STANDARD
BEGIN:DAYLIGHT
TZOFFSETFROM:-0500
TZOFFSETTO:-0400
TZNAME:EDT
DTSTART:20260308T070000
END:DAYLIGHT
BEGIN:STANDARD
TZOFFSETFROM:-0400
TZOFFSETTO:-0500
TZNAME:EST
DTSTART:20261101T060000
END:STANDARD
END:VTIMEZONE
BEGIN:VEVENT
DTSTART;VALUE=DATE:20251201
DTEND;VALUE=DATE:20251203
DTSTAMP:20260423T100859
CREATED:20251017T124353Z
LAST-MODIFIED:20251017T124456Z
UID:10008547-1764554400-1764640799@jfkicksrestaurant.com
SUMMARY:Monday Night Football Specials
DESCRIPTION:Monday Night Football is at JF Kicks. Check out our Monday Night Football specials: \n\n$5 Jack Daniels\n$4 Shot Specials\n$18.95 Domestic Buckets\n$24.95 Import Buckets\n$28.95 Seltzer Buckets\nHappy Hour Specials 11am-7pm\n$10.95 Smash Burger
URL:https://jfkicksrestaurant.com/event/monday-night-football-specials/2025-12-01/
CATEGORIES:Drinks,Food,Sports
ATTACH;FMTTYPE=image/jpeg:https://jfkicksrestaurant.com/wp-content/uploads/2025/10/Monday-Night-Football-specials-2025-downsized.jpg
END:VEVENT
BEGIN:VEVENT
DTSTART;VALUE=DATE:20251202
DTEND;VALUE=DATE:20251204
DTSTAMP:20260423T100859
CREATED:20250829T152333Z
LAST-MODIFIED:20260105T232636Z
UID:10007583-1764640800-1764727199@jfkicksrestaurant.com
SUMMARY:Taco Tuesday
DESCRIPTION:Come on in for our 3 for $6 tacos ordered with a hard or soft shell and beef or chicken! We $5 Margaritas too!
URL:https://jfkicksrestaurant.com/event/taco-tuesday-2/2025-12-02/
CATEGORIES:Food
ATTACH;FMTTYPE=image/jpeg:https://jfkicksrestaurant.com/wp-content/uploads/2023/12/Taco-Tuesday-2-11-2025.jpg
END:VEVENT
BEGIN:VEVENT
DTSTART;VALUE=DATE:20251203
DTEND;VALUE=DATE:20251205
DTSTAMP:20260423T100859
CREATED:20231220T214515Z
LAST-MODIFIED:20260312T171055Z
UID:10009763-1764727200-1764813599@jfkicksrestaurant.com
SUMMARY:Pasta Night
DESCRIPTION:Wednesday is Pasta Night! Get our Chicken Parmesan or Spaghetti & Meatball Dinner for just $12.99 or Chicken Parmesan or Meatball Sub for only $10.99! Pair with a glass of our house wine on happy hour\, ’til 7pm!
URL:https://jfkicksrestaurant.com/event/pasta-night-every-wednesday/2025-12-03/
CATEGORIES:Food
ATTACH;FMTTYPE=image/jpeg:https://jfkicksrestaurant.com/wp-content/uploads/2023/12/412409329_780079227473443_7247072684232210429_n.jpg
END:VEVENT
BEGIN:VEVENT
DTSTART;VALUE=DATE:20251204
DTEND;VALUE=DATE:20251206
DTSTAMP:20260423T100859
CREATED:20250906T170157Z
LAST-MODIFIED:20251120T125300Z
UID:10008470-1764813600-1764899999@jfkicksrestaurant.com
SUMMARY:Thursday Night Football Specials
DESCRIPTION:Come watch Thursday Night Football at JF Kicks. Check out our Thursday Night Football specials: \n\n$5 Jack Daniels\n$4 Shot Specials\n$18.95 Domestic Buckets\n$24.95 Import Buckets\n$28.95 Seltzer Buckets\n$12.95 Chicken Wing Basket – 6 Bone-In or 10 Boneless Wings with French Fries
URL:https://jfkicksrestaurant.com/event/thursday-night-football-specials/2025-12-04/
CATEGORIES:Drinks,Food,Sports
ATTACH;FMTTYPE=image/jpeg:https://jfkicksrestaurant.com/wp-content/uploads/2025/09/Thursday-NFL-Drink-Specials-cropped.jpg
END:VEVENT
BEGIN:VEVENT
DTSTART;VALUE=DATE:20251205
DTEND;VALUE=DATE:20251207
DTSTAMP:20260423T100859
CREATED:20240115T130234Z
LAST-MODIFIED:20250901T230000Z
UID:10008193-1764900000-1764986399@jfkicksrestaurant.com
SUMMARY:All You Can Eat Fish & Chips
DESCRIPTION:Delicious\, crispy All You Can Eat Fish & Chips for $14.95 every Friday all day!
URL:https://jfkicksrestaurant.com/event/all-you-can-eat-fish-chips/2025-12-05/
CATEGORIES:Food
ATTACH;FMTTYPE=image/jpeg:https://jfkicksrestaurant.com/wp-content/uploads/2024/01/All-You-Can-Eat-Fish-n-Chips-January-2025.jpg.jpeg
END:VEVENT
BEGIN:VEVENT
DTSTART;TZID=America/New_York:20251205T180000
DTEND;TZID=America/New_York:20251205T220000
DTSTAMP:20260423T100859
CREATED:20251124T112313Z
LAST-MODIFIED:20251124T112313Z
UID:10008576-1764957600-1764972000@jfkicksrestaurant.com
SUMMARY:Christmas Olympics
DESCRIPTION:Lots of fun and games at the Christmas Olympics fundraiser for A1 Opportunities\, who help folks in need with outreach and support\, including housing. There will be music\, Karaoke\, a prize for best dressed\, and more! A ticket gets you a buffet style meal and a drink ticket. Call 813-313-9943 or email info@a1opportunities.org to RSVP
URL:https://jfkicksrestaurant.com/event/christmas-olympics/
CATEGORIES:Community,Drinks,Food,Fundraising,Game,Holiday,Music
ATTACH;FMTTYPE=image/jpeg:https://jfkicksrestaurant.com/wp-content/uploads/2025/11/Christmas-Olympics-Dec-5-2025.jpg
END:VEVENT
BEGIN:VEVENT
DTSTART;VALUE=DATE:20251206
DTEND;VALUE=DATE:20251208
DTSTAMP:20260423T100859
CREATED:20250906T165304Z
LAST-MODIFIED:20250906T165304Z
UID:10008454-1764986400-1765072799@jfkicksrestaurant.com
SUMMARY:College Football Specials
DESCRIPTION:Check out our Saturday College Football specials: \n\nHalf-Priced Peel n’ Eat Shrimp\n$5 Jack Daniels\n$4 Shot Specials\n$18.95 Domestic Buckets\n$24.95 Import Buckets\n$28.95 Seltzer Buckets\n$6.50 Tito’s Zing Zang Bloody Marys
URL:https://jfkicksrestaurant.com/event/college-football-specials/2025-12-06/
CATEGORIES:Drinks,Food,Sports
ATTACH;FMTTYPE=image/jpeg:https://jfkicksrestaurant.com/wp-content/uploads/2025/09/Saturday-College-Football-Specials-Sept-2025-cropped.jpg
END:VEVENT
BEGIN:VEVENT
DTSTART;TZID=America/New_York:20251206T110000
DTEND;TZID=America/New_York:20251206T150000
DTSTAMP:20260423T100859
CREATED:20240115T134039Z
LAST-MODIFIED:20241116T043704Z
UID:10005583-1765018800-1765033200@jfkicksrestaurant.com
SUMMARY:Shaved Prime Rib Sandwich Lunch Special
DESCRIPTION:Try our Saturday lunch special\, Shaved Prime Rib on a garlic grilled hoagie with horsey sauce\, onions\, mushrooms\, and cheddarjack cheese served with side of fries for $12.95.
URL:https://jfkicksrestaurant.com/event/shaved-prime-rib-sandwich-lunch-special/2025-12-06/
CATEGORIES:Food
ATTACH;FMTTYPE=image/jpeg:https://jfkicksrestaurant.com/wp-content/uploads/2024/01/Shaved-Prime-Rib-Sandwich-.jpg
END:VEVENT
BEGIN:VEVENT
DTSTART;TZID=America/New_York:20251206T160000
DTEND;TZID=America/New_York:20251206T210000
DTSTAMP:20260423T100859
CREATED:20231220T071858Z
LAST-MODIFIED:20240115T134139Z
UID:10003316-1765036800-1765054800@jfkicksrestaurant.com
SUMMARY:Half Priced Peel-N-Eat Shrimp Dinner Special
DESCRIPTION:Saturdays we offer Half Priced Peel-N-Eat Shrimp from 4-9pm!
URL:https://jfkicksrestaurant.com/event/half-price-peel-n-eat-shrimp/2025-12-06/
CATEGORIES:Food
ATTACH;FMTTYPE=image/jpeg:https://jfkicksrestaurant.com/wp-content/uploads/2023/12/410739926_777516257729740_5467180394573693269_n.jpg
END:VEVENT
BEGIN:VEVENT
DTSTART;VALUE=DATE:20251208
DTEND;VALUE=DATE:20251210
DTSTAMP:20260423T100859
CREATED:20250829T152007Z
LAST-MODIFIED:20250829T152054Z
UID:10007324-1765159200-1765245599@jfkicksrestaurant.com
SUMMARY:Smash Burger Special
DESCRIPTION:On Mondays\, enjoy our Smash Burger special all day – a delicious smash burger served with Gaelic chips for $10.95. Available for dine-in only.
URL:https://jfkicksrestaurant.com/event/smash-burger-special/2025-12-08/
CATEGORIES:Food
ATTACH;FMTTYPE=image/jpeg:https://jfkicksrestaurant.com/wp-content/uploads/2025/08/Smash-Burger-Monday-Aug-2025.jpg
END:VEVENT
BEGIN:VEVENT
DTSTART;VALUE=DATE:20251208
DTEND;VALUE=DATE:20251210
DTSTAMP:20260423T100859
CREATED:20250829T152603Z
LAST-MODIFIED:20250829T152603Z
UID:10007845-1765159200-1765245599@jfkicksrestaurant.com
SUMMARY:Kids Eat Free
DESCRIPTION:All day on Mondays\, kids 12 and under eat free with the purchase of a single item valued at $15 or more. This offer is available for dine-in only.
URL:https://jfkicksrestaurant.com/event/kids-eat-free/2025-12-08/
CATEGORIES:Food
ATTACH;FMTTYPE=image/jpeg:https://jfkicksrestaurant.com/wp-content/uploads/2025/08/Kids-Eat-Free-Mondays-Aug-2025.jpg
END:VEVENT
BEGIN:VEVENT
DTSTART;VALUE=DATE:20251208
DTEND;VALUE=DATE:20251210
DTSTAMP:20260423T100859
CREATED:20251017T124353Z
LAST-MODIFIED:20251017T124456Z
UID:10008548-1765159200-1765245599@jfkicksrestaurant.com
SUMMARY:Monday Night Football Specials
DESCRIPTION:Monday Night Football is at JF Kicks. Check out our Monday Night Football specials: \n\n$5 Jack Daniels\n$4 Shot Specials\n$18.95 Domestic Buckets\n$24.95 Import Buckets\n$28.95 Seltzer Buckets\nHappy Hour Specials 11am-7pm\n$10.95 Smash Burger
URL:https://jfkicksrestaurant.com/event/monday-night-football-specials/2025-12-08/
CATEGORIES:Drinks,Food,Sports
ATTACH;FMTTYPE=image/jpeg:https://jfkicksrestaurant.com/wp-content/uploads/2025/10/Monday-Night-Football-specials-2025-downsized.jpg
END:VEVENT
BEGIN:VEVENT
DTSTART;VALUE=DATE:20251209
DTEND;VALUE=DATE:20251211
DTSTAMP:20260423T100859
CREATED:20250829T152333Z
LAST-MODIFIED:20260105T232636Z
UID:10007584-1765245600-1765331999@jfkicksrestaurant.com
SUMMARY:Taco Tuesday
DESCRIPTION:Come on in for our 3 for $6 tacos ordered with a hard or soft shell and beef or chicken! We $5 Margaritas too!
URL:https://jfkicksrestaurant.com/event/taco-tuesday-2/2025-12-09/
CATEGORIES:Food
ATTACH;FMTTYPE=image/jpeg:https://jfkicksrestaurant.com/wp-content/uploads/2023/12/Taco-Tuesday-2-11-2025.jpg
END:VEVENT
BEGIN:VEVENT
DTSTART;VALUE=DATE:20251210
DTEND;VALUE=DATE:20251212
DTSTAMP:20260423T100859
CREATED:20231220T214515Z
LAST-MODIFIED:20260312T171055Z
UID:10009764-1765332000-1765418399@jfkicksrestaurant.com
SUMMARY:Pasta Night
DESCRIPTION:Wednesday is Pasta Night! Get our Chicken Parmesan or Spaghetti & Meatball Dinner for just $12.99 or Chicken Parmesan or Meatball Sub for only $10.99! Pair with a glass of our house wine on happy hour\, ’til 7pm!
URL:https://jfkicksrestaurant.com/event/pasta-night-every-wednesday/2025-12-10/
CATEGORIES:Food
ATTACH;FMTTYPE=image/jpeg:https://jfkicksrestaurant.com/wp-content/uploads/2023/12/412409329_780079227473443_7247072684232210429_n.jpg
END:VEVENT
BEGIN:VEVENT
DTSTART;VALUE=DATE:20251211
DTEND;VALUE=DATE:20251213
DTSTAMP:20260423T100859
CREATED:20250906T170157Z
LAST-MODIFIED:20251120T125300Z
UID:10008471-1765418400-1765504799@jfkicksrestaurant.com
SUMMARY:Thursday Night Football Specials
DESCRIPTION:Come watch Thursday Night Football at JF Kicks. Check out our Thursday Night Football specials: \n\n$5 Jack Daniels\n$4 Shot Specials\n$18.95 Domestic Buckets\n$24.95 Import Buckets\n$28.95 Seltzer Buckets\n$12.95 Chicken Wing Basket – 6 Bone-In or 10 Boneless Wings with French Fries
URL:https://jfkicksrestaurant.com/event/thursday-night-football-specials/2025-12-11/
CATEGORIES:Drinks,Food,Sports
ATTACH;FMTTYPE=image/jpeg:https://jfkicksrestaurant.com/wp-content/uploads/2025/09/Thursday-NFL-Drink-Specials-cropped.jpg
END:VEVENT
BEGIN:VEVENT
DTSTART;TZID=America/New_York:20251211T180000
DTEND;TZID=America/New_York:20251211T210000
DTSTAMP:20260423T100859
CREATED:20251204T123733Z
LAST-MODIFIED:20260325T184613Z
UID:10008580-1765476000-1765486800@jfkicksrestaurant.com
SUMMARY:Bike Night
DESCRIPTION:It’s Bike Night at Kicks! Join us for a night with vendors\, food and drink specials\, Thursday Night Football\, and live music. It’s fun for all and free to the public.
URL:https://jfkicksrestaurant.com/event/bike-night-3/2025-12-11/
CATEGORIES:Community,Drinks,Food,Music
ATTACH;FMTTYPE=image/jpeg:https://jfkicksrestaurant.com/wp-content/uploads/2025/12/Bike-Night-2nd-Thursday-Dec-2025.jpeg
END:VEVENT
BEGIN:VEVENT
DTSTART;VALUE=DATE:20251212
DTEND;VALUE=DATE:20251214
DTSTAMP:20260423T100859
CREATED:20240115T130234Z
LAST-MODIFIED:20250901T230000Z
UID:10008194-1765504800-1765591199@jfkicksrestaurant.com
SUMMARY:All You Can Eat Fish & Chips
DESCRIPTION:Delicious\, crispy All You Can Eat Fish & Chips for $14.95 every Friday all day!
URL:https://jfkicksrestaurant.com/event/all-you-can-eat-fish-chips/2025-12-12/
CATEGORIES:Food
ATTACH;FMTTYPE=image/jpeg:https://jfkicksrestaurant.com/wp-content/uploads/2024/01/All-You-Can-Eat-Fish-n-Chips-January-2025.jpg.jpeg
END:VEVENT
BEGIN:VEVENT
DTSTART;VALUE=DATE:20251213
DTEND;VALUE=DATE:20251215
DTSTAMP:20260423T100859
CREATED:20250906T165304Z
LAST-MODIFIED:20250906T165304Z
UID:10008455-1765591200-1765677599@jfkicksrestaurant.com
SUMMARY:College Football Specials
DESCRIPTION:Check out our Saturday College Football specials: \n\nHalf-Priced Peel n’ Eat Shrimp\n$5 Jack Daniels\n$4 Shot Specials\n$18.95 Domestic Buckets\n$24.95 Import Buckets\n$28.95 Seltzer Buckets\n$6.50 Tito’s Zing Zang Bloody Marys
URL:https://jfkicksrestaurant.com/event/college-football-specials/2025-12-13/
CATEGORIES:Drinks,Food,Sports
ATTACH;FMTTYPE=image/jpeg:https://jfkicksrestaurant.com/wp-content/uploads/2025/09/Saturday-College-Football-Specials-Sept-2025-cropped.jpg
END:VEVENT
BEGIN:VEVENT
DTSTART;TZID=America/New_York:20251213T110000
DTEND;TZID=America/New_York:20251213T150000
DTSTAMP:20260423T100859
CREATED:20240115T134039Z
LAST-MODIFIED:20241116T043704Z
UID:10005584-1765623600-1765638000@jfkicksrestaurant.com
SUMMARY:Shaved Prime Rib Sandwich Lunch Special
DESCRIPTION:Try our Saturday lunch special\, Shaved Prime Rib on a garlic grilled hoagie with horsey sauce\, onions\, mushrooms\, and cheddarjack cheese served with side of fries for $12.95.
URL:https://jfkicksrestaurant.com/event/shaved-prime-rib-sandwich-lunch-special/2025-12-13/
CATEGORIES:Food
ATTACH;FMTTYPE=image/jpeg:https://jfkicksrestaurant.com/wp-content/uploads/2024/01/Shaved-Prime-Rib-Sandwich-.jpg
END:VEVENT
BEGIN:VEVENT
DTSTART;TZID=America/New_York:20251213T160000
DTEND;TZID=America/New_York:20251213T210000
DTSTAMP:20260423T100859
CREATED:20231220T071858Z
LAST-MODIFIED:20240115T134139Z
UID:10003317-1765641600-1765659600@jfkicksrestaurant.com
SUMMARY:Half Priced Peel-N-Eat Shrimp Dinner Special
DESCRIPTION:Saturdays we offer Half Priced Peel-N-Eat Shrimp from 4-9pm!
URL:https://jfkicksrestaurant.com/event/half-price-peel-n-eat-shrimp/2025-12-13/
CATEGORIES:Food
ATTACH;FMTTYPE=image/jpeg:https://jfkicksrestaurant.com/wp-content/uploads/2023/12/410739926_777516257729740_5467180394573693269_n.jpg
END:VEVENT
BEGIN:VEVENT
DTSTART;VALUE=DATE:20251215
DTEND;VALUE=DATE:20251217
DTSTAMP:20260423T100859
CREATED:20250829T152007Z
LAST-MODIFIED:20250829T152054Z
UID:10007325-1765764000-1765850399@jfkicksrestaurant.com
SUMMARY:Smash Burger Special
DESCRIPTION:On Mondays\, enjoy our Smash Burger special all day – a delicious smash burger served with Gaelic chips for $10.95. Available for dine-in only.
URL:https://jfkicksrestaurant.com/event/smash-burger-special/2025-12-15/
CATEGORIES:Food
ATTACH;FMTTYPE=image/jpeg:https://jfkicksrestaurant.com/wp-content/uploads/2025/08/Smash-Burger-Monday-Aug-2025.jpg
END:VEVENT
BEGIN:VEVENT
DTSTART;VALUE=DATE:20251215
DTEND;VALUE=DATE:20251217
DTSTAMP:20260423T100859
CREATED:20250829T152603Z
LAST-MODIFIED:20250829T152603Z
UID:10007846-1765764000-1765850399@jfkicksrestaurant.com
SUMMARY:Kids Eat Free
DESCRIPTION:All day on Mondays\, kids 12 and under eat free with the purchase of a single item valued at $15 or more. This offer is available for dine-in only.
URL:https://jfkicksrestaurant.com/event/kids-eat-free/2025-12-15/
CATEGORIES:Food
ATTACH;FMTTYPE=image/jpeg:https://jfkicksrestaurant.com/wp-content/uploads/2025/08/Kids-Eat-Free-Mondays-Aug-2025.jpg
END:VEVENT
BEGIN:VEVENT
DTSTART;VALUE=DATE:20251215
DTEND;VALUE=DATE:20251217
DTSTAMP:20260423T100859
CREATED:20251017T124353Z
LAST-MODIFIED:20251017T124456Z
UID:10008549-1765764000-1765850399@jfkicksrestaurant.com
SUMMARY:Monday Night Football Specials
DESCRIPTION:Monday Night Football is at JF Kicks. Check out our Monday Night Football specials: \n\n$5 Jack Daniels\n$4 Shot Specials\n$18.95 Domestic Buckets\n$24.95 Import Buckets\n$28.95 Seltzer Buckets\nHappy Hour Specials 11am-7pm\n$10.95 Smash Burger
URL:https://jfkicksrestaurant.com/event/monday-night-football-specials/2025-12-15/
CATEGORIES:Drinks,Food,Sports
ATTACH;FMTTYPE=image/jpeg:https://jfkicksrestaurant.com/wp-content/uploads/2025/10/Monday-Night-Football-specials-2025-downsized.jpg
END:VEVENT
BEGIN:VEVENT
DTSTART;VALUE=DATE:20251216
DTEND;VALUE=DATE:20251218
DTSTAMP:20260423T100859
CREATED:20250829T152333Z
LAST-MODIFIED:20260105T232636Z
UID:10007585-1765850400-1765936799@jfkicksrestaurant.com
SUMMARY:Taco Tuesday
DESCRIPTION:Come on in for our 3 for $6 tacos ordered with a hard or soft shell and beef or chicken! We $5 Margaritas too!
URL:https://jfkicksrestaurant.com/event/taco-tuesday-2/2025-12-16/
CATEGORIES:Food
ATTACH;FMTTYPE=image/jpeg:https://jfkicksrestaurant.com/wp-content/uploads/2023/12/Taco-Tuesday-2-11-2025.jpg
END:VEVENT
BEGIN:VEVENT
DTSTART;VALUE=DATE:20251217
DTEND;VALUE=DATE:20251219
DTSTAMP:20260423T100859
CREATED:20231220T214515Z
LAST-MODIFIED:20260312T171055Z
UID:10009765-1765936800-1766023199@jfkicksrestaurant.com
SUMMARY:Pasta Night
DESCRIPTION:Wednesday is Pasta Night! Get our Chicken Parmesan or Spaghetti & Meatball Dinner for just $12.99 or Chicken Parmesan or Meatball Sub for only $10.99! Pair with a glass of our house wine on happy hour\, ’til 7pm!
URL:https://jfkicksrestaurant.com/event/pasta-night-every-wednesday/2025-12-17/
CATEGORIES:Food
ATTACH;FMTTYPE=image/jpeg:https://jfkicksrestaurant.com/wp-content/uploads/2023/12/412409329_780079227473443_7247072684232210429_n.jpg
END:VEVENT
BEGIN:VEVENT
DTSTART;TZID=America/New_York:20251217T190000
DTEND;TZID=America/New_York:20251217T210000
DTSTAMP:20260423T100859
CREATED:20251208T204655Z
LAST-MODIFIED:20251208T204726Z
UID:10008659-1765998000-1766005200@jfkicksrestaurant.com
SUMMARY:Customer Appreciation Party
DESCRIPTION:We are so grateful for our fantastic customers. We want to show our appreciation for your continued support on Wednesday\, December 17 from 7-9pm at our Second Annual Customer Appreciation Party. Join us for a special evening of light bites and drinks. Play Singo Music Bingo and compete to win in the Ugly Sweater Contest. And join the spirit of giving by bringing an unwrapped toy or $10 gift card to donate to local organization A Kid’s Place of Tampa Bay\, which “provides a safe\, loving\, and nurturing home for children in foster care.”
URL:https://jfkicksrestaurant.com/event/customer-appreciation-party/
CATEGORIES:Community,Drinks,Food,Holiday
ATTACH;FMTTYPE=image/jpeg:https://jfkicksrestaurant.com/wp-content/uploads/2025/12/Customer-Appreciation-Day-12-17-25.jpeg
END:VEVENT
BEGIN:VEVENT
DTSTART;VALUE=DATE:20251218
DTEND;VALUE=DATE:20251220
DTSTAMP:20260423T100859
CREATED:20250906T170157Z
LAST-MODIFIED:20251120T125300Z
UID:10008472-1766023200-1766109599@jfkicksrestaurant.com
SUMMARY:Thursday Night Football Specials
DESCRIPTION:Come watch Thursday Night Football at JF Kicks. Check out our Thursday Night Football specials: \n\n$5 Jack Daniels\n$4 Shot Specials\n$18.95 Domestic Buckets\n$24.95 Import Buckets\n$28.95 Seltzer Buckets\n$12.95 Chicken Wing Basket – 6 Bone-In or 10 Boneless Wings with French Fries
URL:https://jfkicksrestaurant.com/event/thursday-night-football-specials/2025-12-18/
CATEGORIES:Drinks,Food,Sports
ATTACH;FMTTYPE=image/jpeg:https://jfkicksrestaurant.com/wp-content/uploads/2025/09/Thursday-NFL-Drink-Specials-cropped.jpg
END:VEVENT
BEGIN:VEVENT
DTSTART;VALUE=DATE:20251219
DTEND;VALUE=DATE:20251221
DTSTAMP:20260423T100859
CREATED:20240115T130234Z
LAST-MODIFIED:20250901T230000Z
UID:10008195-1766109600-1766195999@jfkicksrestaurant.com
SUMMARY:All You Can Eat Fish & Chips
DESCRIPTION:Delicious\, crispy All You Can Eat Fish & Chips for $14.95 every Friday all day!
URL:https://jfkicksrestaurant.com/event/all-you-can-eat-fish-chips/2025-12-19/
CATEGORIES:Food
ATTACH;FMTTYPE=image/jpeg:https://jfkicksrestaurant.com/wp-content/uploads/2024/01/All-You-Can-Eat-Fish-n-Chips-January-2025.jpg.jpeg
END:VEVENT
BEGIN:VEVENT
DTSTART;VALUE=DATE:20251220
DTEND;VALUE=DATE:20251222
DTSTAMP:20260423T100859
CREATED:20250906T165304Z
LAST-MODIFIED:20250906T165304Z
UID:10008456-1766196000-1766282399@jfkicksrestaurant.com
SUMMARY:College Football Specials
DESCRIPTION:Check out our Saturday College Football specials: \n\nHalf-Priced Peel n’ Eat Shrimp\n$5 Jack Daniels\n$4 Shot Specials\n$18.95 Domestic Buckets\n$24.95 Import Buckets\n$28.95 Seltzer Buckets\n$6.50 Tito’s Zing Zang Bloody Marys
URL:https://jfkicksrestaurant.com/event/college-football-specials/2025-12-20/
CATEGORIES:Drinks,Food,Sports
ATTACH;FMTTYPE=image/jpeg:https://jfkicksrestaurant.com/wp-content/uploads/2025/09/Saturday-College-Football-Specials-Sept-2025-cropped.jpg
END:VEVENT
BEGIN:VEVENT
DTSTART;TZID=America/New_York:20251220T110000
DTEND;TZID=America/New_York:20251220T150000
DTSTAMP:20260423T100859
CREATED:20240115T134039Z
LAST-MODIFIED:20241116T043704Z
UID:10005585-1766228400-1766242800@jfkicksrestaurant.com
SUMMARY:Shaved Prime Rib Sandwich Lunch Special
DESCRIPTION:Try our Saturday lunch special\, Shaved Prime Rib on a garlic grilled hoagie with horsey sauce\, onions\, mushrooms\, and cheddarjack cheese served with side of fries for $12.95.
URL:https://jfkicksrestaurant.com/event/shaved-prime-rib-sandwich-lunch-special/2025-12-20/
CATEGORIES:Food
ATTACH;FMTTYPE=image/jpeg:https://jfkicksrestaurant.com/wp-content/uploads/2024/01/Shaved-Prime-Rib-Sandwich-.jpg
END:VEVENT
END:VCALENDAR