BEGIN:VCALENDAR
VERSION:2.0
PRODID:-//JF Kicks Restaurant - ECPv6.15.18//NONSGML v1.0//EN
CALSCALE:GREGORIAN
METHOD:PUBLISH
X-WR-CALNAME:JF Kicks Restaurant
X-ORIGINAL-URL:https://jfkicksrestaurant.com
X-WR-CALDESC:Events for JF Kicks Restaurant
REFRESH-INTERVAL;VALUE=DURATION:PT1H
X-Robots-Tag:noindex
X-PUBLISHED-TTL:PT1H
BEGIN:VTIMEZONE
TZID:America/New_York
BEGIN:DAYLIGHT
TZOFFSETFROM:-0500
TZOFFSETTO:-0400
TZNAME:EDT
DTSTART:20250309T070000
END:DAYLIGHT
BEGIN:STANDARD
TZOFFSETFROM:-0400
TZOFFSETTO:-0500
TZNAME:EST
DTSTART:20251102T060000
END:STANDARD
BEGIN:DAYLIGHT
TZOFFSETFROM:-0500
TZOFFSETTO:-0400
TZNAME:EDT
DTSTART:20260308T070000
END:DAYLIGHT
BEGIN:STANDARD
TZOFFSETFROM:-0400
TZOFFSETTO:-0500
TZNAME:EST
DTSTART:20261101T060000
END:STANDARD
BEGIN:DAYLIGHT
TZOFFSETFROM:-0500
TZOFFSETTO:-0400
TZNAME:EDT
DTSTART:20270314T070000
END:DAYLIGHT
BEGIN:STANDARD
TZOFFSETFROM:-0400
TZOFFSETTO:-0500
TZNAME:EST
DTSTART:20271107T060000
END:STANDARD
END:VTIMEZONE
BEGIN:VEVENT
DTSTART;VALUE=DATE:20260317
DTEND;VALUE=DATE:20260319
DTSTAMP:20260423T013837
CREATED:20250829T152333Z
LAST-MODIFIED:20260105T232636Z
UID:10007598-1773712800-1773799199@jfkicksrestaurant.com
SUMMARY:Taco Tuesday
DESCRIPTION:Come on in for our 3 for $6 tacos ordered with a hard or soft shell and beef or chicken! We $5 Margaritas too!
URL:https://jfkicksrestaurant.com/event/taco-tuesday-2/2026-03-17/
CATEGORIES:Food
ATTACH;FMTTYPE=image/jpeg:https://jfkicksrestaurant.com/wp-content/uploads/2023/12/Taco-Tuesday-2-11-2025.jpg
END:VEVENT
BEGIN:VEVENT
DTSTART;TZID=America/New_York:20260317T110000
DTEND;TZID=America/New_York:20260317T230000
DTSTAMP:20260423T013837
CREATED:20260226T205112Z
LAST-MODIFIED:20260226T205114Z
UID:10009392-1773745200-1773788400@jfkicksrestaurant.com
SUMMARY:St. Patrick's Day at O'Kicks
DESCRIPTION:We’re celebrating the luck o’ the Irish all day long on St. Patrick’s Day at JF Kicks! Enjoy green beer\, food & drink specials\, and Irish fare all day. Plus\, we’ve got the following entertainment scheduled: \n– 3 Dom Band: 7-11pm (Patio) \n– Bagpipes with William Howard: 7:30-8:30pm \n– Karaoke with Bill Knowles: 8-11pm (Inside)
URL:https://jfkicksrestaurant.com/event/st-patricks-day-at-okicks/
CATEGORIES:Drinks,Food,Holiday,Music
ATTACH;FMTTYPE=image/jpeg:https://jfkicksrestaurant.com/wp-content/uploads/2026/02/TUESDAY_StPatricksDay2026.jpeg
END:VEVENT
END:VCALENDAR