BEGIN:VCALENDAR
VERSION:2.0
PRODID:-//JF Kicks Restaurant - ECPv6.15.18//NONSGML v1.0//EN
CALSCALE:GREGORIAN
METHOD:PUBLISH
X-WR-CALNAME:JF Kicks Restaurant
X-ORIGINAL-URL:https://jfkicksrestaurant.com
X-WR-CALDESC:Events for JF Kicks Restaurant
REFRESH-INTERVAL;VALUE=DURATION:PT1H
X-Robots-Tag:noindex
X-PUBLISHED-TTL:PT1H
BEGIN:VTIMEZONE
TZID:America/New_York
BEGIN:DAYLIGHT
TZOFFSETFROM:-0500
TZOFFSETTO:-0400
TZNAME:EDT
DTSTART:20230312T070000
END:DAYLIGHT
BEGIN:STANDARD
TZOFFSETFROM:-0400
TZOFFSETTO:-0500
TZNAME:EST
DTSTART:20231105T060000
END:STANDARD
BEGIN:DAYLIGHT
TZOFFSETFROM:-0500
TZOFFSETTO:-0400
TZNAME:EDT
DTSTART:20240310T070000
END:DAYLIGHT
BEGIN:STANDARD
TZOFFSETFROM:-0400
TZOFFSETTO:-0500
TZNAME:EST
DTSTART:20241103T060000
END:STANDARD
BEGIN:DAYLIGHT
TZOFFSETFROM:-0500
TZOFFSETTO:-0400
TZNAME:EDT
DTSTART:20250309T070000
END:DAYLIGHT
BEGIN:STANDARD
TZOFFSETFROM:-0400
TZOFFSETTO:-0500
TZNAME:EST
DTSTART:20251102T060000
END:STANDARD
BEGIN:DAYLIGHT
TZOFFSETFROM:-0500
TZOFFSETTO:-0400
TZNAME:EDT
DTSTART:20260308T070000
END:DAYLIGHT
BEGIN:STANDARD
TZOFFSETFROM:-0400
TZOFFSETTO:-0500
TZNAME:EST
DTSTART:20261101T060000
END:STANDARD
END:VTIMEZONE
BEGIN:VEVENT
DTSTART;TZID=America/New_York:20250427T110000
DTEND;TZID=America/New_York:20250427T150000
DTSTAMP:20260423T063139
CREATED:20240310T150939Z
LAST-MODIFIED:20260206T221046Z
UID:10004546-1745751600-1745766000@jfkicksrestaurant.com
SUMMARY:$20 Bottomless Mimosas and Sangrias
DESCRIPTION:$20 Bottomless Mimosas and Sangrias Sundays 11am-3pm! We open at 11am on Sundays.
URL:https://jfkicksrestaurant.com/event/20-bottomless-mimosas-and-sangrias/2025-04-27/
CATEGORIES:Drinks
ATTACH;FMTTYPE=image/jpeg:https://jfkicksrestaurant.com/wp-content/uploads/2024/03/Bottomless-Mimosa-June-2025.jpeg
END:VEVENT
BEGIN:VEVENT
DTSTART;TZID=America/New_York:20250424T180000
DTEND;TZID=America/New_York:20250424T210000
DTSTAMP:20260423T063139
CREATED:20250403T184732Z
LAST-MODIFIED:20250801T121043Z
UID:10006447-1745517600-1745528400@jfkicksrestaurant.com
SUMMARY:Kicks & Keys All Request Piano Night
DESCRIPTION:Thursday nights are Piano Nights at JF Kicks! “That Piano Chick” Julie Legner presents an All Request Piano Night starting at 6pm! Bring your requests and your friends and get ready to hear all your favorite songs. Martini and Appetizer specials\, plus a full food and drink menu.
URL:https://jfkicksrestaurant.com/event/kicks-keys-all-request-piano-night/2025-04-24/
LOCATION:Inside Main Stage
CATEGORIES:Drinks,Food,Music
ATTACH;FMTTYPE=image/jpeg:https://jfkicksrestaurant.com/wp-content/uploads/2025/04/Kicks-Keys-Piano-6pm-04-03-2025.jpg.jpeg
END:VEVENT
BEGIN:VEVENT
DTSTART;TZID=America/New_York:20250420T110000
DTEND;TZID=America/New_York:20250420T160000
DTSTAMP:20260423T063139
CREATED:20250411T182523Z
LAST-MODIFIED:20250417T211454Z
UID:10006734-1745146800-1745164800@jfkicksrestaurant.com
SUMMARY:Easter Sunday Brunch
DESCRIPTION:We’re hosting Sunday Easter Brunch on our beautiful covered patio and inside our spacious restaurant. Enjoy a family friendly atmosphere and our special Sunday Brunch menu\, starting at 11am. We’ll also have live acoustic music from the one and only Gary Schutt from 12-4pm.
URL:https://jfkicksrestaurant.com/event/easter-sunday-brunch/
CATEGORIES:Drinks,Food,Music
ATTACH;FMTTYPE=image/jpeg:https://jfkicksrestaurant.com/wp-content/uploads/2025/04/Easter-Brunch-Menu.jpg.jpeg
END:VEVENT
BEGIN:VEVENT
DTSTART;TZID=America/New_York:20250420T110000
DTEND;TZID=America/New_York:20250420T150000
DTSTAMP:20260423T063139
CREATED:20240310T150939Z
LAST-MODIFIED:20260206T221046Z
UID:10004545-1745146800-1745161200@jfkicksrestaurant.com
SUMMARY:$20 Bottomless Mimosas and Sangrias
DESCRIPTION:$20 Bottomless Mimosas and Sangrias Sundays 11am-3pm! We open at 11am on Sundays.
URL:https://jfkicksrestaurant.com/event/20-bottomless-mimosas-and-sangrias/2025-04-20/
CATEGORIES:Drinks
ATTACH;FMTTYPE=image/jpeg:https://jfkicksrestaurant.com/wp-content/uploads/2024/03/Bottomless-Mimosa-June-2025.jpeg
END:VEVENT
BEGIN:VEVENT
DTSTART;TZID=America/New_York:20250417T180000
DTEND;TZID=America/New_York:20250417T210000
DTSTAMP:20260423T063139
CREATED:20250403T184732Z
LAST-MODIFIED:20250801T121043Z
UID:10006446-1744912800-1744923600@jfkicksrestaurant.com
SUMMARY:Kicks & Keys All Request Piano Night
DESCRIPTION:Thursday nights are Piano Nights at JF Kicks! “That Piano Chick” Julie Legner presents an All Request Piano Night starting at 6pm! Bring your requests and your friends and get ready to hear all your favorite songs. Martini and Appetizer specials\, plus a full food and drink menu.
URL:https://jfkicksrestaurant.com/event/kicks-keys-all-request-piano-night/2025-04-17/
LOCATION:Inside Main Stage
CATEGORIES:Drinks,Food,Music
ATTACH;FMTTYPE=image/jpeg:https://jfkicksrestaurant.com/wp-content/uploads/2025/04/Kicks-Keys-Piano-6pm-04-03-2025.jpg.jpeg
END:VEVENT
BEGIN:VEVENT
DTSTART;TZID=America/New_York:20250413T110000
DTEND;TZID=America/New_York:20250413T150000
DTSTAMP:20260423T063139
CREATED:20250411T181553Z
LAST-MODIFIED:20250411T191139Z
UID:10006713-1744542000-1744556400@jfkicksrestaurant.com
SUMMARY:Sunday Brunch
DESCRIPTION:Sundays are even better with Sunday Brunch at JF Kicks from 11am to 3pm. Enjoy our special Sunday Brunch menu\, Mimosa and Sangria specials\, and live acoustic music from amazing local musicians on our beautiful covered patio\, which is also dog friendly. It’s the perfect place to spend your Sunday with friends and family.
URL:https://jfkicksrestaurant.com/event/sunday-brunch/2025-04-13/
CATEGORIES:Drinks,Food,Music
ATTACH;FMTTYPE=image/jpeg:https://jfkicksrestaurant.com/wp-content/uploads/2025/04/Brunch-2025.jpg
END:VEVENT
BEGIN:VEVENT
DTSTART;TZID=America/New_York:20250413T110000
DTEND;TZID=America/New_York:20250413T150000
DTSTAMP:20260423T063139
CREATED:20240310T150939Z
LAST-MODIFIED:20260206T221046Z
UID:10004544-1744542000-1744556400@jfkicksrestaurant.com
SUMMARY:$20 Bottomless Mimosas and Sangrias
DESCRIPTION:$20 Bottomless Mimosas and Sangrias Sundays 11am-3pm! We open at 11am on Sundays.
URL:https://jfkicksrestaurant.com/event/20-bottomless-mimosas-and-sangrias/2025-04-13/
CATEGORIES:Drinks
ATTACH;FMTTYPE=image/jpeg:https://jfkicksrestaurant.com/wp-content/uploads/2024/03/Bottomless-Mimosa-June-2025.jpeg
END:VEVENT
BEGIN:VEVENT
DTSTART;TZID=America/New_York:20250410T180000
DTEND;TZID=America/New_York:20250410T210000
DTSTAMP:20260423T063139
CREATED:20250403T184732Z
LAST-MODIFIED:20250801T121043Z
UID:10006445-1744308000-1744318800@jfkicksrestaurant.com
SUMMARY:Kicks & Keys All Request Piano Night
DESCRIPTION:Thursday nights are Piano Nights at JF Kicks! “That Piano Chick” Julie Legner presents an All Request Piano Night starting at 6pm! Bring your requests and your friends and get ready to hear all your favorite songs. Martini and Appetizer specials\, plus a full food and drink menu.
URL:https://jfkicksrestaurant.com/event/kicks-keys-all-request-piano-night/2025-04-10/
LOCATION:Inside Main Stage
CATEGORIES:Drinks,Food,Music
ATTACH;FMTTYPE=image/jpeg:https://jfkicksrestaurant.com/wp-content/uploads/2025/04/Kicks-Keys-Piano-6pm-04-03-2025.jpg.jpeg
END:VEVENT
BEGIN:VEVENT
DTSTART;TZID=America/New_York:20250406T110000
DTEND;TZID=America/New_York:20250406T150000
DTSTAMP:20260423T063139
CREATED:20240310T150939Z
LAST-MODIFIED:20260206T221046Z
UID:10004543-1743937200-1743951600@jfkicksrestaurant.com
SUMMARY:$20 Bottomless Mimosas and Sangrias
DESCRIPTION:$20 Bottomless Mimosas and Sangrias Sundays 11am-3pm! We open at 11am on Sundays.
URL:https://jfkicksrestaurant.com/event/20-bottomless-mimosas-and-sangrias/2025-04-06/
CATEGORIES:Drinks
ATTACH;FMTTYPE=image/jpeg:https://jfkicksrestaurant.com/wp-content/uploads/2024/03/Bottomless-Mimosa-June-2025.jpeg
END:VEVENT
BEGIN:VEVENT
DTSTART;TZID=America/New_York:20250330T110000
DTEND;TZID=America/New_York:20250330T150000
DTSTAMP:20260423T063139
CREATED:20240310T150939Z
LAST-MODIFIED:20260206T221046Z
UID:10004542-1743332400-1743346800@jfkicksrestaurant.com
SUMMARY:$20 Bottomless Mimosas and Sangrias
DESCRIPTION:$20 Bottomless Mimosas and Sangrias Sundays 11am-3pm! We open at 11am on Sundays.
URL:https://jfkicksrestaurant.com/event/20-bottomless-mimosas-and-sangrias/2025-03-30/
CATEGORIES:Drinks
ATTACH;FMTTYPE=image/jpeg:https://jfkicksrestaurant.com/wp-content/uploads/2024/03/Bottomless-Mimosa-June-2025.jpeg
END:VEVENT
BEGIN:VEVENT
DTSTART;TZID=America/New_York:20250327T140000
DTEND;TZID=America/New_York:20250327T220000
DTSTAMP:20260423T063139
CREATED:20250325T213048Z
LAST-MODIFIED:20250325T213137Z
UID:10006443-1743084000-1743112800@jfkicksrestaurant.com
SUMMARY:MLB Opening Day
DESCRIPTION:Baseball’s back! Celebrate MLB’s opening day of the baseball season at Kicks! \n⚾ Hot boiled peanuts\n⚾ Chili Dogs\n⚾ Hand Dipped Corn Dogs\n⚾ Hot Dog Bar\n⚾ Drink and Shot Specials\n⚾ And more!
URL:https://jfkicksrestaurant.com/event/mlb-opening-day/
CATEGORIES:Drinks,Food,Sports
ATTACH;FMTTYPE=image/jpeg:https://jfkicksrestaurant.com/wp-content/uploads/2025/03/Baseball-game-day-poster-downsized.jpg
END:VEVENT
BEGIN:VEVENT
DTSTART;TZID=America/New_York:20250323T110000
DTEND;TZID=America/New_York:20250323T150000
DTSTAMP:20260423T063139
CREATED:20240310T150939Z
LAST-MODIFIED:20260206T221046Z
UID:10004541-1742727600-1742742000@jfkicksrestaurant.com
SUMMARY:$20 Bottomless Mimosas and Sangrias
DESCRIPTION:$20 Bottomless Mimosas and Sangrias Sundays 11am-3pm! We open at 11am on Sundays.
URL:https://jfkicksrestaurant.com/event/20-bottomless-mimosas-and-sangrias/2025-03-23/
CATEGORIES:Drinks
ATTACH;FMTTYPE=image/jpeg:https://jfkicksrestaurant.com/wp-content/uploads/2024/03/Bottomless-Mimosa-June-2025.jpeg
END:VEVENT
BEGIN:VEVENT
DTSTART;TZID=America/New_York:20250316T110000
DTEND;TZID=America/New_York:20250316T150000
DTSTAMP:20260423T063139
CREATED:20240310T150939Z
LAST-MODIFIED:20260206T221046Z
UID:10004540-1742122800-1742137200@jfkicksrestaurant.com
SUMMARY:$20 Bottomless Mimosas and Sangrias
DESCRIPTION:$20 Bottomless Mimosas and Sangrias Sundays 11am-3pm! We open at 11am on Sundays.
URL:https://jfkicksrestaurant.com/event/20-bottomless-mimosas-and-sangrias/2025-03-16/
CATEGORIES:Drinks
ATTACH;FMTTYPE=image/jpeg:https://jfkicksrestaurant.com/wp-content/uploads/2024/03/Bottomless-Mimosa-June-2025.jpeg
END:VEVENT
BEGIN:VEVENT
DTSTART;TZID=America/New_York:20250309T110000
DTEND;TZID=America/New_York:20250309T150000
DTSTAMP:20260423T063139
CREATED:20240310T150939Z
LAST-MODIFIED:20260206T221046Z
UID:10004539-1741518000-1741532400@jfkicksrestaurant.com
SUMMARY:$20 Bottomless Mimosas and Sangrias
DESCRIPTION:$20 Bottomless Mimosas and Sangrias Sundays 11am-3pm! We open at 11am on Sundays.
URL:https://jfkicksrestaurant.com/event/20-bottomless-mimosas-and-sangrias/2025-03-09/
CATEGORIES:Drinks
ATTACH;FMTTYPE=image/jpeg:https://jfkicksrestaurant.com/wp-content/uploads/2024/03/Bottomless-Mimosa-June-2025.jpeg
END:VEVENT
BEGIN:VEVENT
DTSTART;TZID=America/New_York:20250302T110000
DTEND;TZID=America/New_York:20250302T150000
DTSTAMP:20260423T063139
CREATED:20240310T150939Z
LAST-MODIFIED:20260206T221046Z
UID:10004538-1740913200-1740927600@jfkicksrestaurant.com
SUMMARY:$20 Bottomless Mimosas and Sangrias
DESCRIPTION:$20 Bottomless Mimosas and Sangrias Sundays 11am-3pm! We open at 11am on Sundays.
URL:https://jfkicksrestaurant.com/event/20-bottomless-mimosas-and-sangrias/2025-03-02/
CATEGORIES:Drinks
ATTACH;FMTTYPE=image/jpeg:https://jfkicksrestaurant.com/wp-content/uploads/2024/03/Bottomless-Mimosa-June-2025.jpeg
END:VEVENT
BEGIN:VEVENT
DTSTART;TZID=America/New_York:20250223T110000
DTEND;TZID=America/New_York:20250223T150000
DTSTAMP:20260423T063139
CREATED:20240310T150939Z
LAST-MODIFIED:20260206T221046Z
UID:10004537-1740308400-1740322800@jfkicksrestaurant.com
SUMMARY:$20 Bottomless Mimosas and Sangrias
DESCRIPTION:$20 Bottomless Mimosas and Sangrias Sundays 11am-3pm! We open at 11am on Sundays.
URL:https://jfkicksrestaurant.com/event/20-bottomless-mimosas-and-sangrias/2025-02-23/
CATEGORIES:Drinks
ATTACH;FMTTYPE=image/jpeg:https://jfkicksrestaurant.com/wp-content/uploads/2024/03/Bottomless-Mimosa-June-2025.jpeg
END:VEVENT
BEGIN:VEVENT
DTSTART;TZID=America/New_York:20250222T110000
DTEND;TZID=America/New_York:20250222T235900
DTSTAMP:20260423T063139
CREATED:20250220T173110Z
LAST-MODIFIED:20250220T173110Z
UID:10006421-1740222000-1740268740@jfkicksrestaurant.com
SUMMARY:Margarita Day - $5 Margaritas All Day
DESCRIPTION:$5 Margaritas all day\, plus a Special Flavored Margarita Menu to celebrate National Margarita Day on Saturday\, February 22! Hang out inside or on our heated\, covered pet-friendly patio. Also\, enjoy live music that evening:\n– Jesse Byers – 7pm-11pm (patio stage)– Louie Baldanza – 8pm-12am (inside stage)
URL:https://jfkicksrestaurant.com/event/margarita-day-5-margaritas-all-day/
CATEGORIES:Drinks,Music
ATTACH;FMTTYPE=image/jpeg:https://jfkicksrestaurant.com/wp-content/uploads/2025/02/Margarita-Day-Feb-2022.jpeg
END:VEVENT
BEGIN:VEVENT
DTSTART;TZID=America/New_York:20250216T110000
DTEND;TZID=America/New_York:20250216T150000
DTSTAMP:20260423T063139
CREATED:20240310T150939Z
LAST-MODIFIED:20260206T221046Z
UID:10004536-1739703600-1739718000@jfkicksrestaurant.com
SUMMARY:$20 Bottomless Mimosas and Sangrias
DESCRIPTION:$20 Bottomless Mimosas and Sangrias Sundays 11am-3pm! We open at 11am on Sundays.
URL:https://jfkicksrestaurant.com/event/20-bottomless-mimosas-and-sangrias/2025-02-16/
CATEGORIES:Drinks
ATTACH;FMTTYPE=image/jpeg:https://jfkicksrestaurant.com/wp-content/uploads/2024/03/Bottomless-Mimosa-June-2025.jpeg
END:VEVENT
BEGIN:VEVENT
DTSTART;TZID=America/New_York:20250215T170000
DTEND;TZID=America/New_York:20250215T230000
DTSTAMP:20260423T063139
CREATED:20250213T062811Z
LAST-MODIFIED:20250213T063038Z
UID:10006418-1739638800-1739660400@jfkicksrestaurant.com
SUMMARY:Galentine's Day with Glass Painting & The Ladies Man
DESCRIPTION:It’s Galentine’s Day at JF Kicks! Join us from 5-7pm for our glass painting event on the upper patio. $20 per person for 2 pieces. We will have our special Valentine’s food and drink menu as well as chocolate covered strawberries and champagne. Then at 7pm\, sing along to empowering music by and for women\, performed by The Ladies Man. To reserve your spot for glass painting\, please email: tamra@jfkicksrestaurant.com
URL:https://jfkicksrestaurant.com/event/galentines-day-with-glass-painting-the-ladies-man/
CATEGORIES:Arts & Crafts,Drinks,Food,Holiday,Music
ATTACH;FMTTYPE=image/jpeg:https://jfkicksrestaurant.com/wp-content/uploads/2025/02/Galentines-Day-Saturday-2025-v2.jpg.jpeg
END:VEVENT
BEGIN:VEVENT
DTSTART;TZID=America/New_York:20250214T190000
DTEND;TZID=America/New_York:20250214T235900
DTSTAMP:20260423T063139
CREATED:20250213T062131Z
LAST-MODIFIED:20250213T062131Z
UID:10006417-1739559600-1739577540@jfkicksrestaurant.com
SUMMARY:Valentine's Day
DESCRIPTION:Celebrate a sweet Valentine’s Day at JF Kicks. Brack Harris will be playing live on our covered Patio starting at 7pm and our Annual Karaoke contest continues at 9pm\, there’s no cover. Check out our special Valentine’s Menu and drink specials too!
URL:https://jfkicksrestaurant.com/event/valentines-day/
CATEGORIES:Drinks,Food,Holiday,Music
ATTACH;FMTTYPE=image/jpeg:https://jfkicksrestaurant.com/wp-content/uploads/2025/02/Valentines-Day-Friday-2025-v2.jpg.jpeg
END:VEVENT
BEGIN:VEVENT
DTSTART;TZID=America/New_York:20250209T110000
DTEND;TZID=America/New_York:20250209T150000
DTSTAMP:20260423T063139
CREATED:20240310T150939Z
LAST-MODIFIED:20260206T221046Z
UID:10004535-1739098800-1739113200@jfkicksrestaurant.com
SUMMARY:$20 Bottomless Mimosas and Sangrias
DESCRIPTION:$20 Bottomless Mimosas and Sangrias Sundays 11am-3pm! We open at 11am on Sundays.
URL:https://jfkicksrestaurant.com/event/20-bottomless-mimosas-and-sangrias/2025-02-09/
CATEGORIES:Drinks
ATTACH;FMTTYPE=image/jpeg:https://jfkicksrestaurant.com/wp-content/uploads/2024/03/Bottomless-Mimosa-June-2025.jpeg
END:VEVENT
BEGIN:VEVENT
DTSTART;TZID=America/New_York:20250202T110000
DTEND;TZID=America/New_York:20250202T150000
DTSTAMP:20260423T063139
CREATED:20240310T150939Z
LAST-MODIFIED:20260206T221046Z
UID:10004534-1738494000-1738508400@jfkicksrestaurant.com
SUMMARY:$20 Bottomless Mimosas and Sangrias
DESCRIPTION:$20 Bottomless Mimosas and Sangrias Sundays 11am-3pm! We open at 11am on Sundays.
URL:https://jfkicksrestaurant.com/event/20-bottomless-mimosas-and-sangrias/2025-02-02/
CATEGORIES:Drinks
ATTACH;FMTTYPE=image/jpeg:https://jfkicksrestaurant.com/wp-content/uploads/2024/03/Bottomless-Mimosa-June-2025.jpeg
END:VEVENT
BEGIN:VEVENT
DTSTART;TZID=America/New_York:20250126T110000
DTEND;TZID=America/New_York:20250126T150000
DTSTAMP:20260423T063139
CREATED:20240310T150939Z
LAST-MODIFIED:20260206T221046Z
UID:10004533-1737889200-1737903600@jfkicksrestaurant.com
SUMMARY:$20 Bottomless Mimosas and Sangrias
DESCRIPTION:$20 Bottomless Mimosas and Sangrias Sundays 11am-3pm! We open at 11am on Sundays.
URL:https://jfkicksrestaurant.com/event/20-bottomless-mimosas-and-sangrias/2025-01-26/
CATEGORIES:Drinks
ATTACH;FMTTYPE=image/jpeg:https://jfkicksrestaurant.com/wp-content/uploads/2024/03/Bottomless-Mimosa-June-2025.jpeg
END:VEVENT
BEGIN:VEVENT
DTSTART;TZID=America/New_York:20250119T110000
DTEND;TZID=America/New_York:20250119T150000
DTSTAMP:20260423T063139
CREATED:20240310T150939Z
LAST-MODIFIED:20260206T221046Z
UID:10004532-1737284400-1737298800@jfkicksrestaurant.com
SUMMARY:$20 Bottomless Mimosas and Sangrias
DESCRIPTION:$20 Bottomless Mimosas and Sangrias Sundays 11am-3pm! We open at 11am on Sundays.
URL:https://jfkicksrestaurant.com/event/20-bottomless-mimosas-and-sangrias/2025-01-19/
CATEGORIES:Drinks
ATTACH;FMTTYPE=image/jpeg:https://jfkicksrestaurant.com/wp-content/uploads/2024/03/Bottomless-Mimosa-June-2025.jpeg
END:VEVENT
BEGIN:VEVENT
DTSTART;TZID=America/New_York:20250112T110000
DTEND;TZID=America/New_York:20250112T150000
DTSTAMP:20260423T063139
CREATED:20240310T150939Z
LAST-MODIFIED:20260206T221046Z
UID:10004531-1736679600-1736694000@jfkicksrestaurant.com
SUMMARY:$20 Bottomless Mimosas and Sangrias
DESCRIPTION:$20 Bottomless Mimosas and Sangrias Sundays 11am-3pm! We open at 11am on Sundays.
URL:https://jfkicksrestaurant.com/event/20-bottomless-mimosas-and-sangrias/2025-01-12/
CATEGORIES:Drinks
ATTACH;FMTTYPE=image/jpeg:https://jfkicksrestaurant.com/wp-content/uploads/2024/03/Bottomless-Mimosa-June-2025.jpeg
END:VEVENT
BEGIN:VEVENT
DTSTART;TZID=America/New_York:20250105T110000
DTEND;TZID=America/New_York:20250105T150000
DTSTAMP:20260423T063139
CREATED:20240310T150939Z
LAST-MODIFIED:20260206T221046Z
UID:10004530-1736074800-1736089200@jfkicksrestaurant.com
SUMMARY:$20 Bottomless Mimosas and Sangrias
DESCRIPTION:$20 Bottomless Mimosas and Sangrias Sundays 11am-3pm! We open at 11am on Sundays.
URL:https://jfkicksrestaurant.com/event/20-bottomless-mimosas-and-sangrias/2025-01-05/
CATEGORIES:Drinks
ATTACH;FMTTYPE=image/jpeg:https://jfkicksrestaurant.com/wp-content/uploads/2024/03/Bottomless-Mimosa-June-2025.jpeg
END:VEVENT
BEGIN:VEVENT
DTSTART;TZID=America/New_York:20241231T210000
DTEND;TZID=America/New_York:20250101T010000
DTSTAMP:20260423T063139
CREATED:20241218T171948Z
LAST-MODIFIED:20241220T134721Z
UID:10005936-1735678800-1735693200@jfkicksrestaurant.com
SUMMARY:New Year's Celebration
DESCRIPTION:Say goodbye to 2024 and hello to 2025 at JF Kicks! We’ll be celebrating with fantastic tunes from DJ Vic\, a champagne toast at midnight and free party favors. We’ll have a special New Year’s Eve menu available too. There’s no cover and parking is free. \nFor reservations\, please email Tamra@jfkicksrestaurant.com
URL:https://jfkicksrestaurant.com/event/new-years-celebration/
CATEGORIES:Community,Drinks,Food,Holiday,Music
ATTACH;FMTTYPE=image/jpeg:https://jfkicksrestaurant.com/wp-content/uploads/2024/12/New-Year-2025-12-18-2024-v1.jpg
END:VEVENT
BEGIN:VEVENT
DTSTART;TZID=America/New_York:20241231T170000
DTEND;TZID=America/New_York:20241231T210000
DTSTAMP:20260423T063139
CREATED:20241220T133237Z
LAST-MODIFIED:20241220T134757Z
UID:10005937-1735664400-1735678800@jfkicksrestaurant.com
SUMMARY:Irish New Year
DESCRIPTION:Ring in the Irish New Year at JF Kicks with a countdown and champagne toast at 7pm as we stream the ball drop in Dublin. This is a family friendly event\, and we’ll have a non-alcoholic beverage for kids to toast too! Enjoy our special New Year’s Eve menu and a special way to ring in 2025!
URL:https://jfkicksrestaurant.com/event/irish-new-year/
CATEGORIES:Community,Drinks,Food,Holiday
ATTACH;FMTTYPE=image/jpeg:https://jfkicksrestaurant.com/wp-content/uploads/2024/12/0572020_NewYearsEveIRISH_JAN2024-v2.jpeg
END:VEVENT
BEGIN:VEVENT
DTSTART;TZID=America/New_York:20241229T110000
DTEND;TZID=America/New_York:20241229T150000
DTSTAMP:20260423T063139
CREATED:20240310T150939Z
LAST-MODIFIED:20260206T221046Z
UID:10004529-1735470000-1735484400@jfkicksrestaurant.com
SUMMARY:$20 Bottomless Mimosas and Sangrias
DESCRIPTION:$20 Bottomless Mimosas and Sangrias Sundays 11am-3pm! We open at 11am on Sundays.
URL:https://jfkicksrestaurant.com/event/20-bottomless-mimosas-and-sangrias/2024-12-29/
CATEGORIES:Drinks
ATTACH;FMTTYPE=image/jpeg:https://jfkicksrestaurant.com/wp-content/uploads/2024/03/Bottomless-Mimosa-June-2025.jpeg
END:VEVENT
BEGIN:VEVENT
DTSTART;TZID=America/New_York:20241222T110000
DTEND;TZID=America/New_York:20241222T150000
DTSTAMP:20260423T063139
CREATED:20240310T150939Z
LAST-MODIFIED:20260206T221046Z
UID:10004528-1734865200-1734879600@jfkicksrestaurant.com
SUMMARY:$20 Bottomless Mimosas and Sangrias
DESCRIPTION:$20 Bottomless Mimosas and Sangrias Sundays 11am-3pm! We open at 11am on Sundays.
URL:https://jfkicksrestaurant.com/event/20-bottomless-mimosas-and-sangrias/2024-12-22/
CATEGORIES:Drinks
ATTACH;FMTTYPE=image/jpeg:https://jfkicksrestaurant.com/wp-content/uploads/2024/03/Bottomless-Mimosa-June-2025.jpeg
END:VEVENT
END:VCALENDAR