BEGIN:VCALENDAR
VERSION:2.0
PRODID:-//JF Kicks Restaurant - ECPv6.15.18//NONSGML v1.0//EN
CALSCALE:GREGORIAN
METHOD:PUBLISH
X-WR-CALNAME:JF Kicks Restaurant
X-ORIGINAL-URL:https://jfkicksrestaurant.com
X-WR-CALDESC:Events for JF Kicks Restaurant
REFRESH-INTERVAL;VALUE=DURATION:PT1H
X-Robots-Tag:noindex
X-PUBLISHED-TTL:PT1H
BEGIN:VTIMEZONE
TZID:America/New_York
BEGIN:DAYLIGHT
TZOFFSETFROM:-0500
TZOFFSETTO:-0400
TZNAME:EDT
DTSTART:20240310T070000
END:DAYLIGHT
BEGIN:STANDARD
TZOFFSETFROM:-0400
TZOFFSETTO:-0500
TZNAME:EST
DTSTART:20241103T060000
END:STANDARD
BEGIN:DAYLIGHT
TZOFFSETFROM:-0500
TZOFFSETTO:-0400
TZNAME:EDT
DTSTART:20250309T070000
END:DAYLIGHT
BEGIN:STANDARD
TZOFFSETFROM:-0400
TZOFFSETTO:-0500
TZNAME:EST
DTSTART:20251102T060000
END:STANDARD
BEGIN:DAYLIGHT
TZOFFSETFROM:-0500
TZOFFSETTO:-0400
TZNAME:EDT
DTSTART:20260308T070000
END:DAYLIGHT
BEGIN:STANDARD
TZOFFSETFROM:-0400
TZOFFSETTO:-0500
TZNAME:EST
DTSTART:20261101T060000
END:STANDARD
END:VTIMEZONE
BEGIN:VEVENT
DTSTART;TZID=America/New_York:20250727T110000
DTEND;TZID=America/New_York:20250727T150000
DTSTAMP:20260423T031806
CREATED:20240310T150939Z
LAST-MODIFIED:20260206T221046Z
UID:10004559-1753614000-1753628400@jfkicksrestaurant.com
SUMMARY:$20 Bottomless Mimosas and Sangrias
DESCRIPTION:$20 Bottomless Mimosas and Sangrias Sundays 11am-3pm! We open at 11am on Sundays.
URL:https://jfkicksrestaurant.com/event/20-bottomless-mimosas-and-sangrias/2025-07-27/
CATEGORIES:Drinks
ATTACH;FMTTYPE=image/jpeg:https://jfkicksrestaurant.com/wp-content/uploads/2024/03/Bottomless-Mimosa-June-2025.jpeg
END:VEVENT
BEGIN:VEVENT
DTSTART;TZID=America/New_York:20250724T180000
DTEND;TZID=America/New_York:20250724T210000
DTSTAMP:20260423T031806
CREATED:20250403T184732Z
LAST-MODIFIED:20250801T121043Z
UID:10006460-1753380000-1753390800@jfkicksrestaurant.com
SUMMARY:Kicks & Keys All Request Piano Night
DESCRIPTION:Thursday nights are Piano Nights at JF Kicks! “That Piano Chick” Julie Legner presents an All Request Piano Night starting at 6pm! Bring your requests and your friends and get ready to hear all your favorite songs. Martini and Appetizer specials\, plus a full food and drink menu.
URL:https://jfkicksrestaurant.com/event/kicks-keys-all-request-piano-night/2025-07-24/
LOCATION:Inside Main Stage
CATEGORIES:Drinks,Food,Music
ATTACH;FMTTYPE=image/jpeg:https://jfkicksrestaurant.com/wp-content/uploads/2025/04/Kicks-Keys-Piano-6pm-04-03-2025.jpg.jpeg
END:VEVENT
BEGIN:VEVENT
DTSTART;TZID=America/New_York:20250720T110000
DTEND;TZID=America/New_York:20250720T150000
DTSTAMP:20260423T031806
CREATED:20250411T181553Z
LAST-MODIFIED:20250411T191139Z
UID:10006727-1753009200-1753023600@jfkicksrestaurant.com
SUMMARY:Sunday Brunch
DESCRIPTION:Sundays are even better with Sunday Brunch at JF Kicks from 11am to 3pm. Enjoy our special Sunday Brunch menu\, Mimosa and Sangria specials\, and live acoustic music from amazing local musicians on our beautiful covered patio\, which is also dog friendly. It’s the perfect place to spend your Sunday with friends and family.
URL:https://jfkicksrestaurant.com/event/sunday-brunch/2025-07-20/
CATEGORIES:Drinks,Food,Music
ATTACH;FMTTYPE=image/jpeg:https://jfkicksrestaurant.com/wp-content/uploads/2025/04/Brunch-2025.jpg
END:VEVENT
BEGIN:VEVENT
DTSTART;TZID=America/New_York:20250720T110000
DTEND;TZID=America/New_York:20250720T150000
DTSTAMP:20260423T031806
CREATED:20240310T150939Z
LAST-MODIFIED:20260206T221046Z
UID:10004558-1753009200-1753023600@jfkicksrestaurant.com
SUMMARY:$20 Bottomless Mimosas and Sangrias
DESCRIPTION:$20 Bottomless Mimosas and Sangrias Sundays 11am-3pm! We open at 11am on Sundays.
URL:https://jfkicksrestaurant.com/event/20-bottomless-mimosas-and-sangrias/2025-07-20/
CATEGORIES:Drinks
ATTACH;FMTTYPE=image/jpeg:https://jfkicksrestaurant.com/wp-content/uploads/2024/03/Bottomless-Mimosa-June-2025.jpeg
END:VEVENT
BEGIN:VEVENT
DTSTART;TZID=America/New_York:20250717T180000
DTEND;TZID=America/New_York:20250717T210000
DTSTAMP:20260423T031806
CREATED:20250403T184732Z
LAST-MODIFIED:20250801T121043Z
UID:10006459-1752775200-1752786000@jfkicksrestaurant.com
SUMMARY:Kicks & Keys All Request Piano Night
DESCRIPTION:Thursday nights are Piano Nights at JF Kicks! “That Piano Chick” Julie Legner presents an All Request Piano Night starting at 6pm! Bring your requests and your friends and get ready to hear all your favorite songs. Martini and Appetizer specials\, plus a full food and drink menu.
URL:https://jfkicksrestaurant.com/event/kicks-keys-all-request-piano-night/2025-07-17/
LOCATION:Inside Main Stage
CATEGORIES:Drinks,Food,Music
ATTACH;FMTTYPE=image/jpeg:https://jfkicksrestaurant.com/wp-content/uploads/2025/04/Kicks-Keys-Piano-6pm-04-03-2025.jpg.jpeg
END:VEVENT
BEGIN:VEVENT
DTSTART;TZID=America/New_York:20250713T110000
DTEND;TZID=America/New_York:20250713T150000
DTSTAMP:20260423T031806
CREATED:20250411T181553Z
LAST-MODIFIED:20250411T191139Z
UID:10006726-1752404400-1752418800@jfkicksrestaurant.com
SUMMARY:Sunday Brunch
DESCRIPTION:Sundays are even better with Sunday Brunch at JF Kicks from 11am to 3pm. Enjoy our special Sunday Brunch menu\, Mimosa and Sangria specials\, and live acoustic music from amazing local musicians on our beautiful covered patio\, which is also dog friendly. It’s the perfect place to spend your Sunday with friends and family.
URL:https://jfkicksrestaurant.com/event/sunday-brunch/2025-07-13/
CATEGORIES:Drinks,Food,Music
ATTACH;FMTTYPE=image/jpeg:https://jfkicksrestaurant.com/wp-content/uploads/2025/04/Brunch-2025.jpg
END:VEVENT
BEGIN:VEVENT
DTSTART;TZID=America/New_York:20250713T110000
DTEND;TZID=America/New_York:20250713T150000
DTSTAMP:20260423T031806
CREATED:20240310T150939Z
LAST-MODIFIED:20260206T221046Z
UID:10004557-1752404400-1752418800@jfkicksrestaurant.com
SUMMARY:$20 Bottomless Mimosas and Sangrias
DESCRIPTION:$20 Bottomless Mimosas and Sangrias Sundays 11am-3pm! We open at 11am on Sundays.
URL:https://jfkicksrestaurant.com/event/20-bottomless-mimosas-and-sangrias/2025-07-13/
CATEGORIES:Drinks
ATTACH;FMTTYPE=image/jpeg:https://jfkicksrestaurant.com/wp-content/uploads/2024/03/Bottomless-Mimosa-June-2025.jpeg
END:VEVENT
BEGIN:VEVENT
DTSTART;TZID=America/New_York:20250710T180000
DTEND;TZID=America/New_York:20250710T210000
DTSTAMP:20260423T031806
CREATED:20250403T184732Z
LAST-MODIFIED:20250801T121043Z
UID:10006458-1752170400-1752181200@jfkicksrestaurant.com
SUMMARY:Kicks & Keys All Request Piano Night
DESCRIPTION:Thursday nights are Piano Nights at JF Kicks! “That Piano Chick” Julie Legner presents an All Request Piano Night starting at 6pm! Bring your requests and your friends and get ready to hear all your favorite songs. Martini and Appetizer specials\, plus a full food and drink menu.
URL:https://jfkicksrestaurant.com/event/kicks-keys-all-request-piano-night/2025-07-10/
LOCATION:Inside Main Stage
CATEGORIES:Drinks,Food,Music
ATTACH;FMTTYPE=image/jpeg:https://jfkicksrestaurant.com/wp-content/uploads/2025/04/Kicks-Keys-Piano-6pm-04-03-2025.jpg.jpeg
END:VEVENT
BEGIN:VEVENT
DTSTART;TZID=America/New_York:20250706T110000
DTEND;TZID=America/New_York:20250706T150000
DTSTAMP:20260423T031806
CREATED:20250411T181553Z
LAST-MODIFIED:20250411T191139Z
UID:10006725-1751799600-1751814000@jfkicksrestaurant.com
SUMMARY:Sunday Brunch
DESCRIPTION:Sundays are even better with Sunday Brunch at JF Kicks from 11am to 3pm. Enjoy our special Sunday Brunch menu\, Mimosa and Sangria specials\, and live acoustic music from amazing local musicians on our beautiful covered patio\, which is also dog friendly. It’s the perfect place to spend your Sunday with friends and family.
URL:https://jfkicksrestaurant.com/event/sunday-brunch/2025-07-06/
CATEGORIES:Drinks,Food,Music
ATTACH;FMTTYPE=image/jpeg:https://jfkicksrestaurant.com/wp-content/uploads/2025/04/Brunch-2025.jpg
END:VEVENT
BEGIN:VEVENT
DTSTART;TZID=America/New_York:20250706T110000
DTEND;TZID=America/New_York:20250706T150000
DTSTAMP:20260423T031806
CREATED:20240310T150939Z
LAST-MODIFIED:20260206T221046Z
UID:10004556-1751799600-1751814000@jfkicksrestaurant.com
SUMMARY:$20 Bottomless Mimosas and Sangrias
DESCRIPTION:$20 Bottomless Mimosas and Sangrias Sundays 11am-3pm! We open at 11am on Sundays.
URL:https://jfkicksrestaurant.com/event/20-bottomless-mimosas-and-sangrias/2025-07-06/
CATEGORIES:Drinks
ATTACH;FMTTYPE=image/jpeg:https://jfkicksrestaurant.com/wp-content/uploads/2024/03/Bottomless-Mimosa-June-2025.jpeg
END:VEVENT
BEGIN:VEVENT
DTSTART;TZID=America/New_York:20250703T180000
DTEND;TZID=America/New_York:20250703T210000
DTSTAMP:20260423T031806
CREATED:20250403T184732Z
LAST-MODIFIED:20250801T121043Z
UID:10006457-1751565600-1751576400@jfkicksrestaurant.com
SUMMARY:Kicks & Keys All Request Piano Night
DESCRIPTION:Thursday nights are Piano Nights at JF Kicks! “That Piano Chick” Julie Legner presents an All Request Piano Night starting at 6pm! Bring your requests and your friends and get ready to hear all your favorite songs. Martini and Appetizer specials\, plus a full food and drink menu.
URL:https://jfkicksrestaurant.com/event/kicks-keys-all-request-piano-night/2025-07-03/
LOCATION:Inside Main Stage
CATEGORIES:Drinks,Food,Music
ATTACH;FMTTYPE=image/jpeg:https://jfkicksrestaurant.com/wp-content/uploads/2025/04/Kicks-Keys-Piano-6pm-04-03-2025.jpg.jpeg
END:VEVENT
BEGIN:VEVENT
DTSTART;TZID=America/New_York:20250629T110000
DTEND;TZID=America/New_York:20250629T150000
DTSTAMP:20260423T031806
CREATED:20250411T181553Z
LAST-MODIFIED:20250411T191139Z
UID:10006724-1751194800-1751209200@jfkicksrestaurant.com
SUMMARY:Sunday Brunch
DESCRIPTION:Sundays are even better with Sunday Brunch at JF Kicks from 11am to 3pm. Enjoy our special Sunday Brunch menu\, Mimosa and Sangria specials\, and live acoustic music from amazing local musicians on our beautiful covered patio\, which is also dog friendly. It’s the perfect place to spend your Sunday with friends and family.
URL:https://jfkicksrestaurant.com/event/sunday-brunch/2025-06-29/
CATEGORIES:Drinks,Food,Music
ATTACH;FMTTYPE=image/jpeg:https://jfkicksrestaurant.com/wp-content/uploads/2025/04/Brunch-2025.jpg
END:VEVENT
BEGIN:VEVENT
DTSTART;TZID=America/New_York:20250629T110000
DTEND;TZID=America/New_York:20250629T150000
DTSTAMP:20260423T031806
CREATED:20240310T150939Z
LAST-MODIFIED:20260206T221046Z
UID:10004555-1751194800-1751209200@jfkicksrestaurant.com
SUMMARY:$20 Bottomless Mimosas and Sangrias
DESCRIPTION:$20 Bottomless Mimosas and Sangrias Sundays 11am-3pm! We open at 11am on Sundays.
URL:https://jfkicksrestaurant.com/event/20-bottomless-mimosas-and-sangrias/2025-06-29/
CATEGORIES:Drinks
ATTACH;FMTTYPE=image/jpeg:https://jfkicksrestaurant.com/wp-content/uploads/2024/03/Bottomless-Mimosa-June-2025.jpeg
END:VEVENT
BEGIN:VEVENT
DTSTART;TZID=America/New_York:20250626T180000
DTEND;TZID=America/New_York:20250626T210000
DTSTAMP:20260423T031806
CREATED:20250403T184732Z
LAST-MODIFIED:20250801T121043Z
UID:10006456-1750960800-1750971600@jfkicksrestaurant.com
SUMMARY:Kicks & Keys All Request Piano Night
DESCRIPTION:Thursday nights are Piano Nights at JF Kicks! “That Piano Chick” Julie Legner presents an All Request Piano Night starting at 6pm! Bring your requests and your friends and get ready to hear all your favorite songs. Martini and Appetizer specials\, plus a full food and drink menu.
URL:https://jfkicksrestaurant.com/event/kicks-keys-all-request-piano-night/2025-06-26/
LOCATION:Inside Main Stage
CATEGORIES:Drinks,Food,Music
ATTACH;FMTTYPE=image/jpeg:https://jfkicksrestaurant.com/wp-content/uploads/2025/04/Kicks-Keys-Piano-6pm-04-03-2025.jpg.jpeg
END:VEVENT
BEGIN:VEVENT
DTSTART;TZID=America/New_York:20250622T110000
DTEND;TZID=America/New_York:20250622T150000
DTSTAMP:20260423T031806
CREATED:20250411T181553Z
LAST-MODIFIED:20250411T191139Z
UID:10006723-1750590000-1750604400@jfkicksrestaurant.com
SUMMARY:Sunday Brunch
DESCRIPTION:Sundays are even better with Sunday Brunch at JF Kicks from 11am to 3pm. Enjoy our special Sunday Brunch menu\, Mimosa and Sangria specials\, and live acoustic music from amazing local musicians on our beautiful covered patio\, which is also dog friendly. It’s the perfect place to spend your Sunday with friends and family.
URL:https://jfkicksrestaurant.com/event/sunday-brunch/2025-06-22/
CATEGORIES:Drinks,Food,Music
ATTACH;FMTTYPE=image/jpeg:https://jfkicksrestaurant.com/wp-content/uploads/2025/04/Brunch-2025.jpg
END:VEVENT
BEGIN:VEVENT
DTSTART;TZID=America/New_York:20250622T110000
DTEND;TZID=America/New_York:20250622T150000
DTSTAMP:20260423T031806
CREATED:20240310T150939Z
LAST-MODIFIED:20260206T221046Z
UID:10004554-1750590000-1750604400@jfkicksrestaurant.com
SUMMARY:$20 Bottomless Mimosas and Sangrias
DESCRIPTION:$20 Bottomless Mimosas and Sangrias Sundays 11am-3pm! We open at 11am on Sundays.
URL:https://jfkicksrestaurant.com/event/20-bottomless-mimosas-and-sangrias/2025-06-22/
CATEGORIES:Drinks
ATTACH;FMTTYPE=image/jpeg:https://jfkicksrestaurant.com/wp-content/uploads/2024/03/Bottomless-Mimosa-June-2025.jpeg
END:VEVENT
BEGIN:VEVENT
DTSTART;TZID=America/New_York:20250619T180000
DTEND;TZID=America/New_York:20250619T210000
DTSTAMP:20260423T031806
CREATED:20250403T184732Z
LAST-MODIFIED:20250801T121043Z
UID:10006455-1750356000-1750366800@jfkicksrestaurant.com
SUMMARY:Kicks & Keys All Request Piano Night
DESCRIPTION:Thursday nights are Piano Nights at JF Kicks! “That Piano Chick” Julie Legner presents an All Request Piano Night starting at 6pm! Bring your requests and your friends and get ready to hear all your favorite songs. Martini and Appetizer specials\, plus a full food and drink menu.
URL:https://jfkicksrestaurant.com/event/kicks-keys-all-request-piano-night/2025-06-19/
LOCATION:Inside Main Stage
CATEGORIES:Drinks,Food,Music
ATTACH;FMTTYPE=image/jpeg:https://jfkicksrestaurant.com/wp-content/uploads/2025/04/Kicks-Keys-Piano-6pm-04-03-2025.jpg.jpeg
END:VEVENT
BEGIN:VEVENT
DTSTART;TZID=America/New_York:20250615T110000
DTEND;TZID=America/New_York:20250615T150000
DTSTAMP:20260423T031806
CREATED:20250411T181553Z
LAST-MODIFIED:20250411T191139Z
UID:10006722-1749985200-1749999600@jfkicksrestaurant.com
SUMMARY:Sunday Brunch
DESCRIPTION:Sundays are even better with Sunday Brunch at JF Kicks from 11am to 3pm. Enjoy our special Sunday Brunch menu\, Mimosa and Sangria specials\, and live acoustic music from amazing local musicians on our beautiful covered patio\, which is also dog friendly. It’s the perfect place to spend your Sunday with friends and family.
URL:https://jfkicksrestaurant.com/event/sunday-brunch/2025-06-15/
CATEGORIES:Drinks,Food,Music
ATTACH;FMTTYPE=image/jpeg:https://jfkicksrestaurant.com/wp-content/uploads/2025/04/Brunch-2025.jpg
END:VEVENT
BEGIN:VEVENT
DTSTART;TZID=America/New_York:20250615T110000
DTEND;TZID=America/New_York:20250615T150000
DTSTAMP:20260423T031806
CREATED:20240310T150939Z
LAST-MODIFIED:20260206T221046Z
UID:10004553-1749985200-1749999600@jfkicksrestaurant.com
SUMMARY:$20 Bottomless Mimosas and Sangrias
DESCRIPTION:$20 Bottomless Mimosas and Sangrias Sundays 11am-3pm! We open at 11am on Sundays.
URL:https://jfkicksrestaurant.com/event/20-bottomless-mimosas-and-sangrias/2025-06-15/
CATEGORIES:Drinks
ATTACH;FMTTYPE=image/jpeg:https://jfkicksrestaurant.com/wp-content/uploads/2024/03/Bottomless-Mimosa-June-2025.jpeg
END:VEVENT
BEGIN:VEVENT
DTSTART;TZID=America/New_York:20250612T180000
DTEND;TZID=America/New_York:20250612T210000
DTSTAMP:20260423T031806
CREATED:20250403T184732Z
LAST-MODIFIED:20250801T121043Z
UID:10006454-1749751200-1749762000@jfkicksrestaurant.com
SUMMARY:Kicks & Keys All Request Piano Night
DESCRIPTION:Thursday nights are Piano Nights at JF Kicks! “That Piano Chick” Julie Legner presents an All Request Piano Night starting at 6pm! Bring your requests and your friends and get ready to hear all your favorite songs. Martini and Appetizer specials\, plus a full food and drink menu.
URL:https://jfkicksrestaurant.com/event/kicks-keys-all-request-piano-night/2025-06-12/
LOCATION:Inside Main Stage
CATEGORIES:Drinks,Food,Music
ATTACH;FMTTYPE=image/jpeg:https://jfkicksrestaurant.com/wp-content/uploads/2025/04/Kicks-Keys-Piano-6pm-04-03-2025.jpg.jpeg
END:VEVENT
BEGIN:VEVENT
DTSTART;TZID=America/New_York:20250608T110000
DTEND;TZID=America/New_York:20250608T150000
DTSTAMP:20260423T031806
CREATED:20250411T181553Z
LAST-MODIFIED:20250411T191139Z
UID:10006721-1749380400-1749394800@jfkicksrestaurant.com
SUMMARY:Sunday Brunch
DESCRIPTION:Sundays are even better with Sunday Brunch at JF Kicks from 11am to 3pm. Enjoy our special Sunday Brunch menu\, Mimosa and Sangria specials\, and live acoustic music from amazing local musicians on our beautiful covered patio\, which is also dog friendly. It’s the perfect place to spend your Sunday with friends and family.
URL:https://jfkicksrestaurant.com/event/sunday-brunch/2025-06-08/
CATEGORIES:Drinks,Food,Music
ATTACH;FMTTYPE=image/jpeg:https://jfkicksrestaurant.com/wp-content/uploads/2025/04/Brunch-2025.jpg
END:VEVENT
BEGIN:VEVENT
DTSTART;TZID=America/New_York:20250608T110000
DTEND;TZID=America/New_York:20250608T150000
DTSTAMP:20260423T031806
CREATED:20240310T150939Z
LAST-MODIFIED:20260206T221046Z
UID:10004552-1749380400-1749394800@jfkicksrestaurant.com
SUMMARY:$20 Bottomless Mimosas and Sangrias
DESCRIPTION:$20 Bottomless Mimosas and Sangrias Sundays 11am-3pm! We open at 11am on Sundays.
URL:https://jfkicksrestaurant.com/event/20-bottomless-mimosas-and-sangrias/2025-06-08/
CATEGORIES:Drinks
ATTACH;FMTTYPE=image/jpeg:https://jfkicksrestaurant.com/wp-content/uploads/2024/03/Bottomless-Mimosa-June-2025.jpeg
END:VEVENT
BEGIN:VEVENT
DTSTART;TZID=America/New_York:20250605T180000
DTEND;TZID=America/New_York:20250605T210000
DTSTAMP:20260423T031806
CREATED:20250403T184732Z
LAST-MODIFIED:20250801T121043Z
UID:10006453-1749146400-1749157200@jfkicksrestaurant.com
SUMMARY:Kicks & Keys All Request Piano Night
DESCRIPTION:Thursday nights are Piano Nights at JF Kicks! “That Piano Chick” Julie Legner presents an All Request Piano Night starting at 6pm! Bring your requests and your friends and get ready to hear all your favorite songs. Martini and Appetizer specials\, plus a full food and drink menu.
URL:https://jfkicksrestaurant.com/event/kicks-keys-all-request-piano-night/2025-06-05/
LOCATION:Inside Main Stage
CATEGORIES:Drinks,Food,Music
ATTACH;FMTTYPE=image/jpeg:https://jfkicksrestaurant.com/wp-content/uploads/2025/04/Kicks-Keys-Piano-6pm-04-03-2025.jpg.jpeg
END:VEVENT
BEGIN:VEVENT
DTSTART;TZID=America/New_York:20250601T110000
DTEND;TZID=America/New_York:20250601T150000
DTSTAMP:20260423T031806
CREATED:20250411T181553Z
LAST-MODIFIED:20250411T191139Z
UID:10006720-1748775600-1748790000@jfkicksrestaurant.com
SUMMARY:Sunday Brunch
DESCRIPTION:Sundays are even better with Sunday Brunch at JF Kicks from 11am to 3pm. Enjoy our special Sunday Brunch menu\, Mimosa and Sangria specials\, and live acoustic music from amazing local musicians on our beautiful covered patio\, which is also dog friendly. It’s the perfect place to spend your Sunday with friends and family.
URL:https://jfkicksrestaurant.com/event/sunday-brunch/2025-06-01/
CATEGORIES:Drinks,Food,Music
ATTACH;FMTTYPE=image/jpeg:https://jfkicksrestaurant.com/wp-content/uploads/2025/04/Brunch-2025.jpg
END:VEVENT
BEGIN:VEVENT
DTSTART;TZID=America/New_York:20250601T110000
DTEND;TZID=America/New_York:20250601T150000
DTSTAMP:20260423T031806
CREATED:20240310T150939Z
LAST-MODIFIED:20260206T221046Z
UID:10004551-1748775600-1748790000@jfkicksrestaurant.com
SUMMARY:$20 Bottomless Mimosas and Sangrias
DESCRIPTION:$20 Bottomless Mimosas and Sangrias Sundays 11am-3pm! We open at 11am on Sundays.
URL:https://jfkicksrestaurant.com/event/20-bottomless-mimosas-and-sangrias/2025-06-01/
CATEGORIES:Drinks
ATTACH;FMTTYPE=image/jpeg:https://jfkicksrestaurant.com/wp-content/uploads/2024/03/Bottomless-Mimosa-June-2025.jpeg
END:VEVENT
BEGIN:VEVENT
DTSTART;TZID=America/New_York:20250529T180000
DTEND;TZID=America/New_York:20250529T210000
DTSTAMP:20260423T031806
CREATED:20250403T184732Z
LAST-MODIFIED:20250801T121043Z
UID:10006452-1748541600-1748552400@jfkicksrestaurant.com
SUMMARY:Kicks & Keys All Request Piano Night
DESCRIPTION:Thursday nights are Piano Nights at JF Kicks! “That Piano Chick” Julie Legner presents an All Request Piano Night starting at 6pm! Bring your requests and your friends and get ready to hear all your favorite songs. Martini and Appetizer specials\, plus a full food and drink menu.
URL:https://jfkicksrestaurant.com/event/kicks-keys-all-request-piano-night/2025-05-29/
LOCATION:Inside Main Stage
CATEGORIES:Drinks,Food,Music
ATTACH;FMTTYPE=image/jpeg:https://jfkicksrestaurant.com/wp-content/uploads/2025/04/Kicks-Keys-Piano-6pm-04-03-2025.jpg.jpeg
END:VEVENT
BEGIN:VEVENT
DTSTART;TZID=America/New_York:20250525T110000
DTEND;TZID=America/New_York:20250525T150000
DTSTAMP:20260423T031806
CREATED:20250411T181553Z
LAST-MODIFIED:20250411T191139Z
UID:10006719-1748170800-1748185200@jfkicksrestaurant.com
SUMMARY:Sunday Brunch
DESCRIPTION:Sundays are even better with Sunday Brunch at JF Kicks from 11am to 3pm. Enjoy our special Sunday Brunch menu\, Mimosa and Sangria specials\, and live acoustic music from amazing local musicians on our beautiful covered patio\, which is also dog friendly. It’s the perfect place to spend your Sunday with friends and family.
URL:https://jfkicksrestaurant.com/event/sunday-brunch/2025-05-25/
CATEGORIES:Drinks,Food,Music
ATTACH;FMTTYPE=image/jpeg:https://jfkicksrestaurant.com/wp-content/uploads/2025/04/Brunch-2025.jpg
END:VEVENT
BEGIN:VEVENT
DTSTART;TZID=America/New_York:20250525T110000
DTEND;TZID=America/New_York:20250525T150000
DTSTAMP:20260423T031806
CREATED:20240310T150939Z
LAST-MODIFIED:20260206T221046Z
UID:10004550-1748170800-1748185200@jfkicksrestaurant.com
SUMMARY:$20 Bottomless Mimosas and Sangrias
DESCRIPTION:$20 Bottomless Mimosas and Sangrias Sundays 11am-3pm! We open at 11am on Sundays.
URL:https://jfkicksrestaurant.com/event/20-bottomless-mimosas-and-sangrias/2025-05-25/
CATEGORIES:Drinks
ATTACH;FMTTYPE=image/jpeg:https://jfkicksrestaurant.com/wp-content/uploads/2024/03/Bottomless-Mimosa-June-2025.jpeg
END:VEVENT
BEGIN:VEVENT
DTSTART;TZID=America/New_York:20250522T180000
DTEND;TZID=America/New_York:20250522T210000
DTSTAMP:20260423T031806
CREATED:20250403T184732Z
LAST-MODIFIED:20250801T121043Z
UID:10006451-1747936800-1747947600@jfkicksrestaurant.com
SUMMARY:Kicks & Keys All Request Piano Night
DESCRIPTION:Thursday nights are Piano Nights at JF Kicks! “That Piano Chick” Julie Legner presents an All Request Piano Night starting at 6pm! Bring your requests and your friends and get ready to hear all your favorite songs. Martini and Appetizer specials\, plus a full food and drink menu.
URL:https://jfkicksrestaurant.com/event/kicks-keys-all-request-piano-night/2025-05-22/
LOCATION:Inside Main Stage
CATEGORIES:Drinks,Food,Music
ATTACH;FMTTYPE=image/jpeg:https://jfkicksrestaurant.com/wp-content/uploads/2025/04/Kicks-Keys-Piano-6pm-04-03-2025.jpg.jpeg
END:VEVENT
BEGIN:VEVENT
DTSTART;TZID=America/New_York:20250518T110000
DTEND;TZID=America/New_York:20250518T150000
DTSTAMP:20260423T031806
CREATED:20250411T181553Z
LAST-MODIFIED:20250411T191139Z
UID:10006718-1747566000-1747580400@jfkicksrestaurant.com
SUMMARY:Sunday Brunch
DESCRIPTION:Sundays are even better with Sunday Brunch at JF Kicks from 11am to 3pm. Enjoy our special Sunday Brunch menu\, Mimosa and Sangria specials\, and live acoustic music from amazing local musicians on our beautiful covered patio\, which is also dog friendly. It’s the perfect place to spend your Sunday with friends and family.
URL:https://jfkicksrestaurant.com/event/sunday-brunch/2025-05-18/
CATEGORIES:Drinks,Food,Music
ATTACH;FMTTYPE=image/jpeg:https://jfkicksrestaurant.com/wp-content/uploads/2025/04/Brunch-2025.jpg
END:VEVENT
END:VCALENDAR