BEGIN:VCALENDAR
VERSION:2.0
PRODID:-//JF Kicks Restaurant - ECPv6.15.18//NONSGML v1.0//EN
CALSCALE:GREGORIAN
METHOD:PUBLISH
X-ORIGINAL-URL:https://jfkicksrestaurant.com
X-WR-CALDESC:Events for JF Kicks Restaurant
REFRESH-INTERVAL;VALUE=DURATION:PT1H
X-Robots-Tag:noindex
X-PUBLISHED-TTL:PT1H
BEGIN:VTIMEZONE
TZID:America/New_York
BEGIN:DAYLIGHT
TZOFFSETFROM:-0500
TZOFFSETTO:-0400
TZNAME:EDT
DTSTART:20240310T070000
END:DAYLIGHT
BEGIN:STANDARD
TZOFFSETFROM:-0400
TZOFFSETTO:-0500
TZNAME:EST
DTSTART:20241103T060000
END:STANDARD
BEGIN:DAYLIGHT
TZOFFSETFROM:-0500
TZOFFSETTO:-0400
TZNAME:EDT
DTSTART:20250309T070000
END:DAYLIGHT
BEGIN:STANDARD
TZOFFSETFROM:-0400
TZOFFSETTO:-0500
TZNAME:EST
DTSTART:20251102T060000
END:STANDARD
BEGIN:DAYLIGHT
TZOFFSETFROM:-0500
TZOFFSETTO:-0400
TZNAME:EDT
DTSTART:20260308T070000
END:DAYLIGHT
BEGIN:STANDARD
TZOFFSETFROM:-0400
TZOFFSETTO:-0500
TZNAME:EST
DTSTART:20261101T060000
END:STANDARD
END:VTIMEZONE
BEGIN:VEVENT
DTSTART;TZID=America/New_York:20251026T110000
DTEND;TZID=America/New_York:20251026T150000
DTSTAMP:20260423T013838
CREATED:20240310T150939Z
LAST-MODIFIED:20260206T221046Z
UID:10004572-1761476400-1761490800@jfkicksrestaurant.com
SUMMARY:$20 Bottomless Mimosas and Sangrias
DESCRIPTION:$20 Bottomless Mimosas and Sangrias Sundays 11am-3pm! We open at 11am on Sundays.
URL:https://jfkicksrestaurant.com/event/20-bottomless-mimosas-and-sangrias/2025-10-26/
CATEGORIES:Drinks
ATTACH;FMTTYPE=image/jpeg:https://jfkicksrestaurant.com/wp-content/uploads/2024/03/Bottomless-Mimosa-June-2025.jpeg
END:VEVENT
BEGIN:VEVENT
DTSTART;VALUE=DATE:20251025
DTEND;VALUE=DATE:20251027
DTSTAMP:20260423T013838
CREATED:20250906T165304Z
LAST-MODIFIED:20250906T165304Z
UID:10008448-1761357600-1761443999@jfkicksrestaurant.com
SUMMARY:College Football Specials
DESCRIPTION:Check out our Saturday College Football specials: \n\nHalf-Priced Peel n’ Eat Shrimp\n$5 Jack Daniels\n$4 Shot Specials\n$18.95 Domestic Buckets\n$24.95 Import Buckets\n$28.95 Seltzer Buckets\n$6.50 Tito’s Zing Zang Bloody Marys
URL:https://jfkicksrestaurant.com/event/college-football-specials/2025-10-25/
CATEGORIES:Drinks,Food,Sports
ATTACH;FMTTYPE=image/jpeg:https://jfkicksrestaurant.com/wp-content/uploads/2025/09/Saturday-College-Football-Specials-Sept-2025-cropped.jpg
END:VEVENT
BEGIN:VEVENT
DTSTART;VALUE=DATE:20251023
DTEND;VALUE=DATE:20251025
DTSTAMP:20260423T013838
CREATED:20250906T170157Z
LAST-MODIFIED:20251120T125300Z
UID:10008464-1761184800-1761271199@jfkicksrestaurant.com
SUMMARY:Thursday Night Football Specials
DESCRIPTION:Come watch Thursday Night Football at JF Kicks. Check out our Thursday Night Football specials: \n\n$5 Jack Daniels\n$4 Shot Specials\n$18.95 Domestic Buckets\n$24.95 Import Buckets\n$28.95 Seltzer Buckets\n$12.95 Chicken Wing Basket – 6 Bone-In or 10 Boneless Wings with French Fries
URL:https://jfkicksrestaurant.com/event/thursday-night-football-specials/2025-10-23/
CATEGORIES:Drinks,Food,Sports
ATTACH;FMTTYPE=image/jpeg:https://jfkicksrestaurant.com/wp-content/uploads/2025/09/Thursday-NFL-Drink-Specials-cropped.jpg
END:VEVENT
BEGIN:VEVENT
DTSTART;VALUE=DATE:20251020
DTEND;VALUE=DATE:20251022
DTSTAMP:20260423T013838
CREATED:20251017T124353Z
LAST-MODIFIED:20251017T124456Z
UID:10008541-1760925600-1761011999@jfkicksrestaurant.com
SUMMARY:Monday Night Football Specials
DESCRIPTION:Monday Night Football is at JF Kicks. Check out our Monday Night Football specials: \n\n$5 Jack Daniels\n$4 Shot Specials\n$18.95 Domestic Buckets\n$24.95 Import Buckets\n$28.95 Seltzer Buckets\nHappy Hour Specials 11am-7pm\n$10.95 Smash Burger
URL:https://jfkicksrestaurant.com/event/monday-night-football-specials/2025-10-20/
CATEGORIES:Drinks,Food,Sports
ATTACH;FMTTYPE=image/jpeg:https://jfkicksrestaurant.com/wp-content/uploads/2025/10/Monday-Night-Football-specials-2025-downsized.jpg
END:VEVENT
BEGIN:VEVENT
DTSTART;TZID=America/New_York:20251019T110000
DTEND;TZID=America/New_York:20251019T150000
DTSTAMP:20260423T013838
CREATED:20240310T150939Z
LAST-MODIFIED:20260206T221046Z
UID:10004571-1760871600-1760886000@jfkicksrestaurant.com
SUMMARY:$20 Bottomless Mimosas and Sangrias
DESCRIPTION:$20 Bottomless Mimosas and Sangrias Sundays 11am-3pm! We open at 11am on Sundays.
URL:https://jfkicksrestaurant.com/event/20-bottomless-mimosas-and-sangrias/2025-10-19/
CATEGORIES:Drinks
ATTACH;FMTTYPE=image/jpeg:https://jfkicksrestaurant.com/wp-content/uploads/2024/03/Bottomless-Mimosa-June-2025.jpeg
END:VEVENT
BEGIN:VEVENT
DTSTART;VALUE=DATE:20251018
DTEND;VALUE=DATE:20251020
DTSTAMP:20260423T013838
CREATED:20250906T165304Z
LAST-MODIFIED:20250906T165304Z
UID:10008447-1760752800-1760839199@jfkicksrestaurant.com
SUMMARY:College Football Specials
DESCRIPTION:Check out our Saturday College Football specials: \n\nHalf-Priced Peel n’ Eat Shrimp\n$5 Jack Daniels\n$4 Shot Specials\n$18.95 Domestic Buckets\n$24.95 Import Buckets\n$28.95 Seltzer Buckets\n$6.50 Tito’s Zing Zang Bloody Marys
URL:https://jfkicksrestaurant.com/event/college-football-specials/2025-10-18/
CATEGORIES:Drinks,Food,Sports
ATTACH;FMTTYPE=image/jpeg:https://jfkicksrestaurant.com/wp-content/uploads/2025/09/Saturday-College-Football-Specials-Sept-2025-cropped.jpg
END:VEVENT
BEGIN:VEVENT
DTSTART;VALUE=DATE:20251016
DTEND;VALUE=DATE:20251018
DTSTAMP:20260423T013838
CREATED:20250906T170157Z
LAST-MODIFIED:20251120T125300Z
UID:10008463-1760580000-1760666399@jfkicksrestaurant.com
SUMMARY:Thursday Night Football Specials
DESCRIPTION:Come watch Thursday Night Football at JF Kicks. Check out our Thursday Night Football specials: \n\n$5 Jack Daniels\n$4 Shot Specials\n$18.95 Domestic Buckets\n$24.95 Import Buckets\n$28.95 Seltzer Buckets\n$12.95 Chicken Wing Basket – 6 Bone-In or 10 Boneless Wings with French Fries
URL:https://jfkicksrestaurant.com/event/thursday-night-football-specials/2025-10-16/
CATEGORIES:Drinks,Food,Sports
ATTACH;FMTTYPE=image/jpeg:https://jfkicksrestaurant.com/wp-content/uploads/2025/09/Thursday-NFL-Drink-Specials-cropped.jpg
END:VEVENT
BEGIN:VEVENT
DTSTART;TZID=America/New_York:20251012T160000
DTEND;TZID=America/New_York:20251012T235900
DTSTAMP:20260423T013838
CREATED:20251010T144226Z
LAST-MODIFIED:20251010T144226Z
UID:10008533-1760284800-1760313540@jfkicksrestaurant.com
SUMMARY:Oktoberfest
DESCRIPTION:Oktoberfest at JF Kicks is this weekend! We have fantastic food specials and Oktoberfest beer specials. No cover.
URL:https://jfkicksrestaurant.com/event/oktoberfest-2/2025-10-12/
CATEGORIES:Drinks,Food
ATTACH;FMTTYPE=image/jpeg:https://jfkicksrestaurant.com/wp-content/uploads/2025/10/Oktoberfest.jpg
END:VEVENT
BEGIN:VEVENT
DTSTART;TZID=America/New_York:20251012T110000
DTEND;TZID=America/New_York:20251012T150000
DTSTAMP:20260423T013838
CREATED:20240310T150939Z
LAST-MODIFIED:20260206T221046Z
UID:10004570-1760266800-1760281200@jfkicksrestaurant.com
SUMMARY:$20 Bottomless Mimosas and Sangrias
DESCRIPTION:$20 Bottomless Mimosas and Sangrias Sundays 11am-3pm! We open at 11am on Sundays.
URL:https://jfkicksrestaurant.com/event/20-bottomless-mimosas-and-sangrias/2025-10-12/
CATEGORIES:Drinks
ATTACH;FMTTYPE=image/jpeg:https://jfkicksrestaurant.com/wp-content/uploads/2024/03/Bottomless-Mimosa-June-2025.jpeg
END:VEVENT
BEGIN:VEVENT
DTSTART;TZID=America/New_York:20251011T160000
DTEND;TZID=America/New_York:20251011T235900
DTSTAMP:20260423T013838
CREATED:20251010T144226Z
LAST-MODIFIED:20251010T144226Z
UID:10008532-1760198400-1760227140@jfkicksrestaurant.com
SUMMARY:Oktoberfest
DESCRIPTION:Oktoberfest at JF Kicks is this weekend! We have fantastic food specials and Oktoberfest beer specials. No cover.
URL:https://jfkicksrestaurant.com/event/oktoberfest-2/2025-10-11/
CATEGORIES:Drinks,Food
ATTACH;FMTTYPE=image/jpeg:https://jfkicksrestaurant.com/wp-content/uploads/2025/10/Oktoberfest.jpg
END:VEVENT
BEGIN:VEVENT
DTSTART;VALUE=DATE:20251011
DTEND;VALUE=DATE:20251013
DTSTAMP:20260423T013838
CREATED:20250906T165304Z
LAST-MODIFIED:20250906T165304Z
UID:10008446-1760148000-1760234399@jfkicksrestaurant.com
SUMMARY:College Football Specials
DESCRIPTION:Check out our Saturday College Football specials: \n\nHalf-Priced Peel n’ Eat Shrimp\n$5 Jack Daniels\n$4 Shot Specials\n$18.95 Domestic Buckets\n$24.95 Import Buckets\n$28.95 Seltzer Buckets\n$6.50 Tito’s Zing Zang Bloody Marys
URL:https://jfkicksrestaurant.com/event/college-football-specials/2025-10-11/
CATEGORIES:Drinks,Food,Sports
ATTACH;FMTTYPE=image/jpeg:https://jfkicksrestaurant.com/wp-content/uploads/2025/09/Saturday-College-Football-Specials-Sept-2025-cropped.jpg
END:VEVENT
BEGIN:VEVENT
DTSTART;TZID=America/New_York:20251010T160000
DTEND;TZID=America/New_York:20251010T235900
DTSTAMP:20260423T013838
CREATED:20251010T144226Z
LAST-MODIFIED:20251010T144226Z
UID:10008531-1760112000-1760140740@jfkicksrestaurant.com
SUMMARY:Oktoberfest
DESCRIPTION:Oktoberfest at JF Kicks is this weekend! We have fantastic food specials and Oktoberfest beer specials. No cover.
URL:https://jfkicksrestaurant.com/event/oktoberfest-2/2025-10-10/
CATEGORIES:Drinks,Food
ATTACH;FMTTYPE=image/jpeg:https://jfkicksrestaurant.com/wp-content/uploads/2025/10/Oktoberfest.jpg
END:VEVENT
BEGIN:VEVENT
DTSTART;TZID=America/New_York:20251009T180000
DTEND;TZID=America/New_York:20251009T210000
DTSTAMP:20260423T013838
CREATED:20250923T124503Z
LAST-MODIFIED:20250923T124503Z
UID:10008475-1760032800-1760043600@jfkicksrestaurant.com
SUMMARY:Bike Night
DESCRIPTION:It’s Bike Night at Kicks! Join us for a night with vendors\, food and drink specials\, Thursday Night Football\, and live music from Gary Schutt. It’s fun for all and free to the public.
URL:https://jfkicksrestaurant.com/event/bike-night/
CATEGORIES:Community,Drinks,Food,Music
ATTACH;FMTTYPE=image/jpeg:https://jfkicksrestaurant.com/wp-content/uploads/2025/09/Bike-Night-Oct-9.jpg
END:VEVENT
BEGIN:VEVENT
DTSTART;VALUE=DATE:20251009
DTEND;VALUE=DATE:20251011
DTSTAMP:20260423T013838
CREATED:20250906T170157Z
LAST-MODIFIED:20251120T125300Z
UID:10008462-1759975200-1760061599@jfkicksrestaurant.com
SUMMARY:Thursday Night Football Specials
DESCRIPTION:Come watch Thursday Night Football at JF Kicks. Check out our Thursday Night Football specials: \n\n$5 Jack Daniels\n$4 Shot Specials\n$18.95 Domestic Buckets\n$24.95 Import Buckets\n$28.95 Seltzer Buckets\n$12.95 Chicken Wing Basket – 6 Bone-In or 10 Boneless Wings with French Fries
URL:https://jfkicksrestaurant.com/event/thursday-night-football-specials/2025-10-09/
CATEGORIES:Drinks,Food,Sports
ATTACH;FMTTYPE=image/jpeg:https://jfkicksrestaurant.com/wp-content/uploads/2025/09/Thursday-NFL-Drink-Specials-cropped.jpg
END:VEVENT
BEGIN:VEVENT
DTSTART;TZID=America/New_York:20251005T110000
DTEND;TZID=America/New_York:20251005T150000
DTSTAMP:20260423T013838
CREATED:20240310T150939Z
LAST-MODIFIED:20260206T221046Z
UID:10004569-1759662000-1759676400@jfkicksrestaurant.com
SUMMARY:$20 Bottomless Mimosas and Sangrias
DESCRIPTION:$20 Bottomless Mimosas and Sangrias Sundays 11am-3pm! We open at 11am on Sundays.
URL:https://jfkicksrestaurant.com/event/20-bottomless-mimosas-and-sangrias/2025-10-05/
CATEGORIES:Drinks
ATTACH;FMTTYPE=image/jpeg:https://jfkicksrestaurant.com/wp-content/uploads/2024/03/Bottomless-Mimosa-June-2025.jpeg
END:VEVENT
BEGIN:VEVENT
DTSTART;VALUE=DATE:20251004
DTEND;VALUE=DATE:20251006
DTSTAMP:20260423T013838
CREATED:20250906T165304Z
LAST-MODIFIED:20250906T165304Z
UID:10008445-1759543200-1759629599@jfkicksrestaurant.com
SUMMARY:College Football Specials
DESCRIPTION:Check out our Saturday College Football specials: \n\nHalf-Priced Peel n’ Eat Shrimp\n$5 Jack Daniels\n$4 Shot Specials\n$18.95 Domestic Buckets\n$24.95 Import Buckets\n$28.95 Seltzer Buckets\n$6.50 Tito’s Zing Zang Bloody Marys
URL:https://jfkicksrestaurant.com/event/college-football-specials/2025-10-04/
CATEGORIES:Drinks,Food,Sports
ATTACH;FMTTYPE=image/jpeg:https://jfkicksrestaurant.com/wp-content/uploads/2025/09/Saturday-College-Football-Specials-Sept-2025-cropped.jpg
END:VEVENT
BEGIN:VEVENT
DTSTART;VALUE=DATE:20251002
DTEND;VALUE=DATE:20251004
DTSTAMP:20260423T013838
CREATED:20250906T170157Z
LAST-MODIFIED:20251120T125300Z
UID:10008461-1759370400-1759456799@jfkicksrestaurant.com
SUMMARY:Thursday Night Football Specials
DESCRIPTION:Come watch Thursday Night Football at JF Kicks. Check out our Thursday Night Football specials: \n\n$5 Jack Daniels\n$4 Shot Specials\n$18.95 Domestic Buckets\n$24.95 Import Buckets\n$28.95 Seltzer Buckets\n$12.95 Chicken Wing Basket – 6 Bone-In or 10 Boneless Wings with French Fries
URL:https://jfkicksrestaurant.com/event/thursday-night-football-specials/2025-10-02/
CATEGORIES:Drinks,Food,Sports
ATTACH;FMTTYPE=image/jpeg:https://jfkicksrestaurant.com/wp-content/uploads/2025/09/Thursday-NFL-Drink-Specials-cropped.jpg
END:VEVENT
BEGIN:VEVENT
DTSTART;TZID=America/New_York:20250928T110000
DTEND;TZID=America/New_York:20250928T150000
DTSTAMP:20260423T013838
CREATED:20240310T150939Z
LAST-MODIFIED:20260206T221046Z
UID:10004568-1759057200-1759071600@jfkicksrestaurant.com
SUMMARY:$20 Bottomless Mimosas and Sangrias
DESCRIPTION:$20 Bottomless Mimosas and Sangrias Sundays 11am-3pm! We open at 11am on Sundays.
URL:https://jfkicksrestaurant.com/event/20-bottomless-mimosas-and-sangrias/2025-09-28/
CATEGORIES:Drinks
ATTACH;FMTTYPE=image/jpeg:https://jfkicksrestaurant.com/wp-content/uploads/2024/03/Bottomless-Mimosa-June-2025.jpeg
END:VEVENT
BEGIN:VEVENT
DTSTART;VALUE=DATE:20250927
DTEND;VALUE=DATE:20250929
DTSTAMP:20260423T013838
CREATED:20250906T165304Z
LAST-MODIFIED:20250906T165304Z
UID:10008444-1758938400-1759024799@jfkicksrestaurant.com
SUMMARY:College Football Specials
DESCRIPTION:Check out our Saturday College Football specials: \n\nHalf-Priced Peel n’ Eat Shrimp\n$5 Jack Daniels\n$4 Shot Specials\n$18.95 Domestic Buckets\n$24.95 Import Buckets\n$28.95 Seltzer Buckets\n$6.50 Tito’s Zing Zang Bloody Marys
URL:https://jfkicksrestaurant.com/event/college-football-specials/2025-09-27/
CATEGORIES:Drinks,Food,Sports
ATTACH;FMTTYPE=image/jpeg:https://jfkicksrestaurant.com/wp-content/uploads/2025/09/Saturday-College-Football-Specials-Sept-2025-cropped.jpg
END:VEVENT
BEGIN:VEVENT
DTSTART;VALUE=DATE:20250925
DTEND;VALUE=DATE:20250927
DTSTAMP:20260423T013838
CREATED:20250906T170157Z
LAST-MODIFIED:20251120T125300Z
UID:10008460-1758765600-1758851999@jfkicksrestaurant.com
SUMMARY:Thursday Night Football Specials
DESCRIPTION:Come watch Thursday Night Football at JF Kicks. Check out our Thursday Night Football specials: \n\n$5 Jack Daniels\n$4 Shot Specials\n$18.95 Domestic Buckets\n$24.95 Import Buckets\n$28.95 Seltzer Buckets\n$12.95 Chicken Wing Basket – 6 Bone-In or 10 Boneless Wings with French Fries
URL:https://jfkicksrestaurant.com/event/thursday-night-football-specials/2025-09-25/
CATEGORIES:Drinks,Food,Sports
ATTACH;FMTTYPE=image/jpeg:https://jfkicksrestaurant.com/wp-content/uploads/2025/09/Thursday-NFL-Drink-Specials-cropped.jpg
END:VEVENT
BEGIN:VEVENT
DTSTART;TZID=America/New_York:20250921T110000
DTEND;TZID=America/New_York:20250921T150000
DTSTAMP:20260423T013838
CREATED:20240310T150939Z
LAST-MODIFIED:20260206T221046Z
UID:10004567-1758452400-1758466800@jfkicksrestaurant.com
SUMMARY:$20 Bottomless Mimosas and Sangrias
DESCRIPTION:$20 Bottomless Mimosas and Sangrias Sundays 11am-3pm! We open at 11am on Sundays.
URL:https://jfkicksrestaurant.com/event/20-bottomless-mimosas-and-sangrias/2025-09-21/
CATEGORIES:Drinks
ATTACH;FMTTYPE=image/jpeg:https://jfkicksrestaurant.com/wp-content/uploads/2024/03/Bottomless-Mimosa-June-2025.jpeg
END:VEVENT
BEGIN:VEVENT
DTSTART;VALUE=DATE:20250920
DTEND;VALUE=DATE:20250922
DTSTAMP:20260423T013838
CREATED:20250906T165304Z
LAST-MODIFIED:20250906T165304Z
UID:10008443-1758333600-1758419999@jfkicksrestaurant.com
SUMMARY:College Football Specials
DESCRIPTION:Check out our Saturday College Football specials: \n\nHalf-Priced Peel n’ Eat Shrimp\n$5 Jack Daniels\n$4 Shot Specials\n$18.95 Domestic Buckets\n$24.95 Import Buckets\n$28.95 Seltzer Buckets\n$6.50 Tito’s Zing Zang Bloody Marys
URL:https://jfkicksrestaurant.com/event/college-football-specials/2025-09-20/
CATEGORIES:Drinks,Food,Sports
ATTACH;FMTTYPE=image/jpeg:https://jfkicksrestaurant.com/wp-content/uploads/2025/09/Saturday-College-Football-Specials-Sept-2025-cropped.jpg
END:VEVENT
BEGIN:VEVENT
DTSTART;VALUE=DATE:20250918
DTEND;VALUE=DATE:20250920
DTSTAMP:20260423T013838
CREATED:20250906T170157Z
LAST-MODIFIED:20251120T125300Z
UID:10008459-1758160800-1758247199@jfkicksrestaurant.com
SUMMARY:Thursday Night Football Specials
DESCRIPTION:Come watch Thursday Night Football at JF Kicks. Check out our Thursday Night Football specials: \n\n$5 Jack Daniels\n$4 Shot Specials\n$18.95 Domestic Buckets\n$24.95 Import Buckets\n$28.95 Seltzer Buckets\n$12.95 Chicken Wing Basket – 6 Bone-In or 10 Boneless Wings with French Fries
URL:https://jfkicksrestaurant.com/event/thursday-night-football-specials/2025-09-18/
CATEGORIES:Drinks,Food,Sports
ATTACH;FMTTYPE=image/jpeg:https://jfkicksrestaurant.com/wp-content/uploads/2025/09/Thursday-NFL-Drink-Specials-cropped.jpg
END:VEVENT
BEGIN:VEVENT
DTSTART;TZID=America/New_York:20250914T110000
DTEND;TZID=America/New_York:20250914T150000
DTSTAMP:20260423T013838
CREATED:20240310T150939Z
LAST-MODIFIED:20260206T221046Z
UID:10004566-1757847600-1757862000@jfkicksrestaurant.com
SUMMARY:$20 Bottomless Mimosas and Sangrias
DESCRIPTION:$20 Bottomless Mimosas and Sangrias Sundays 11am-3pm! We open at 11am on Sundays.
URL:https://jfkicksrestaurant.com/event/20-bottomless-mimosas-and-sangrias/2025-09-14/
CATEGORIES:Drinks
ATTACH;FMTTYPE=image/jpeg:https://jfkicksrestaurant.com/wp-content/uploads/2024/03/Bottomless-Mimosa-June-2025.jpeg
END:VEVENT
BEGIN:VEVENT
DTSTART;VALUE=DATE:20250913
DTEND;VALUE=DATE:20250915
DTSTAMP:20260423T013838
CREATED:20250906T165304Z
LAST-MODIFIED:20250906T165304Z
UID:10008442-1757728800-1757815199@jfkicksrestaurant.com
SUMMARY:College Football Specials
DESCRIPTION:Check out our Saturday College Football specials: \n\nHalf-Priced Peel n’ Eat Shrimp\n$5 Jack Daniels\n$4 Shot Specials\n$18.95 Domestic Buckets\n$24.95 Import Buckets\n$28.95 Seltzer Buckets\n$6.50 Tito’s Zing Zang Bloody Marys
URL:https://jfkicksrestaurant.com/event/college-football-specials/2025-09-13/
CATEGORIES:Drinks,Food,Sports
ATTACH;FMTTYPE=image/jpeg:https://jfkicksrestaurant.com/wp-content/uploads/2025/09/Saturday-College-Football-Specials-Sept-2025-cropped.jpg
END:VEVENT
BEGIN:VEVENT
DTSTART;VALUE=DATE:20250911
DTEND;VALUE=DATE:20250913
DTSTAMP:20260423T013838
CREATED:20250906T170157Z
LAST-MODIFIED:20251120T125300Z
UID:10008458-1757556000-1757642399@jfkicksrestaurant.com
SUMMARY:Thursday Night Football Specials
DESCRIPTION:Come watch Thursday Night Football at JF Kicks. Check out our Thursday Night Football specials: \n\n$5 Jack Daniels\n$4 Shot Specials\n$18.95 Domestic Buckets\n$24.95 Import Buckets\n$28.95 Seltzer Buckets\n$12.95 Chicken Wing Basket – 6 Bone-In or 10 Boneless Wings with French Fries
URL:https://jfkicksrestaurant.com/event/thursday-night-football-specials/2025-09-11/
CATEGORIES:Drinks,Food,Sports
ATTACH;FMTTYPE=image/jpeg:https://jfkicksrestaurant.com/wp-content/uploads/2025/09/Thursday-NFL-Drink-Specials-cropped.jpg
END:VEVENT
BEGIN:VEVENT
DTSTART;TZID=America/New_York:20250907T110000
DTEND;TZID=America/New_York:20250907T150000
DTSTAMP:20260423T013838
CREATED:20240310T150939Z
LAST-MODIFIED:20260206T221046Z
UID:10004565-1757242800-1757257200@jfkicksrestaurant.com
SUMMARY:$20 Bottomless Mimosas and Sangrias
DESCRIPTION:$20 Bottomless Mimosas and Sangrias Sundays 11am-3pm! We open at 11am on Sundays.
URL:https://jfkicksrestaurant.com/event/20-bottomless-mimosas-and-sangrias/2025-09-07/
CATEGORIES:Drinks
ATTACH;FMTTYPE=image/jpeg:https://jfkicksrestaurant.com/wp-content/uploads/2024/03/Bottomless-Mimosa-June-2025.jpeg
END:VEVENT
BEGIN:VEVENT
DTSTART;VALUE=DATE:20250906
DTEND;VALUE=DATE:20250908
DTSTAMP:20260423T013838
CREATED:20250906T165304Z
LAST-MODIFIED:20250906T165304Z
UID:10008441-1757124000-1757210399@jfkicksrestaurant.com
SUMMARY:College Football Specials
DESCRIPTION:Check out our Saturday College Football specials: \n\nHalf-Priced Peel n’ Eat Shrimp\n$5 Jack Daniels\n$4 Shot Specials\n$18.95 Domestic Buckets\n$24.95 Import Buckets\n$28.95 Seltzer Buckets\n$6.50 Tito’s Zing Zang Bloody Marys
URL:https://jfkicksrestaurant.com/event/college-football-specials/2025-09-06/
CATEGORIES:Drinks,Food,Sports
ATTACH;FMTTYPE=image/jpeg:https://jfkicksrestaurant.com/wp-content/uploads/2025/09/Saturday-College-Football-Specials-Sept-2025-cropped.jpg
END:VEVENT
BEGIN:VEVENT
DTSTART;TZID=America/New_York:20250831T110000
DTEND;TZID=America/New_York:20250831T150000
DTSTAMP:20260423T013838
CREATED:20250411T181553Z
LAST-MODIFIED:20250411T191139Z
UID:10006733-1756638000-1756652400@jfkicksrestaurant.com
SUMMARY:Sunday Brunch
DESCRIPTION:Sundays are even better with Sunday Brunch at JF Kicks from 11am to 3pm. Enjoy our special Sunday Brunch menu\, Mimosa and Sangria specials\, and live acoustic music from amazing local musicians on our beautiful covered patio\, which is also dog friendly. It’s the perfect place to spend your Sunday with friends and family.
URL:https://jfkicksrestaurant.com/event/sunday-brunch/2025-08-31/
CATEGORIES:Drinks,Food,Music
ATTACH;FMTTYPE=image/jpeg:https://jfkicksrestaurant.com/wp-content/uploads/2025/04/Brunch-2025.jpg
END:VEVENT
BEGIN:VEVENT
DTSTART;TZID=America/New_York:20250831T110000
DTEND;TZID=America/New_York:20250831T150000
DTSTAMP:20260423T013838
CREATED:20240310T150939Z
LAST-MODIFIED:20260206T221046Z
UID:10004564-1756638000-1756652400@jfkicksrestaurant.com
SUMMARY:$20 Bottomless Mimosas and Sangrias
DESCRIPTION:$20 Bottomless Mimosas and Sangrias Sundays 11am-3pm! We open at 11am on Sundays.
URL:https://jfkicksrestaurant.com/event/20-bottomless-mimosas-and-sangrias/2025-08-31/
CATEGORIES:Drinks
ATTACH;FMTTYPE=image/jpeg:https://jfkicksrestaurant.com/wp-content/uploads/2024/03/Bottomless-Mimosa-June-2025.jpeg
END:VEVENT
END:VCALENDAR