BEGIN:VCALENDAR
VERSION:2.0
PRODID:-//JF Kicks Restaurant - ECPv6.15.18//NONSGML v1.0//EN
CALSCALE:GREGORIAN
METHOD:PUBLISH
X-ORIGINAL-URL:https://jfkicksrestaurant.com
X-WR-CALDESC:Events for JF Kicks Restaurant
REFRESH-INTERVAL;VALUE=DURATION:PT1H
X-Robots-Tag:noindex
X-PUBLISHED-TTL:PT1H
BEGIN:VTIMEZONE
TZID:America/New_York
BEGIN:DAYLIGHT
TZOFFSETFROM:-0500
TZOFFSETTO:-0400
TZNAME:EDT
DTSTART:20240310T070000
END:DAYLIGHT
BEGIN:STANDARD
TZOFFSETFROM:-0400
TZOFFSETTO:-0500
TZNAME:EST
DTSTART:20241103T060000
END:STANDARD
BEGIN:DAYLIGHT
TZOFFSETFROM:-0500
TZOFFSETTO:-0400
TZNAME:EDT
DTSTART:20250309T070000
END:DAYLIGHT
BEGIN:STANDARD
TZOFFSETFROM:-0400
TZOFFSETTO:-0500
TZNAME:EST
DTSTART:20251102T060000
END:STANDARD
BEGIN:DAYLIGHT
TZOFFSETFROM:-0500
TZOFFSETTO:-0400
TZNAME:EDT
DTSTART:20260308T070000
END:DAYLIGHT
BEGIN:STANDARD
TZOFFSETFROM:-0400
TZOFFSETTO:-0500
TZNAME:EST
DTSTART:20261101T060000
END:STANDARD
END:VTIMEZONE
BEGIN:VEVENT
DTSTART;VALUE=DATE:20251025
DTEND;VALUE=DATE:20251027
DTSTAMP:20260423T052011
CREATED:20250906T165304Z
LAST-MODIFIED:20250906T165304Z
UID:10008448-1761357600-1761443999@jfkicksrestaurant.com
SUMMARY:College Football Specials
DESCRIPTION:Check out our Saturday College Football specials: \n\nHalf-Priced Peel n’ Eat Shrimp\n$5 Jack Daniels\n$4 Shot Specials\n$18.95 Domestic Buckets\n$24.95 Import Buckets\n$28.95 Seltzer Buckets\n$6.50 Tito’s Zing Zang Bloody Marys
URL:https://jfkicksrestaurant.com/event/college-football-specials/2025-10-25/
CATEGORIES:Drinks,Food,Sports
ATTACH;FMTTYPE=image/jpeg:https://jfkicksrestaurant.com/wp-content/uploads/2025/09/Saturday-College-Football-Specials-Sept-2025-cropped.jpg
END:VEVENT
BEGIN:VEVENT
DTSTART;TZID=America/New_York:20251026T110000
DTEND;TZID=America/New_York:20251026T150000
DTSTAMP:20260423T052011
CREATED:20240310T150939Z
LAST-MODIFIED:20260206T221046Z
UID:10004572-1761476400-1761490800@jfkicksrestaurant.com
SUMMARY:$20 Bottomless Mimosas and Sangrias
DESCRIPTION:$20 Bottomless Mimosas and Sangrias Sundays 11am-3pm! We open at 11am on Sundays.
URL:https://jfkicksrestaurant.com/event/20-bottomless-mimosas-and-sangrias/2025-10-26/
CATEGORIES:Drinks
ATTACH;FMTTYPE=image/jpeg:https://jfkicksrestaurant.com/wp-content/uploads/2024/03/Bottomless-Mimosa-June-2025.jpeg
END:VEVENT
BEGIN:VEVENT
DTSTART;VALUE=DATE:20251027
DTEND;VALUE=DATE:20251029
DTSTAMP:20260423T052011
CREATED:20251017T124353Z
LAST-MODIFIED:20251017T124456Z
UID:10008542-1761530400-1761616799@jfkicksrestaurant.com
SUMMARY:Monday Night Football Specials
DESCRIPTION:Monday Night Football is at JF Kicks. Check out our Monday Night Football specials: \n\n$5 Jack Daniels\n$4 Shot Specials\n$18.95 Domestic Buckets\n$24.95 Import Buckets\n$28.95 Seltzer Buckets\nHappy Hour Specials 11am-7pm\n$10.95 Smash Burger
URL:https://jfkicksrestaurant.com/event/monday-night-football-specials/2025-10-27/
CATEGORIES:Drinks,Food,Sports
ATTACH;FMTTYPE=image/jpeg:https://jfkicksrestaurant.com/wp-content/uploads/2025/10/Monday-Night-Football-specials-2025-downsized.jpg
END:VEVENT
BEGIN:VEVENT
DTSTART;VALUE=DATE:20251030
DTEND;VALUE=DATE:20251101
DTSTAMP:20260423T052011
CREATED:20250906T170157Z
LAST-MODIFIED:20251120T125300Z
UID:10008465-1761789600-1761875999@jfkicksrestaurant.com
SUMMARY:Thursday Night Football Specials
DESCRIPTION:Come watch Thursday Night Football at JF Kicks. Check out our Thursday Night Football specials: \n\n$5 Jack Daniels\n$4 Shot Specials\n$18.95 Domestic Buckets\n$24.95 Import Buckets\n$28.95 Seltzer Buckets\n$12.95 Chicken Wing Basket – 6 Bone-In or 10 Boneless Wings with French Fries
URL:https://jfkicksrestaurant.com/event/thursday-night-football-specials/2025-10-30/
CATEGORIES:Drinks,Food,Sports
ATTACH;FMTTYPE=image/jpeg:https://jfkicksrestaurant.com/wp-content/uploads/2025/09/Thursday-NFL-Drink-Specials-cropped.jpg
END:VEVENT
BEGIN:VEVENT
DTSTART;TZID=America/New_York:20251031T190000
DTEND;TZID=America/New_York:20251031T230000
DTSTAMP:20260423T052011
CREATED:20250917T225444Z
LAST-MODIFIED:20250917T225444Z
UID:10008474-1761937200-1761951600@jfkicksrestaurant.com
SUMMARY:80's Retro Halloween Party with The DeLoreans
DESCRIPTION:Have a monster good time at our 80’s Retro Halloween Party! The DeLoreans will be playing all your 80’s faves. Get on a totally tubular costume from the 80’s and get ready to party inside and on our beautiful covered patio! Tons of fun\, great music\, food and drink specials\, a Karaoke Contest\, 80’s Themed Costume Contest\, and more!
URL:https://jfkicksrestaurant.com/event/80s-retro-halloween-party-with-the-deloreans/
CATEGORIES:Drinks,Holiday,Music
ATTACH;FMTTYPE=image/jpeg:https://jfkicksrestaurant.com/wp-content/uploads/2025/09/80s-Halloween-Party-2025.jpg
END:VEVENT
BEGIN:VEVENT
DTSTART;VALUE=DATE:20251101
DTEND;VALUE=DATE:20251103
DTSTAMP:20260423T052011
CREATED:20250906T165304Z
LAST-MODIFIED:20250906T165304Z
UID:10008449-1761962400-1762048799@jfkicksrestaurant.com
SUMMARY:College Football Specials
DESCRIPTION:Check out our Saturday College Football specials: \n\nHalf-Priced Peel n’ Eat Shrimp\n$5 Jack Daniels\n$4 Shot Specials\n$18.95 Domestic Buckets\n$24.95 Import Buckets\n$28.95 Seltzer Buckets\n$6.50 Tito’s Zing Zang Bloody Marys
URL:https://jfkicksrestaurant.com/event/college-football-specials/2025-11-01/
CATEGORIES:Drinks,Food,Sports
ATTACH;FMTTYPE=image/jpeg:https://jfkicksrestaurant.com/wp-content/uploads/2025/09/Saturday-College-Football-Specials-Sept-2025-cropped.jpg
END:VEVENT
BEGIN:VEVENT
DTSTART;TZID=America/New_York:20251102T110000
DTEND;TZID=America/New_York:20251102T150000
DTSTAMP:20260423T052011
CREATED:20240310T150939Z
LAST-MODIFIED:20260206T221046Z
UID:10004573-1762081200-1762095600@jfkicksrestaurant.com
SUMMARY:$20 Bottomless Mimosas and Sangrias
DESCRIPTION:$20 Bottomless Mimosas and Sangrias Sundays 11am-3pm! We open at 11am on Sundays.
URL:https://jfkicksrestaurant.com/event/20-bottomless-mimosas-and-sangrias/2025-11-02/
CATEGORIES:Drinks
ATTACH;FMTTYPE=image/jpeg:https://jfkicksrestaurant.com/wp-content/uploads/2024/03/Bottomless-Mimosa-June-2025.jpeg
END:VEVENT
BEGIN:VEVENT
DTSTART;VALUE=DATE:20251103
DTEND;VALUE=DATE:20251105
DTSTAMP:20260423T052011
CREATED:20251017T124353Z
LAST-MODIFIED:20251017T124456Z
UID:10008543-1762135200-1762221599@jfkicksrestaurant.com
SUMMARY:Monday Night Football Specials
DESCRIPTION:Monday Night Football is at JF Kicks. Check out our Monday Night Football specials: \n\n$5 Jack Daniels\n$4 Shot Specials\n$18.95 Domestic Buckets\n$24.95 Import Buckets\n$28.95 Seltzer Buckets\nHappy Hour Specials 11am-7pm\n$10.95 Smash Burger
URL:https://jfkicksrestaurant.com/event/monday-night-football-specials/2025-11-03/
CATEGORIES:Drinks,Food,Sports
ATTACH;FMTTYPE=image/jpeg:https://jfkicksrestaurant.com/wp-content/uploads/2025/10/Monday-Night-Football-specials-2025-downsized.jpg
END:VEVENT
BEGIN:VEVENT
DTSTART;VALUE=DATE:20251106
DTEND;VALUE=DATE:20251108
DTSTAMP:20260423T052011
CREATED:20250906T170157Z
LAST-MODIFIED:20251120T125300Z
UID:10008466-1762394400-1762480799@jfkicksrestaurant.com
SUMMARY:Thursday Night Football Specials
DESCRIPTION:Come watch Thursday Night Football at JF Kicks. Check out our Thursday Night Football specials: \n\n$5 Jack Daniels\n$4 Shot Specials\n$18.95 Domestic Buckets\n$24.95 Import Buckets\n$28.95 Seltzer Buckets\n$12.95 Chicken Wing Basket – 6 Bone-In or 10 Boneless Wings with French Fries
URL:https://jfkicksrestaurant.com/event/thursday-night-football-specials/2025-11-06/
CATEGORIES:Drinks,Food,Sports
ATTACH;FMTTYPE=image/jpeg:https://jfkicksrestaurant.com/wp-content/uploads/2025/09/Thursday-NFL-Drink-Specials-cropped.jpg
END:VEVENT
BEGIN:VEVENT
DTSTART;VALUE=DATE:20251108
DTEND;VALUE=DATE:20251110
DTSTAMP:20260423T052011
CREATED:20250906T165304Z
LAST-MODIFIED:20250906T165304Z
UID:10008450-1762567200-1762653599@jfkicksrestaurant.com
SUMMARY:College Football Specials
DESCRIPTION:Check out our Saturday College Football specials: \n\nHalf-Priced Peel n’ Eat Shrimp\n$5 Jack Daniels\n$4 Shot Specials\n$18.95 Domestic Buckets\n$24.95 Import Buckets\n$28.95 Seltzer Buckets\n$6.50 Tito’s Zing Zang Bloody Marys
URL:https://jfkicksrestaurant.com/event/college-football-specials/2025-11-08/
CATEGORIES:Drinks,Food,Sports
ATTACH;FMTTYPE=image/jpeg:https://jfkicksrestaurant.com/wp-content/uploads/2025/09/Saturday-College-Football-Specials-Sept-2025-cropped.jpg
END:VEVENT
BEGIN:VEVENT
DTSTART;TZID=America/New_York:20251109T110000
DTEND;TZID=America/New_York:20251109T150000
DTSTAMP:20260423T052011
CREATED:20240310T150939Z
LAST-MODIFIED:20260206T221046Z
UID:10004574-1762686000-1762700400@jfkicksrestaurant.com
SUMMARY:$20 Bottomless Mimosas and Sangrias
DESCRIPTION:$20 Bottomless Mimosas and Sangrias Sundays 11am-3pm! We open at 11am on Sundays.
URL:https://jfkicksrestaurant.com/event/20-bottomless-mimosas-and-sangrias/2025-11-09/
CATEGORIES:Drinks
ATTACH;FMTTYPE=image/jpeg:https://jfkicksrestaurant.com/wp-content/uploads/2024/03/Bottomless-Mimosa-June-2025.jpeg
END:VEVENT
BEGIN:VEVENT
DTSTART;VALUE=DATE:20251110
DTEND;VALUE=DATE:20251112
DTSTAMP:20260423T052011
CREATED:20251017T124353Z
LAST-MODIFIED:20251017T124456Z
UID:10008544-1762740000-1762826399@jfkicksrestaurant.com
SUMMARY:Monday Night Football Specials
DESCRIPTION:Monday Night Football is at JF Kicks. Check out our Monday Night Football specials: \n\n$5 Jack Daniels\n$4 Shot Specials\n$18.95 Domestic Buckets\n$24.95 Import Buckets\n$28.95 Seltzer Buckets\nHappy Hour Specials 11am-7pm\n$10.95 Smash Burger
URL:https://jfkicksrestaurant.com/event/monday-night-football-specials/2025-11-10/
CATEGORIES:Drinks,Food,Sports
ATTACH;FMTTYPE=image/jpeg:https://jfkicksrestaurant.com/wp-content/uploads/2025/10/Monday-Night-Football-specials-2025-downsized.jpg
END:VEVENT
BEGIN:VEVENT
DTSTART;VALUE=DATE:20251113
DTEND;VALUE=DATE:20251115
DTSTAMP:20260423T052011
CREATED:20250906T170157Z
LAST-MODIFIED:20251120T125300Z
UID:10008467-1762999200-1763085599@jfkicksrestaurant.com
SUMMARY:Thursday Night Football Specials
DESCRIPTION:Come watch Thursday Night Football at JF Kicks. Check out our Thursday Night Football specials: \n\n$5 Jack Daniels\n$4 Shot Specials\n$18.95 Domestic Buckets\n$24.95 Import Buckets\n$28.95 Seltzer Buckets\n$12.95 Chicken Wing Basket – 6 Bone-In or 10 Boneless Wings with French Fries
URL:https://jfkicksrestaurant.com/event/thursday-night-football-specials/2025-11-13/
CATEGORIES:Drinks,Food,Sports
ATTACH;FMTTYPE=image/jpeg:https://jfkicksrestaurant.com/wp-content/uploads/2025/09/Thursday-NFL-Drink-Specials-cropped.jpg
END:VEVENT
BEGIN:VEVENT
DTSTART;VALUE=DATE:20251115
DTEND;VALUE=DATE:20251117
DTSTAMP:20260423T052011
CREATED:20250906T165304Z
LAST-MODIFIED:20250906T165304Z
UID:10008451-1763172000-1763258399@jfkicksrestaurant.com
SUMMARY:College Football Specials
DESCRIPTION:Check out our Saturday College Football specials: \n\nHalf-Priced Peel n’ Eat Shrimp\n$5 Jack Daniels\n$4 Shot Specials\n$18.95 Domestic Buckets\n$24.95 Import Buckets\n$28.95 Seltzer Buckets\n$6.50 Tito’s Zing Zang Bloody Marys
URL:https://jfkicksrestaurant.com/event/college-football-specials/2025-11-15/
CATEGORIES:Drinks,Food,Sports
ATTACH;FMTTYPE=image/jpeg:https://jfkicksrestaurant.com/wp-content/uploads/2025/09/Saturday-College-Football-Specials-Sept-2025-cropped.jpg
END:VEVENT
BEGIN:VEVENT
DTSTART;TZID=America/New_York:20251116T110000
DTEND;TZID=America/New_York:20251116T150000
DTSTAMP:20260423T052011
CREATED:20240310T150939Z
LAST-MODIFIED:20260206T221046Z
UID:10004575-1763290800-1763305200@jfkicksrestaurant.com
SUMMARY:$20 Bottomless Mimosas and Sangrias
DESCRIPTION:$20 Bottomless Mimosas and Sangrias Sundays 11am-3pm! We open at 11am on Sundays.
URL:https://jfkicksrestaurant.com/event/20-bottomless-mimosas-and-sangrias/2025-11-16/
CATEGORIES:Drinks
ATTACH;FMTTYPE=image/jpeg:https://jfkicksrestaurant.com/wp-content/uploads/2024/03/Bottomless-Mimosa-June-2025.jpeg
END:VEVENT
BEGIN:VEVENT
DTSTART;VALUE=DATE:20251117
DTEND;VALUE=DATE:20251119
DTSTAMP:20260423T052011
CREATED:20251017T124353Z
LAST-MODIFIED:20251017T124456Z
UID:10008545-1763344800-1763431199@jfkicksrestaurant.com
SUMMARY:Monday Night Football Specials
DESCRIPTION:Monday Night Football is at JF Kicks. Check out our Monday Night Football specials: \n\n$5 Jack Daniels\n$4 Shot Specials\n$18.95 Domestic Buckets\n$24.95 Import Buckets\n$28.95 Seltzer Buckets\nHappy Hour Specials 11am-7pm\n$10.95 Smash Burger
URL:https://jfkicksrestaurant.com/event/monday-night-football-specials/2025-11-17/
CATEGORIES:Drinks,Food,Sports
ATTACH;FMTTYPE=image/jpeg:https://jfkicksrestaurant.com/wp-content/uploads/2025/10/Monday-Night-Football-specials-2025-downsized.jpg
END:VEVENT
BEGIN:VEVENT
DTSTART;VALUE=DATE:20251120
DTEND;VALUE=DATE:20251122
DTSTAMP:20260423T052011
CREATED:20250906T170157Z
LAST-MODIFIED:20251120T125300Z
UID:10008468-1763604000-1763690399@jfkicksrestaurant.com
SUMMARY:Thursday Night Football Specials
DESCRIPTION:Come watch Thursday Night Football at JF Kicks. Check out our Thursday Night Football specials: \n\n$5 Jack Daniels\n$4 Shot Specials\n$18.95 Domestic Buckets\n$24.95 Import Buckets\n$28.95 Seltzer Buckets\n$12.95 Chicken Wing Basket – 6 Bone-In or 10 Boneless Wings with French Fries
URL:https://jfkicksrestaurant.com/event/thursday-night-football-specials/2025-11-20/
CATEGORIES:Drinks,Food,Sports
ATTACH;FMTTYPE=image/jpeg:https://jfkicksrestaurant.com/wp-content/uploads/2025/09/Thursday-NFL-Drink-Specials-cropped.jpg
END:VEVENT
BEGIN:VEVENT
DTSTART;TZID=America/New_York:20251120T180000
DTEND;TZID=America/New_York:20251120T210000
DTSTAMP:20260423T052011
CREATED:20251017T123712Z
LAST-MODIFIED:20251113T034511Z
UID:10008539-1763661600-1763672400@jfkicksrestaurant.com
SUMMARY:Bike Night
DESCRIPTION:It’s Bike Night at Kicks! Join us for a night with vendors\, food and drink specials\, Thursday Night Football\, and live music. It’s fun for all and free to the public.
URL:https://jfkicksrestaurant.com/event/bike-night-2/
CATEGORIES:Community,Drinks,Food,Music
ATTACH;FMTTYPE=image/jpeg:https://jfkicksrestaurant.com/wp-content/uploads/2025/10/Bike-Night-Nov-2025-Live-Music.jpg
END:VEVENT
BEGIN:VEVENT
DTSTART;VALUE=DATE:20251122
DTEND;VALUE=DATE:20251124
DTSTAMP:20260423T052011
CREATED:20250906T165304Z
LAST-MODIFIED:20250906T165304Z
UID:10008452-1763776800-1763863199@jfkicksrestaurant.com
SUMMARY:College Football Specials
DESCRIPTION:Check out our Saturday College Football specials: \n\nHalf-Priced Peel n’ Eat Shrimp\n$5 Jack Daniels\n$4 Shot Specials\n$18.95 Domestic Buckets\n$24.95 Import Buckets\n$28.95 Seltzer Buckets\n$6.50 Tito’s Zing Zang Bloody Marys
URL:https://jfkicksrestaurant.com/event/college-football-specials/2025-11-22/
CATEGORIES:Drinks,Food,Sports
ATTACH;FMTTYPE=image/jpeg:https://jfkicksrestaurant.com/wp-content/uploads/2025/09/Saturday-College-Football-Specials-Sept-2025-cropped.jpg
END:VEVENT
BEGIN:VEVENT
DTSTART;TZID=America/New_York:20251123T110000
DTEND;TZID=America/New_York:20251123T150000
DTSTAMP:20260423T052011
CREATED:20240310T150939Z
LAST-MODIFIED:20260206T221046Z
UID:10004576-1763895600-1763910000@jfkicksrestaurant.com
SUMMARY:$20 Bottomless Mimosas and Sangrias
DESCRIPTION:$20 Bottomless Mimosas and Sangrias Sundays 11am-3pm! We open at 11am on Sundays.
URL:https://jfkicksrestaurant.com/event/20-bottomless-mimosas-and-sangrias/2025-11-23/
CATEGORIES:Drinks
ATTACH;FMTTYPE=image/jpeg:https://jfkicksrestaurant.com/wp-content/uploads/2024/03/Bottomless-Mimosa-June-2025.jpeg
END:VEVENT
BEGIN:VEVENT
DTSTART;VALUE=DATE:20251124
DTEND;VALUE=DATE:20251126
DTSTAMP:20260423T052011
CREATED:20251017T124353Z
LAST-MODIFIED:20251017T124456Z
UID:10008546-1763949600-1764035999@jfkicksrestaurant.com
SUMMARY:Monday Night Football Specials
DESCRIPTION:Monday Night Football is at JF Kicks. Check out our Monday Night Football specials: \n\n$5 Jack Daniels\n$4 Shot Specials\n$18.95 Domestic Buckets\n$24.95 Import Buckets\n$28.95 Seltzer Buckets\nHappy Hour Specials 11am-7pm\n$10.95 Smash Burger
URL:https://jfkicksrestaurant.com/event/monday-night-football-specials/2025-11-24/
CATEGORIES:Drinks,Food,Sports
ATTACH;FMTTYPE=image/jpeg:https://jfkicksrestaurant.com/wp-content/uploads/2025/10/Monday-Night-Football-specials-2025-downsized.jpg
END:VEVENT
BEGIN:VEVENT
DTSTART;TZID=America/New_York:20251126T190000
DTEND;TZID=America/New_York:20251126T230000
DTSTAMP:20260423T052011
CREATED:20251120T125850Z
LAST-MODIFIED:20251120T130038Z
UID:10008562-1764183600-1764198000@jfkicksrestaurant.com
SUMMARY:The Night Before Kicksgiving
DESCRIPTION:Get ready for Thanksgiving with The Night Before Kicksgiving! Come play Singo Music Bingo and Pub Poll. Plus DJ Vic will be playing all your favorite music on our heated\, covered patio! Enjoy food and drink specials too. The perfect way to get in the holiday spirit.
URL:https://jfkicksrestaurant.com/event/the-night-before-thanksgiving/
CATEGORIES:Drinks,Food,Game,Holiday,Music
ATTACH;FMTTYPE=image/jpeg:https://jfkicksrestaurant.com/wp-content/uploads/2025/11/Night-Before-Thanksgiving-Nov-26-2025.jpg
END:VEVENT
BEGIN:VEVENT
DTSTART;VALUE=DATE:20251129
DTEND;VALUE=DATE:20251201
DTSTAMP:20260423T052011
CREATED:20250906T165304Z
LAST-MODIFIED:20250906T165304Z
UID:10008453-1764381600-1764467999@jfkicksrestaurant.com
SUMMARY:College Football Specials
DESCRIPTION:Check out our Saturday College Football specials: \n\nHalf-Priced Peel n’ Eat Shrimp\n$5 Jack Daniels\n$4 Shot Specials\n$18.95 Domestic Buckets\n$24.95 Import Buckets\n$28.95 Seltzer Buckets\n$6.50 Tito’s Zing Zang Bloody Marys
URL:https://jfkicksrestaurant.com/event/college-football-specials/2025-11-29/
CATEGORIES:Drinks,Food,Sports
ATTACH;FMTTYPE=image/jpeg:https://jfkicksrestaurant.com/wp-content/uploads/2025/09/Saturday-College-Football-Specials-Sept-2025-cropped.jpg
END:VEVENT
BEGIN:VEVENT
DTSTART;TZID=America/New_York:20251130T110000
DTEND;TZID=America/New_York:20251130T150000
DTSTAMP:20260423T052011
CREATED:20240310T150939Z
LAST-MODIFIED:20260206T221046Z
UID:10004577-1764500400-1764514800@jfkicksrestaurant.com
SUMMARY:$20 Bottomless Mimosas and Sangrias
DESCRIPTION:$20 Bottomless Mimosas and Sangrias Sundays 11am-3pm! We open at 11am on Sundays.
URL:https://jfkicksrestaurant.com/event/20-bottomless-mimosas-and-sangrias/2025-11-30/
CATEGORIES:Drinks
ATTACH;FMTTYPE=image/jpeg:https://jfkicksrestaurant.com/wp-content/uploads/2024/03/Bottomless-Mimosa-June-2025.jpeg
END:VEVENT
BEGIN:VEVENT
DTSTART;VALUE=DATE:20251201
DTEND;VALUE=DATE:20251203
DTSTAMP:20260423T052011
CREATED:20251017T124353Z
LAST-MODIFIED:20251017T124456Z
UID:10008547-1764554400-1764640799@jfkicksrestaurant.com
SUMMARY:Monday Night Football Specials
DESCRIPTION:Monday Night Football is at JF Kicks. Check out our Monday Night Football specials: \n\n$5 Jack Daniels\n$4 Shot Specials\n$18.95 Domestic Buckets\n$24.95 Import Buckets\n$28.95 Seltzer Buckets\nHappy Hour Specials 11am-7pm\n$10.95 Smash Burger
URL:https://jfkicksrestaurant.com/event/monday-night-football-specials/2025-12-01/
CATEGORIES:Drinks,Food,Sports
ATTACH;FMTTYPE=image/jpeg:https://jfkicksrestaurant.com/wp-content/uploads/2025/10/Monday-Night-Football-specials-2025-downsized.jpg
END:VEVENT
BEGIN:VEVENT
DTSTART;VALUE=DATE:20251204
DTEND;VALUE=DATE:20251206
DTSTAMP:20260423T052011
CREATED:20250906T170157Z
LAST-MODIFIED:20251120T125300Z
UID:10008470-1764813600-1764899999@jfkicksrestaurant.com
SUMMARY:Thursday Night Football Specials
DESCRIPTION:Come watch Thursday Night Football at JF Kicks. Check out our Thursday Night Football specials: \n\n$5 Jack Daniels\n$4 Shot Specials\n$18.95 Domestic Buckets\n$24.95 Import Buckets\n$28.95 Seltzer Buckets\n$12.95 Chicken Wing Basket – 6 Bone-In or 10 Boneless Wings with French Fries
URL:https://jfkicksrestaurant.com/event/thursday-night-football-specials/2025-12-04/
CATEGORIES:Drinks,Food,Sports
ATTACH;FMTTYPE=image/jpeg:https://jfkicksrestaurant.com/wp-content/uploads/2025/09/Thursday-NFL-Drink-Specials-cropped.jpg
END:VEVENT
BEGIN:VEVENT
DTSTART;TZID=America/New_York:20251205T180000
DTEND;TZID=America/New_York:20251205T220000
DTSTAMP:20260423T052011
CREATED:20251124T112313Z
LAST-MODIFIED:20251124T112313Z
UID:10008576-1764957600-1764972000@jfkicksrestaurant.com
SUMMARY:Christmas Olympics
DESCRIPTION:Lots of fun and games at the Christmas Olympics fundraiser for A1 Opportunities\, who help folks in need with outreach and support\, including housing. There will be music\, Karaoke\, a prize for best dressed\, and more! A ticket gets you a buffet style meal and a drink ticket. Call 813-313-9943 or email info@a1opportunities.org to RSVP
URL:https://jfkicksrestaurant.com/event/christmas-olympics/
CATEGORIES:Community,Drinks,Food,Fundraising,Game,Holiday,Music
ATTACH;FMTTYPE=image/jpeg:https://jfkicksrestaurant.com/wp-content/uploads/2025/11/Christmas-Olympics-Dec-5-2025.jpg
END:VEVENT
BEGIN:VEVENT
DTSTART;VALUE=DATE:20251206
DTEND;VALUE=DATE:20251208
DTSTAMP:20260423T052011
CREATED:20250906T165304Z
LAST-MODIFIED:20250906T165304Z
UID:10008454-1764986400-1765072799@jfkicksrestaurant.com
SUMMARY:College Football Specials
DESCRIPTION:Check out our Saturday College Football specials: \n\nHalf-Priced Peel n’ Eat Shrimp\n$5 Jack Daniels\n$4 Shot Specials\n$18.95 Domestic Buckets\n$24.95 Import Buckets\n$28.95 Seltzer Buckets\n$6.50 Tito’s Zing Zang Bloody Marys
URL:https://jfkicksrestaurant.com/event/college-football-specials/2025-12-06/
CATEGORIES:Drinks,Food,Sports
ATTACH;FMTTYPE=image/jpeg:https://jfkicksrestaurant.com/wp-content/uploads/2025/09/Saturday-College-Football-Specials-Sept-2025-cropped.jpg
END:VEVENT
BEGIN:VEVENT
DTSTART;TZID=America/New_York:20251207T110000
DTEND;TZID=America/New_York:20251207T150000
DTSTAMP:20260423T052011
CREATED:20240310T150939Z
LAST-MODIFIED:20260206T221046Z
UID:10004578-1765105200-1765119600@jfkicksrestaurant.com
SUMMARY:$20 Bottomless Mimosas and Sangrias
DESCRIPTION:$20 Bottomless Mimosas and Sangrias Sundays 11am-3pm! We open at 11am on Sundays.
URL:https://jfkicksrestaurant.com/event/20-bottomless-mimosas-and-sangrias/2025-12-07/
CATEGORIES:Drinks
ATTACH;FMTTYPE=image/jpeg:https://jfkicksrestaurant.com/wp-content/uploads/2024/03/Bottomless-Mimosa-June-2025.jpeg
END:VEVENT
BEGIN:VEVENT
DTSTART;VALUE=DATE:20251208
DTEND;VALUE=DATE:20251210
DTSTAMP:20260423T052011
CREATED:20251017T124353Z
LAST-MODIFIED:20251017T124456Z
UID:10008548-1765159200-1765245599@jfkicksrestaurant.com
SUMMARY:Monday Night Football Specials
DESCRIPTION:Monday Night Football is at JF Kicks. Check out our Monday Night Football specials: \n\n$5 Jack Daniels\n$4 Shot Specials\n$18.95 Domestic Buckets\n$24.95 Import Buckets\n$28.95 Seltzer Buckets\nHappy Hour Specials 11am-7pm\n$10.95 Smash Burger
URL:https://jfkicksrestaurant.com/event/monday-night-football-specials/2025-12-08/
CATEGORIES:Drinks,Food,Sports
ATTACH;FMTTYPE=image/jpeg:https://jfkicksrestaurant.com/wp-content/uploads/2025/10/Monday-Night-Football-specials-2025-downsized.jpg
END:VEVENT
END:VCALENDAR