BEGIN:VCALENDAR
VERSION:2.0
PRODID:-//JF Kicks Restaurant - ECPv6.15.18//NONSGML v1.0//EN
CALSCALE:GREGORIAN
METHOD:PUBLISH
X-WR-CALNAME:JF Kicks Restaurant
X-ORIGINAL-URL:https://jfkicksrestaurant.com
X-WR-CALDESC:Events for JF Kicks Restaurant
REFRESH-INTERVAL;VALUE=DURATION:PT1H
X-Robots-Tag:noindex
X-PUBLISHED-TTL:PT1H
BEGIN:VTIMEZONE
TZID:America/New_York
BEGIN:DAYLIGHT
TZOFFSETFROM:-0500
TZOFFSETTO:-0400
TZNAME:EDT
DTSTART:20240310T070000
END:DAYLIGHT
BEGIN:STANDARD
TZOFFSETFROM:-0400
TZOFFSETTO:-0500
TZNAME:EST
DTSTART:20241103T060000
END:STANDARD
BEGIN:DAYLIGHT
TZOFFSETFROM:-0500
TZOFFSETTO:-0400
TZNAME:EDT
DTSTART:20250309T070000
END:DAYLIGHT
BEGIN:STANDARD
TZOFFSETFROM:-0400
TZOFFSETTO:-0500
TZNAME:EST
DTSTART:20251102T060000
END:STANDARD
BEGIN:DAYLIGHT
TZOFFSETFROM:-0500
TZOFFSETTO:-0400
TZNAME:EDT
DTSTART:20260308T070000
END:DAYLIGHT
BEGIN:STANDARD
TZOFFSETFROM:-0400
TZOFFSETTO:-0500
TZNAME:EST
DTSTART:20261101T060000
END:STANDARD
BEGIN:DAYLIGHT
TZOFFSETFROM:-0500
TZOFFSETTO:-0400
TZNAME:EDT
DTSTART:20270314T070000
END:DAYLIGHT
BEGIN:STANDARD
TZOFFSETFROM:-0400
TZOFFSETTO:-0500
TZNAME:EST
DTSTART:20271107T060000
END:STANDARD
END:VTIMEZONE
BEGIN:VEVENT
DTSTART;VALUE=DATE:20251220
DTEND;VALUE=DATE:20251222
DTSTAMP:20260423T020350
CREATED:20250906T165304Z
LAST-MODIFIED:20250906T165304Z
UID:10008456-1766196000-1766282399@jfkicksrestaurant.com
SUMMARY:College Football Specials
DESCRIPTION:Check out our Saturday College Football specials: \n\nHalf-Priced Peel n’ Eat Shrimp\n$5 Jack Daniels\n$4 Shot Specials\n$18.95 Domestic Buckets\n$24.95 Import Buckets\n$28.95 Seltzer Buckets\n$6.50 Tito’s Zing Zang Bloody Marys
URL:https://jfkicksrestaurant.com/event/college-football-specials/2025-12-20/
CATEGORIES:Drinks,Food,Sports
ATTACH;FMTTYPE=image/jpeg:https://jfkicksrestaurant.com/wp-content/uploads/2025/09/Saturday-College-Football-Specials-Sept-2025-cropped.jpg
END:VEVENT
BEGIN:VEVENT
DTSTART;TZID=America/New_York:20251221T110000
DTEND;TZID=America/New_York:20251221T150000
DTSTAMP:20260423T020350
CREATED:20240310T150939Z
LAST-MODIFIED:20260206T221046Z
UID:10004580-1766314800-1766329200@jfkicksrestaurant.com
SUMMARY:$20 Bottomless Mimosas and Sangrias
DESCRIPTION:$20 Bottomless Mimosas and Sangrias Sundays 11am-3pm! We open at 11am on Sundays.
URL:https://jfkicksrestaurant.com/event/20-bottomless-mimosas-and-sangrias/2025-12-21/
CATEGORIES:Drinks
ATTACH;FMTTYPE=image/jpeg:https://jfkicksrestaurant.com/wp-content/uploads/2024/03/Bottomless-Mimosa-June-2025.jpeg
END:VEVENT
BEGIN:VEVENT
DTSTART;TZID=America/New_York:20251221T140000
DTEND;TZID=America/New_York:20251221T160000
DTSTAMP:20260423T020350
CREATED:20251217T152418Z
LAST-MODIFIED:20251217T152419Z
UID:10008662-1766325600-1766332800@jfkicksrestaurant.com
SUMMARY:Sun Cruiser Sampling
DESCRIPTION:Sun Cruiser sampling event Sunday\, December 21st from 2-4pm. There’s a cooler giveaway to. Must be present to be entered into the giveaway.
URL:https://jfkicksrestaurant.com/event/sun-cruiser-sampling/
CATEGORIES:Drinks
ATTACH;FMTTYPE=image/jpeg:https://jfkicksrestaurant.com/wp-content/uploads/2025/12/Suncruiser-sampling-12-21-2025.jpeg
END:VEVENT
BEGIN:VEVENT
DTSTART;VALUE=DATE:20251222
DTEND;VALUE=DATE:20251224
DTSTAMP:20260423T020350
CREATED:20251017T124353Z
LAST-MODIFIED:20251017T124456Z
UID:10008550-1766368800-1766455199@jfkicksrestaurant.com
SUMMARY:Monday Night Football Specials
DESCRIPTION:Monday Night Football is at JF Kicks. Check out our Monday Night Football specials: \n\n$5 Jack Daniels\n$4 Shot Specials\n$18.95 Domestic Buckets\n$24.95 Import Buckets\n$28.95 Seltzer Buckets\nHappy Hour Specials 11am-7pm\n$10.95 Smash Burger
URL:https://jfkicksrestaurant.com/event/monday-night-football-specials/2025-12-22/
CATEGORIES:Drinks,Food,Sports
ATTACH;FMTTYPE=image/jpeg:https://jfkicksrestaurant.com/wp-content/uploads/2025/10/Monday-Night-Football-specials-2025-downsized.jpg
END:VEVENT
BEGIN:VEVENT
DTSTART;VALUE=DATE:20251225
DTEND;VALUE=DATE:20251227
DTSTAMP:20260423T020350
CREATED:20250906T170157Z
LAST-MODIFIED:20251120T125300Z
UID:10008473-1766628000-1766714399@jfkicksrestaurant.com
SUMMARY:Thursday Night Football Specials
DESCRIPTION:Come watch Thursday Night Football at JF Kicks. Check out our Thursday Night Football specials: \n\n$5 Jack Daniels\n$4 Shot Specials\n$18.95 Domestic Buckets\n$24.95 Import Buckets\n$28.95 Seltzer Buckets\n$12.95 Chicken Wing Basket – 6 Bone-In or 10 Boneless Wings with French Fries
URL:https://jfkicksrestaurant.com/event/thursday-night-football-specials/2025-12-25/
CATEGORIES:Drinks,Food,Sports
ATTACH;FMTTYPE=image/jpeg:https://jfkicksrestaurant.com/wp-content/uploads/2025/09/Thursday-NFL-Drink-Specials-cropped.jpg
END:VEVENT
BEGIN:VEVENT
DTSTART;VALUE=DATE:20251227
DTEND;VALUE=DATE:20251229
DTSTAMP:20260423T020350
CREATED:20250906T165304Z
LAST-MODIFIED:20250906T165304Z
UID:10008457-1766800800-1766887199@jfkicksrestaurant.com
SUMMARY:College Football Specials
DESCRIPTION:Check out our Saturday College Football specials: \n\nHalf-Priced Peel n’ Eat Shrimp\n$5 Jack Daniels\n$4 Shot Specials\n$18.95 Domestic Buckets\n$24.95 Import Buckets\n$28.95 Seltzer Buckets\n$6.50 Tito’s Zing Zang Bloody Marys
URL:https://jfkicksrestaurant.com/event/college-football-specials/2025-12-27/
CATEGORIES:Drinks,Food,Sports
ATTACH;FMTTYPE=image/jpeg:https://jfkicksrestaurant.com/wp-content/uploads/2025/09/Saturday-College-Football-Specials-Sept-2025-cropped.jpg
END:VEVENT
BEGIN:VEVENT
DTSTART;TZID=America/New_York:20251228T110000
DTEND;TZID=America/New_York:20251228T150000
DTSTAMP:20260423T020350
CREATED:20240310T150939Z
LAST-MODIFIED:20260206T221046Z
UID:10004581-1766919600-1766934000@jfkicksrestaurant.com
SUMMARY:$20 Bottomless Mimosas and Sangrias
DESCRIPTION:$20 Bottomless Mimosas and Sangrias Sundays 11am-3pm! We open at 11am on Sundays.
URL:https://jfkicksrestaurant.com/event/20-bottomless-mimosas-and-sangrias/2025-12-28/
CATEGORIES:Drinks
ATTACH;FMTTYPE=image/jpeg:https://jfkicksrestaurant.com/wp-content/uploads/2024/03/Bottomless-Mimosa-June-2025.jpeg
END:VEVENT
BEGIN:VEVENT
DTSTART;VALUE=DATE:20251229
DTEND;VALUE=DATE:20251231
DTSTAMP:20260423T020350
CREATED:20251017T124353Z
LAST-MODIFIED:20251017T124456Z
UID:10008551-1766973600-1767059999@jfkicksrestaurant.com
SUMMARY:Monday Night Football Specials
DESCRIPTION:Monday Night Football is at JF Kicks. Check out our Monday Night Football specials: \n\n$5 Jack Daniels\n$4 Shot Specials\n$18.95 Domestic Buckets\n$24.95 Import Buckets\n$28.95 Seltzer Buckets\nHappy Hour Specials 11am-7pm\n$10.95 Smash Burger
URL:https://jfkicksrestaurant.com/event/monday-night-football-specials/2025-12-29/
CATEGORIES:Drinks,Food,Sports
ATTACH;FMTTYPE=image/jpeg:https://jfkicksrestaurant.com/wp-content/uploads/2025/10/Monday-Night-Football-specials-2025-downsized.jpg
END:VEVENT
BEGIN:VEVENT
DTSTART;TZID=America/New_York:20251231T210000
DTEND;TZID=America/New_York:20260101T010000
DTSTAMP:20260423T020350
CREATED:20251204T185128Z
LAST-MODIFIED:20251213T184345Z
UID:10008653-1767214800-1767229200@jfkicksrestaurant.com
SUMMARY:New Year's Eve Celebration
DESCRIPTION:Say goodbye to 2025 and hello to 2026 with DJ Vic and all your friends at JF Kicks! \n\nIrish New Year Toast: 7pm\nCollege Bowl with Ohio State: 7pm\nDJ Vic: 9pm-1am\nNew Years Toast: 12am
URL:https://jfkicksrestaurant.com/event/new-years-eve-celebration-2025/
CATEGORIES:Drinks,Food,Holiday,Music
ATTACH;FMTTYPE=image/jpeg:https://jfkicksrestaurant.com/wp-content/uploads/2025/12/NYE-2025-Updated-12-13-2025.jpg
END:VEVENT
BEGIN:VEVENT
DTSTART;TZID=America/New_York:20260104T110000
DTEND;TZID=America/New_York:20260104T150000
DTSTAMP:20260423T020350
CREATED:20240310T150939Z
LAST-MODIFIED:20260206T221046Z
UID:10004582-1767524400-1767538800@jfkicksrestaurant.com
SUMMARY:$20 Bottomless Mimosas and Sangrias
DESCRIPTION:$20 Bottomless Mimosas and Sangrias Sundays 11am-3pm! We open at 11am on Sundays.
URL:https://jfkicksrestaurant.com/event/20-bottomless-mimosas-and-sangrias/2026-01-04/
CATEGORIES:Drinks
ATTACH;FMTTYPE=image/jpeg:https://jfkicksrestaurant.com/wp-content/uploads/2024/03/Bottomless-Mimosa-June-2025.jpeg
END:VEVENT
BEGIN:VEVENT
DTSTART;TZID=America/New_York:20260108T180000
DTEND;TZID=America/New_York:20260108T210000
DTSTAMP:20260423T020350
CREATED:20251204T123733Z
LAST-MODIFIED:20260325T184613Z
UID:10008581-1767895200-1767906000@jfkicksrestaurant.com
SUMMARY:Bike Night
DESCRIPTION:It’s Bike Night at Kicks! Join us for a night with vendors\, food and drink specials\, Thursday Night Football\, and live music. It’s fun for all and free to the public.
URL:https://jfkicksrestaurant.com/event/bike-night-3/2026-01-08/
CATEGORIES:Community,Drinks,Food,Music
ATTACH;FMTTYPE=image/jpeg:https://jfkicksrestaurant.com/wp-content/uploads/2025/12/Bike-Night-2nd-Thursday-Dec-2025.jpeg
END:VEVENT
BEGIN:VEVENT
DTSTART;TZID=America/New_York:20260111T110000
DTEND;TZID=America/New_York:20260111T150000
DTSTAMP:20260423T020350
CREATED:20240310T150939Z
LAST-MODIFIED:20260206T221046Z
UID:10004583-1768129200-1768143600@jfkicksrestaurant.com
SUMMARY:$20 Bottomless Mimosas and Sangrias
DESCRIPTION:$20 Bottomless Mimosas and Sangrias Sundays 11am-3pm! We open at 11am on Sundays.
URL:https://jfkicksrestaurant.com/event/20-bottomless-mimosas-and-sangrias/2026-01-11/
CATEGORIES:Drinks
ATTACH;FMTTYPE=image/jpeg:https://jfkicksrestaurant.com/wp-content/uploads/2024/03/Bottomless-Mimosa-June-2025.jpeg
END:VEVENT
BEGIN:VEVENT
DTSTART;TZID=America/New_York:20260113T190000
DTEND;TZID=America/New_York:20260113T200000
DTSTAMP:20260423T020350
CREATED:20260105T234313Z
LAST-MODIFIED:20260105T234313Z
UID:10008720-1768330800-1768334400@jfkicksrestaurant.com
SUMMARY:Sip & Paint Featuring PaintTopia
DESCRIPTION:Uncork Your Creativity with Sip & Paint! \n🍷🎨 🖌️ Zero Skills Required: We guide you step-by-step. \n✅ All Supplies Included: Just show up and sip & PAINT! \n🎁 Win Big: Awesome gift baskets up for grabs. \n✨ The Vibe: Fun > Perfection. \nGet your ticket here.
URL:https://jfkicksrestaurant.com/event/sip-paint-featuring-painttopia/
CATEGORIES:Arts & Crafts,Drinks
ATTACH;FMTTYPE=image/jpeg:https://jfkicksrestaurant.com/wp-content/uploads/2026/01/Paintopia_Sip__Paint_Event_01-13-2025_downsized_50.jpg
END:VEVENT
BEGIN:VEVENT
DTSTART;TZID=America/New_York:20260118T110000
DTEND;TZID=America/New_York:20260118T150000
DTSTAMP:20260423T020350
CREATED:20240310T150939Z
LAST-MODIFIED:20260206T221046Z
UID:10004584-1768734000-1768748400@jfkicksrestaurant.com
SUMMARY:$20 Bottomless Mimosas and Sangrias
DESCRIPTION:$20 Bottomless Mimosas and Sangrias Sundays 11am-3pm! We open at 11am on Sundays.
URL:https://jfkicksrestaurant.com/event/20-bottomless-mimosas-and-sangrias/2026-01-18/
CATEGORIES:Drinks
ATTACH;FMTTYPE=image/jpeg:https://jfkicksrestaurant.com/wp-content/uploads/2024/03/Bottomless-Mimosa-June-2025.jpeg
END:VEVENT
BEGIN:VEVENT
DTSTART;TZID=America/New_York:20260125T110000
DTEND;TZID=America/New_York:20260125T150000
DTSTAMP:20260423T020350
CREATED:20240310T150939Z
LAST-MODIFIED:20260206T221046Z
UID:10004585-1769338800-1769353200@jfkicksrestaurant.com
SUMMARY:$20 Bottomless Mimosas and Sangrias
DESCRIPTION:$20 Bottomless Mimosas and Sangrias Sundays 11am-3pm! We open at 11am on Sundays.
URL:https://jfkicksrestaurant.com/event/20-bottomless-mimosas-and-sangrias/2026-01-25/
CATEGORIES:Drinks
ATTACH;FMTTYPE=image/jpeg:https://jfkicksrestaurant.com/wp-content/uploads/2024/03/Bottomless-Mimosa-June-2025.jpeg
END:VEVENT
BEGIN:VEVENT
DTSTART;TZID=America/New_York:20260201T110000
DTEND;TZID=America/New_York:20260201T150000
DTSTAMP:20260423T020350
CREATED:20240310T150939Z
LAST-MODIFIED:20260206T221046Z
UID:10004586-1769943600-1769958000@jfkicksrestaurant.com
SUMMARY:$20 Bottomless Mimosas and Sangrias
DESCRIPTION:$20 Bottomless Mimosas and Sangrias Sundays 11am-3pm! We open at 11am on Sundays.
URL:https://jfkicksrestaurant.com/event/20-bottomless-mimosas-and-sangrias/2026-02-01/
CATEGORIES:Drinks
ATTACH;FMTTYPE=image/jpeg:https://jfkicksrestaurant.com/wp-content/uploads/2024/03/Bottomless-Mimosa-June-2025.jpeg
END:VEVENT
BEGIN:VEVENT
DTSTART;TZID=America/New_York:20260208T110000
DTEND;TZID=America/New_York:20260208T150000
DTSTAMP:20260423T020350
CREATED:20240310T150939Z
LAST-MODIFIED:20260206T221046Z
UID:10004587-1770548400-1770562800@jfkicksrestaurant.com
SUMMARY:$20 Bottomless Mimosas and Sangrias
DESCRIPTION:$20 Bottomless Mimosas and Sangrias Sundays 11am-3pm! We open at 11am on Sundays.
URL:https://jfkicksrestaurant.com/event/20-bottomless-mimosas-and-sangrias/2026-02-08/
CATEGORIES:Drinks
ATTACH;FMTTYPE=image/jpeg:https://jfkicksrestaurant.com/wp-content/uploads/2024/03/Bottomless-Mimosa-June-2025.jpeg
END:VEVENT
BEGIN:VEVENT
DTSTART;TZID=America/New_York:20260211T190000
DTEND;TZID=America/New_York:20260211T210000
DTSTAMP:20260423T020350
CREATED:20260205T134335Z
LAST-MODIFIED:20260205T134601Z
UID:10009271-1770836400-1770843600@jfkicksrestaurant.com
SUMMARY:Paint & Sip with PaintTopia - Cheers to Love!
DESCRIPTION:Join us for a relaxing and creative Paint & Sip event! Enjoy a fun and social atmosphere as you follow step-by-step guidance to create your own masterpiece. No prior experience needed—just bring your creativity and enjoy a memorable evening! \nTickets are $35\, buy them here
URL:https://jfkicksrestaurant.com/event/paint-sip-with-painttopia-cheers-to-love/
CATEGORIES:Arts & Crafts,Community,Drinks,Food
ATTACH;FMTTYPE=image/jpeg:https://jfkicksrestaurant.com/wp-content/uploads/2026/02/Sip-Paint-02-11-2026.jpeg
END:VEVENT
BEGIN:VEVENT
DTSTART;TZID=America/New_York:20260212T180000
DTEND;TZID=America/New_York:20260212T210000
DTSTAMP:20260423T020350
CREATED:20251204T123733Z
LAST-MODIFIED:20260325T184613Z
UID:10008582-1770919200-1770930000@jfkicksrestaurant.com
SUMMARY:Bike Night
DESCRIPTION:It’s Bike Night at Kicks! Join us for a night with vendors\, food and drink specials\, Thursday Night Football\, and live music. It’s fun for all and free to the public.
URL:https://jfkicksrestaurant.com/event/bike-night-3/2026-02-12/
CATEGORIES:Community,Drinks,Food,Music
ATTACH;FMTTYPE=image/jpeg:https://jfkicksrestaurant.com/wp-content/uploads/2025/12/Bike-Night-2nd-Thursday-Dec-2025.jpeg
END:VEVENT
BEGIN:VEVENT
DTSTART;TZID=America/New_York:20260215T110000
DTEND;TZID=America/New_York:20260215T150000
DTSTAMP:20260423T020350
CREATED:20240310T150939Z
LAST-MODIFIED:20260206T221046Z
UID:10004588-1771153200-1771167600@jfkicksrestaurant.com
SUMMARY:$20 Bottomless Mimosas and Sangrias
DESCRIPTION:$20 Bottomless Mimosas and Sangrias Sundays 11am-3pm! We open at 11am on Sundays.
URL:https://jfkicksrestaurant.com/event/20-bottomless-mimosas-and-sangrias/2026-02-15/
CATEGORIES:Drinks
ATTACH;FMTTYPE=image/jpeg:https://jfkicksrestaurant.com/wp-content/uploads/2024/03/Bottomless-Mimosa-June-2025.jpeg
END:VEVENT
BEGIN:VEVENT
DTSTART;TZID=America/New_York:20260215T110000
DTEND;TZID=America/New_York:20260215T150000
DTSTAMP:20260423T020351
CREATED:20260212T221516Z
LAST-MODIFIED:20260212T221518Z
UID:10009369-1771153200-1771167600@jfkicksrestaurant.com
SUMMARY:💖 Galentine's Day 💖
DESCRIPTION:💖💜💖 Celebrate Galentine’s Day at JF Kicks on Sunday\, February 15! Join us for an afternoon of fun\, friends\, cocktails\, and painting. \n** 11am – 3pm **\nEnjoy endless Sangrias and Mimosas for $20 and Absolut Tabasco Bloody Mary made with Dill Pickle Zing Zang Bloody Mary mix for $6.75! \n** 1pm – 3pm **\n$20 Glass Painting. It’s fun for all ages. The $20 fee includes supplies and 2 pieces of glassware to paint whatever your heart desires. Please RSVP email tamra@jfkicksrestaurant.com
URL:https://jfkicksrestaurant.com/event/%f0%9f%92%96-galentines-day-%f0%9f%92%96/
CATEGORIES:Arts & Crafts,Community,Drinks,Holiday
ATTACH;FMTTYPE=image/jpeg:https://jfkicksrestaurant.com/wp-content/uploads/2026/02/GalentinesDay2026.jpg
END:VEVENT
BEGIN:VEVENT
DTSTART;TZID=America/New_York:20260222T110000
DTEND;TZID=America/New_York:20260222T150000
DTSTAMP:20260423T020351
CREATED:20240310T150939Z
LAST-MODIFIED:20260206T221046Z
UID:10004589-1771758000-1771772400@jfkicksrestaurant.com
SUMMARY:$20 Bottomless Mimosas and Sangrias
DESCRIPTION:$20 Bottomless Mimosas and Sangrias Sundays 11am-3pm! We open at 11am on Sundays.
URL:https://jfkicksrestaurant.com/event/20-bottomless-mimosas-and-sangrias/2026-02-22/
CATEGORIES:Drinks
ATTACH;FMTTYPE=image/jpeg:https://jfkicksrestaurant.com/wp-content/uploads/2024/03/Bottomless-Mimosa-June-2025.jpeg
END:VEVENT
BEGIN:VEVENT
DTSTART;TZID=America/New_York:20260222T110000
DTEND;TZID=America/New_York:20260222T150000
DTSTAMP:20260423T020351
CREATED:20260201T031804Z
LAST-MODIFIED:20260211T150151Z
UID:10009217-1771758000-1771772400@jfkicksrestaurant.com
SUMMARY:Sunday Brunch
DESCRIPTION:Enjoy our special Sunday Brunch Menu and $20 Bottomless Mimosa & Sangria 11am-3pm on our covered patio and in our inviting indoor dining area. Live music on the patio 12-4pm.
URL:https://jfkicksrestaurant.com/event/sunday-brunch-2/2026-02-22/
CATEGORIES:Drinks,Food,Music
ATTACH;FMTTYPE=image/jpeg:https://jfkicksrestaurant.com/wp-content/uploads/2026/01/Brunch-2026.jpeg
END:VEVENT
BEGIN:VEVENT
DTSTART;TZID=America/New_York:20260301T110000
DTEND;TZID=America/New_York:20260301T150000
DTSTAMP:20260423T020351
CREATED:20240310T150939Z
LAST-MODIFIED:20260206T221046Z
UID:10004590-1772362800-1772377200@jfkicksrestaurant.com
SUMMARY:$20 Bottomless Mimosas and Sangrias
DESCRIPTION:$20 Bottomless Mimosas and Sangrias Sundays 11am-3pm! We open at 11am on Sundays.
URL:https://jfkicksrestaurant.com/event/20-bottomless-mimosas-and-sangrias/2026-03-01/
CATEGORIES:Drinks
ATTACH;FMTTYPE=image/jpeg:https://jfkicksrestaurant.com/wp-content/uploads/2024/03/Bottomless-Mimosa-June-2025.jpeg
END:VEVENT
BEGIN:VEVENT
DTSTART;TZID=America/New_York:20260301T110000
DTEND;TZID=America/New_York:20260301T150000
DTSTAMP:20260423T020351
CREATED:20260201T031804Z
LAST-MODIFIED:20260211T150151Z
UID:10009218-1772362800-1772377200@jfkicksrestaurant.com
SUMMARY:Sunday Brunch
DESCRIPTION:Enjoy our special Sunday Brunch Menu and $20 Bottomless Mimosa & Sangria 11am-3pm on our covered patio and in our inviting indoor dining area. Live music on the patio 12-4pm.
URL:https://jfkicksrestaurant.com/event/sunday-brunch-2/2026-03-01/
CATEGORIES:Drinks,Food,Music
ATTACH;FMTTYPE=image/jpeg:https://jfkicksrestaurant.com/wp-content/uploads/2026/01/Brunch-2026.jpeg
END:VEVENT
BEGIN:VEVENT
DTSTART;TZID=America/New_York:20260308T110000
DTEND;TZID=America/New_York:20260308T150000
DTSTAMP:20260423T020351
CREATED:20240310T150939Z
LAST-MODIFIED:20260206T221046Z
UID:10004591-1772967600-1772982000@jfkicksrestaurant.com
SUMMARY:$20 Bottomless Mimosas and Sangrias
DESCRIPTION:$20 Bottomless Mimosas and Sangrias Sundays 11am-3pm! We open at 11am on Sundays.
URL:https://jfkicksrestaurant.com/event/20-bottomless-mimosas-and-sangrias/2026-03-08/
CATEGORIES:Drinks
ATTACH;FMTTYPE=image/jpeg:https://jfkicksrestaurant.com/wp-content/uploads/2024/03/Bottomless-Mimosa-June-2025.jpeg
END:VEVENT
BEGIN:VEVENT
DTSTART;TZID=America/New_York:20260308T110000
DTEND;TZID=America/New_York:20260308T150000
DTSTAMP:20260423T020351
CREATED:20260201T031804Z
LAST-MODIFIED:20260211T150151Z
UID:10009219-1772967600-1772982000@jfkicksrestaurant.com
SUMMARY:Sunday Brunch
DESCRIPTION:Enjoy our special Sunday Brunch Menu and $20 Bottomless Mimosa & Sangria 11am-3pm on our covered patio and in our inviting indoor dining area. Live music on the patio 12-4pm.
URL:https://jfkicksrestaurant.com/event/sunday-brunch-2/2026-03-08/
CATEGORIES:Drinks,Food,Music
ATTACH;FMTTYPE=image/jpeg:https://jfkicksrestaurant.com/wp-content/uploads/2026/01/Brunch-2026.jpeg
END:VEVENT
BEGIN:VEVENT
DTSTART;TZID=America/New_York:20260315T110000
DTEND;TZID=America/New_York:20260315T150000
DTSTAMP:20260423T020351
CREATED:20240310T150939Z
LAST-MODIFIED:20260206T221046Z
UID:10004592-1773572400-1773586800@jfkicksrestaurant.com
SUMMARY:$20 Bottomless Mimosas and Sangrias
DESCRIPTION:$20 Bottomless Mimosas and Sangrias Sundays 11am-3pm! We open at 11am on Sundays.
URL:https://jfkicksrestaurant.com/event/20-bottomless-mimosas-and-sangrias/2026-03-15/
CATEGORIES:Drinks
ATTACH;FMTTYPE=image/jpeg:https://jfkicksrestaurant.com/wp-content/uploads/2024/03/Bottomless-Mimosa-June-2025.jpeg
END:VEVENT
BEGIN:VEVENT
DTSTART;TZID=America/New_York:20260315T110000
DTEND;TZID=America/New_York:20260315T150000
DTSTAMP:20260423T020351
CREATED:20260201T031804Z
LAST-MODIFIED:20260211T150151Z
UID:10009220-1773572400-1773586800@jfkicksrestaurant.com
SUMMARY:Sunday Brunch
DESCRIPTION:Enjoy our special Sunday Brunch Menu and $20 Bottomless Mimosa & Sangria 11am-3pm on our covered patio and in our inviting indoor dining area. Live music on the patio 12-4pm.
URL:https://jfkicksrestaurant.com/event/sunday-brunch-2/2026-03-15/
CATEGORIES:Drinks,Food,Music
ATTACH;FMTTYPE=image/jpeg:https://jfkicksrestaurant.com/wp-content/uploads/2026/01/Brunch-2026.jpeg
END:VEVENT
BEGIN:VEVENT
DTSTART;TZID=America/New_York:20260315T140000
DTEND;TZID=America/New_York:20260315T180000
DTSTAMP:20260423T020351
CREATED:20260225T185359Z
LAST-MODIFIED:20260306T174855Z
UID:10009391-1773583200-1773597600@jfkicksrestaurant.com
SUMMARY:St. Puppy's Day
DESCRIPTION:Get in the St. Patrick’s Day Spirit with the 2nd Annual St. Puppy’s Day at JF Kicks and in collaboration with 4 Lucky Dogs Pet Rescue. Bring your dogs and help us celebrate! This family-friendly event will have awards for Best Female Dog and Best Male Dog\, vendors\, raffles\, and more! We’ll have Sunday Brunch 11am-3pm. And guess what? We have a very special menu just for dogs (which our furry friends are big fans of)\, so feel free to treat your best bud and hang out on our covered patio.
URL:https://jfkicksrestaurant.com/event/st-puppys-day-2026/
CATEGORIES:Community,Drinks,Food,Holiday
ATTACH;FMTTYPE=image/jpeg:https://jfkicksrestaurant.com/wp-content/uploads/2026/02/St.-Puppys-Day-updated-March-2026.jpeg
END:VEVENT
END:VCALENDAR