BEGIN:VCALENDAR
VERSION:2.0
PRODID:-//JF Kicks Restaurant - ECPv6.15.18//NONSGML v1.0//EN
CALSCALE:GREGORIAN
METHOD:PUBLISH
X-ORIGINAL-URL:https://jfkicksrestaurant.com
X-WR-CALDESC:Events for JF Kicks Restaurant
REFRESH-INTERVAL;VALUE=DURATION:PT1H
X-Robots-Tag:noindex
X-PUBLISHED-TTL:PT1H
BEGIN:VTIMEZONE
TZID:America/New_York
BEGIN:DAYLIGHT
TZOFFSETFROM:-0500
TZOFFSETTO:-0400
TZNAME:EDT
DTSTART:20230312T070000
END:DAYLIGHT
BEGIN:STANDARD
TZOFFSETFROM:-0400
TZOFFSETTO:-0500
TZNAME:EST
DTSTART:20231105T060000
END:STANDARD
BEGIN:DAYLIGHT
TZOFFSETFROM:-0500
TZOFFSETTO:-0400
TZNAME:EDT
DTSTART:20240310T070000
END:DAYLIGHT
BEGIN:STANDARD
TZOFFSETFROM:-0400
TZOFFSETTO:-0500
TZNAME:EST
DTSTART:20241103T060000
END:STANDARD
BEGIN:DAYLIGHT
TZOFFSETFROM:-0500
TZOFFSETTO:-0400
TZNAME:EDT
DTSTART:20250309T070000
END:DAYLIGHT
BEGIN:STANDARD
TZOFFSETFROM:-0400
TZOFFSETTO:-0500
TZNAME:EST
DTSTART:20251102T060000
END:STANDARD
END:VTIMEZONE
BEGIN:VEVENT
DTSTART;TZID=America/New_York:20241013T110000
DTEND;TZID=America/New_York:20241013T150000
DTSTAMP:20260423T111313
CREATED:20240310T150939Z
LAST-MODIFIED:20260206T221046Z
UID:10004518-1728817200-1728831600@jfkicksrestaurant.com
SUMMARY:$20 Bottomless Mimosas and Sangrias
DESCRIPTION:$20 Bottomless Mimosas and Sangrias Sundays 11am-3pm! We open at 11am on Sundays.
URL:https://jfkicksrestaurant.com/event/20-bottomless-mimosas-and-sangrias/2024-10-13/
CATEGORIES:Drinks
ATTACH;FMTTYPE=image/jpeg:https://jfkicksrestaurant.com/wp-content/uploads/2024/03/Bottomless-Mimosa-June-2025.jpeg
END:VEVENT
BEGIN:VEVENT
DTSTART;TZID=America/New_York:20241006T110000
DTEND;TZID=America/New_York:20241006T150000
DTSTAMP:20260423T111313
CREATED:20240310T150939Z
LAST-MODIFIED:20260206T221046Z
UID:10004517-1728212400-1728226800@jfkicksrestaurant.com
SUMMARY:$20 Bottomless Mimosas and Sangrias
DESCRIPTION:$20 Bottomless Mimosas and Sangrias Sundays 11am-3pm! We open at 11am on Sundays.
URL:https://jfkicksrestaurant.com/event/20-bottomless-mimosas-and-sangrias/2024-10-06/
CATEGORIES:Drinks
ATTACH;FMTTYPE=image/jpeg:https://jfkicksrestaurant.com/wp-content/uploads/2024/03/Bottomless-Mimosa-June-2025.jpeg
END:VEVENT
BEGIN:VEVENT
DTSTART;TZID=America/New_York:20240929T110000
DTEND;TZID=America/New_York:20240929T150000
DTSTAMP:20260423T111313
CREATED:20240310T150939Z
LAST-MODIFIED:20260206T221046Z
UID:10004516-1727607600-1727622000@jfkicksrestaurant.com
SUMMARY:$20 Bottomless Mimosas and Sangrias
DESCRIPTION:$20 Bottomless Mimosas and Sangrias Sundays 11am-3pm! We open at 11am on Sundays.
URL:https://jfkicksrestaurant.com/event/20-bottomless-mimosas-and-sangrias/2024-09-29/
CATEGORIES:Drinks
ATTACH;FMTTYPE=image/jpeg:https://jfkicksrestaurant.com/wp-content/uploads/2024/03/Bottomless-Mimosa-June-2025.jpeg
END:VEVENT
BEGIN:VEVENT
DTSTART;TZID=America/New_York:20240922T110000
DTEND;TZID=America/New_York:20240922T150000
DTSTAMP:20260423T111313
CREATED:20240310T150939Z
LAST-MODIFIED:20260206T221046Z
UID:10004515-1727002800-1727017200@jfkicksrestaurant.com
SUMMARY:$20 Bottomless Mimosas and Sangrias
DESCRIPTION:$20 Bottomless Mimosas and Sangrias Sundays 11am-3pm! We open at 11am on Sundays.
URL:https://jfkicksrestaurant.com/event/20-bottomless-mimosas-and-sangrias/2024-09-22/
CATEGORIES:Drinks
ATTACH;FMTTYPE=image/jpeg:https://jfkicksrestaurant.com/wp-content/uploads/2024/03/Bottomless-Mimosa-June-2025.jpeg
END:VEVENT
BEGIN:VEVENT
DTSTART;TZID=America/New_York:20240920T160000
DTEND;TZID=America/New_York:20240922T235900
DTSTAMP:20260423T111313
CREATED:20240920T131238Z
LAST-MODIFIED:20240920T163859Z
UID:10005494-1726848000-1727049540@jfkicksrestaurant.com
SUMMARY:Oktoberfest
DESCRIPTION:We’re celebrating Oktoberfest at JF Kicks all weekend long with a special food and drink menu and live music. Starts Friday\, September 20 and goes through Sunday\, September 22. We can’t wait to see you here!\n\nFriday\, Sept 20:– 3-DOM Band 7-11pm (Patio)– Karaoke 9pm-1am (Inside Stage)\n\nSaturday\, Sept 21:– Rivals and Villains 8pm-12am– 1/2 Price Peel n’ Eat Shrimp\n\nSunday\, Sept 22:– Sunday Football games– $20 Bottomless Mimosas & Sangrias 11am-4pm
URL:https://jfkicksrestaurant.com/event/oktoberfest/
CATEGORIES:Community,Drinks,Food,Music
ATTACH;FMTTYPE=image/jpeg:https://jfkicksrestaurant.com/wp-content/uploads/2024/09/Oktoberfest-2024-Menu.jpeg
END:VEVENT
BEGIN:VEVENT
DTSTART;TZID=America/New_York:20240915T110000
DTEND;TZID=America/New_York:20240915T150000
DTSTAMP:20260423T111313
CREATED:20240310T150939Z
LAST-MODIFIED:20260206T221046Z
UID:10004514-1726398000-1726412400@jfkicksrestaurant.com
SUMMARY:$20 Bottomless Mimosas and Sangrias
DESCRIPTION:$20 Bottomless Mimosas and Sangrias Sundays 11am-3pm! We open at 11am on Sundays.
URL:https://jfkicksrestaurant.com/event/20-bottomless-mimosas-and-sangrias/2024-09-15/
CATEGORIES:Drinks
ATTACH;FMTTYPE=image/jpeg:https://jfkicksrestaurant.com/wp-content/uploads/2024/03/Bottomless-Mimosa-June-2025.jpeg
END:VEVENT
BEGIN:VEVENT
DTSTART;TZID=America/New_York:20240913T110000
DTEND;TZID=America/New_York:20240915T220000
DTSTAMP:20260423T111313
CREATED:20240905T155013Z
LAST-MODIFIED:20240905T172021Z
UID:10005491-1726225200-1726437600@jfkicksrestaurant.com
SUMMARY:🍀 Halfway to St. Patrick's Weekend Celebration 🍀
DESCRIPTION:We are just about halfway to St. Patrick’s Day\, so we’re celebrating at JF Kicks! Join us for a special St. Paddy’s Day food and drink menu\, live music\, and good times September 13 through 15!
URL:https://jfkicksrestaurant.com/event/halfway-to-st-patricks-weekend-celebration/
CATEGORIES:Community,Drinks,Food,Music
ATTACH;FMTTYPE=image/jpeg:https://jfkicksrestaurant.com/wp-content/uploads/2024/09/Halfway-to-St-Paddies-Sept-2024.jpeg
END:VEVENT
BEGIN:VEVENT
DTSTART;TZID=America/New_York:20240908T110000
DTEND;TZID=America/New_York:20240908T150000
DTSTAMP:20260423T111313
CREATED:20240310T150939Z
LAST-MODIFIED:20260206T221046Z
UID:10004513-1725793200-1725807600@jfkicksrestaurant.com
SUMMARY:$20 Bottomless Mimosas and Sangrias
DESCRIPTION:$20 Bottomless Mimosas and Sangrias Sundays 11am-3pm! We open at 11am on Sundays.
URL:https://jfkicksrestaurant.com/event/20-bottomless-mimosas-and-sangrias/2024-09-08/
CATEGORIES:Drinks
ATTACH;FMTTYPE=image/jpeg:https://jfkicksrestaurant.com/wp-content/uploads/2024/03/Bottomless-Mimosa-June-2025.jpeg
END:VEVENT
BEGIN:VEVENT
DTSTART;TZID=America/New_York:20240905T202000
DTEND;TZID=America/New_York:20240905T230000
DTSTAMP:20260423T111314
CREATED:20240905T162728Z
LAST-MODIFIED:20240905T162729Z
UID:10005492-1725567600-1725577200@jfkicksrestaurant.com
SUMMARY:Football's back!
DESCRIPTION:Football’s back and we’re showing all the games at Kicks! Come see the Ravens x Chiefs game tonight. Our Football Menu is available for dine-in during all NFL and college football games.
URL:https://jfkicksrestaurant.com/event/footballs-back/
CATEGORIES:Drinks,Food,Sports
ATTACH;FMTTYPE=image/jpeg:https://jfkicksrestaurant.com/wp-content/uploads/2024/09/Football-Menu-September-2024.jpeg
END:VEVENT
BEGIN:VEVENT
DTSTART;TZID=America/New_York:20240902T110000
DTEND;TZID=America/New_York:20240902T220000
DTSTAMP:20260423T111314
CREATED:20240830T175919Z
LAST-MODIFIED:20240830T183224Z
UID:10005475-1725274800-1725314400@jfkicksrestaurant.com
SUMMARY:Labor Day Specials
DESCRIPTION:Take it easy with us this Labor Day weekend. We’ve got dine-in specials happening Sunday and Monday: \n– Smash Burger $10.95 \n– 1/4 Burger $4.99 \n– $6 Watermelon Margaritas & Bloody Marys \n– Hot Dogs $8.95 \n– Happy Hour til 7:30pm
URL:https://jfkicksrestaurant.com/event/labor-day-specials/2024-09-02/
CATEGORIES:Community,Drinks,Food
ATTACH;FMTTYPE=image/jpeg:https://jfkicksrestaurant.com/wp-content/uploads/2024/08/Labor-Day-2024-Specials.jpeg
END:VEVENT
BEGIN:VEVENT
DTSTART;TZID=America/New_York:20240901T110000
DTEND;TZID=America/New_York:20240901T220000
DTSTAMP:20260423T111314
CREATED:20240830T175919Z
LAST-MODIFIED:20240830T183224Z
UID:10005474-1725188400-1725228000@jfkicksrestaurant.com
SUMMARY:Labor Day Specials
DESCRIPTION:Take it easy with us this Labor Day weekend. We’ve got dine-in specials happening Sunday and Monday: \n– Smash Burger $10.95 \n– 1/4 Burger $4.99 \n– $6 Watermelon Margaritas & Bloody Marys \n– Hot Dogs $8.95 \n– Happy Hour til 7:30pm
URL:https://jfkicksrestaurant.com/event/labor-day-specials/2024-09-01/
CATEGORIES:Community,Drinks,Food
ATTACH;FMTTYPE=image/jpeg:https://jfkicksrestaurant.com/wp-content/uploads/2024/08/Labor-Day-2024-Specials.jpeg
END:VEVENT
BEGIN:VEVENT
DTSTART;TZID=America/New_York:20240901T110000
DTEND;TZID=America/New_York:20240901T150000
DTSTAMP:20260423T111314
CREATED:20240310T150939Z
LAST-MODIFIED:20260206T221046Z
UID:10004512-1725188400-1725202800@jfkicksrestaurant.com
SUMMARY:$20 Bottomless Mimosas and Sangrias
DESCRIPTION:$20 Bottomless Mimosas and Sangrias Sundays 11am-3pm! We open at 11am on Sundays.
URL:https://jfkicksrestaurant.com/event/20-bottomless-mimosas-and-sangrias/2024-09-01/
CATEGORIES:Drinks
ATTACH;FMTTYPE=image/jpeg:https://jfkicksrestaurant.com/wp-content/uploads/2024/03/Bottomless-Mimosa-June-2025.jpeg
END:VEVENT
BEGIN:VEVENT
DTSTART;TZID=America/New_York:20240825T110000
DTEND;TZID=America/New_York:20240825T150000
DTSTAMP:20260423T111314
CREATED:20240310T150939Z
LAST-MODIFIED:20260206T221046Z
UID:10004511-1724583600-1724598000@jfkicksrestaurant.com
SUMMARY:$20 Bottomless Mimosas and Sangrias
DESCRIPTION:$20 Bottomless Mimosas and Sangrias Sundays 11am-3pm! We open at 11am on Sundays.
URL:https://jfkicksrestaurant.com/event/20-bottomless-mimosas-and-sangrias/2024-08-25/
CATEGORIES:Drinks
ATTACH;FMTTYPE=image/jpeg:https://jfkicksrestaurant.com/wp-content/uploads/2024/03/Bottomless-Mimosa-June-2025.jpeg
END:VEVENT
BEGIN:VEVENT
DTSTART;TZID=America/New_York:20240824T130000
DTEND;TZID=America/New_York:20240824T160000
DTSTAMP:20260423T111314
CREATED:20240715T173020Z
LAST-MODIFIED:20240715T173020Z
UID:10005442-1724504400-1724515200@jfkicksrestaurant.com
SUMMARY:Sips for Shelter Wine Tasting
DESCRIPTION:Come taste great local and international wines while supporting local charity A1 Opportunities and their mission to cure homelessness. Purchase tickets here.\n\n Wine Tasting of Local & International Wines Live music from Gene Cannon Magician Patrick Francis Silent Auction & 50/50 Raffle
URL:https://jfkicksrestaurant.com/event/sips-for-shelter-wine-tasting/
CATEGORIES:Community,Drinks,Food,Fundraising,Music,Performance
ATTACH;FMTTYPE=image/jpeg:https://jfkicksrestaurant.com/wp-content/uploads/2024/07/Sips-for-Shelter-August-2024.jpeg
END:VEVENT
BEGIN:VEVENT
DTSTART;TZID=America/New_York:20240818T110000
DTEND;TZID=America/New_York:20240818T150000
DTSTAMP:20260423T111314
CREATED:20240310T150939Z
LAST-MODIFIED:20260206T221046Z
UID:10004510-1723978800-1723993200@jfkicksrestaurant.com
SUMMARY:$20 Bottomless Mimosas and Sangrias
DESCRIPTION:$20 Bottomless Mimosas and Sangrias Sundays 11am-3pm! We open at 11am on Sundays.
URL:https://jfkicksrestaurant.com/event/20-bottomless-mimosas-and-sangrias/2024-08-18/
CATEGORIES:Drinks
ATTACH;FMTTYPE=image/jpeg:https://jfkicksrestaurant.com/wp-content/uploads/2024/03/Bottomless-Mimosa-June-2025.jpeg
END:VEVENT
BEGIN:VEVENT
DTSTART;TZID=America/New_York:20240811T110000
DTEND;TZID=America/New_York:20240811T150000
DTSTAMP:20260423T111314
CREATED:20240310T150939Z
LAST-MODIFIED:20260206T221046Z
UID:10004509-1723374000-1723388400@jfkicksrestaurant.com
SUMMARY:$20 Bottomless Mimosas and Sangrias
DESCRIPTION:$20 Bottomless Mimosas and Sangrias Sundays 11am-3pm! We open at 11am on Sundays.
URL:https://jfkicksrestaurant.com/event/20-bottomless-mimosas-and-sangrias/2024-08-11/
CATEGORIES:Drinks
ATTACH;FMTTYPE=image/jpeg:https://jfkicksrestaurant.com/wp-content/uploads/2024/03/Bottomless-Mimosa-June-2025.jpeg
END:VEVENT
BEGIN:VEVENT
DTSTART;TZID=America/New_York:20240804T110000
DTEND;TZID=America/New_York:20240804T150000
DTSTAMP:20260423T111314
CREATED:20240310T150939Z
LAST-MODIFIED:20260206T221046Z
UID:10004508-1722769200-1722783600@jfkicksrestaurant.com
SUMMARY:$20 Bottomless Mimosas and Sangrias
DESCRIPTION:$20 Bottomless Mimosas and Sangrias Sundays 11am-3pm! We open at 11am on Sundays.
URL:https://jfkicksrestaurant.com/event/20-bottomless-mimosas-and-sangrias/2024-08-04/
CATEGORIES:Drinks
ATTACH;FMTTYPE=image/jpeg:https://jfkicksrestaurant.com/wp-content/uploads/2024/03/Bottomless-Mimosa-June-2025.jpeg
END:VEVENT
BEGIN:VEVENT
DTSTART;TZID=America/New_York:20240728T110000
DTEND;TZID=America/New_York:20240728T150000
DTSTAMP:20260423T111314
CREATED:20240310T150939Z
LAST-MODIFIED:20260206T221046Z
UID:10004507-1722164400-1722178800@jfkicksrestaurant.com
SUMMARY:$20 Bottomless Mimosas and Sangrias
DESCRIPTION:$20 Bottomless Mimosas and Sangrias Sundays 11am-3pm! We open at 11am on Sundays.
URL:https://jfkicksrestaurant.com/event/20-bottomless-mimosas-and-sangrias/2024-07-28/
CATEGORIES:Drinks
ATTACH;FMTTYPE=image/jpeg:https://jfkicksrestaurant.com/wp-content/uploads/2024/03/Bottomless-Mimosa-June-2025.jpeg
END:VEVENT
BEGIN:VEVENT
DTSTART;TZID=America/New_York:20240721T110000
DTEND;TZID=America/New_York:20240721T150000
DTSTAMP:20260423T111314
CREATED:20240310T150939Z
LAST-MODIFIED:20260206T221046Z
UID:10004506-1721559600-1721574000@jfkicksrestaurant.com
SUMMARY:$20 Bottomless Mimosas and Sangrias
DESCRIPTION:$20 Bottomless Mimosas and Sangrias Sundays 11am-3pm! We open at 11am on Sundays.
URL:https://jfkicksrestaurant.com/event/20-bottomless-mimosas-and-sangrias/2024-07-21/
CATEGORIES:Drinks
ATTACH;FMTTYPE=image/jpeg:https://jfkicksrestaurant.com/wp-content/uploads/2024/03/Bottomless-Mimosa-June-2025.jpeg
END:VEVENT
BEGIN:VEVENT
DTSTART;TZID=America/New_York:20240714T150000
DTEND;TZID=America/New_York:20240714T170000
DTSTAMP:20260423T111314
CREATED:20240625T150640Z
LAST-MODIFIED:20240625T150641Z
UID:10005409-1720969200-1720976400@jfkicksrestaurant.com
SUMMARY:Annual Rib Cookoff
DESCRIPTION:The JF Kicks Annual Rib Cookoff is July 14! Come check out the competition for Valrico’s best ribs! Plus we’ve got lots of fun in store… \n\n~ Bottomless Mimosas & Sangrias – 11am – 3pm~ Brunch Menu – 11am – 3pm~ The Wonder Twins – 12pm – 3pm play the Patio Stage \n\nRib Cookoff competition details:– Email entries to johnny@jfkicksrestaurant.com– Deadline: July 12– Include: Your name and phone number– Have your ribs ready and at JF Kicks by 3pm to start the tasting by 3:30pm– $25 buy-in to get a rack of ribs that will go towards prizes and to secure your spot
URL:https://jfkicksrestaurant.com/event/annual-rib-cookoff/
CATEGORIES:Community,Drinks,Food,Music
ATTACH;FMTTYPE=image/jpeg:https://jfkicksrestaurant.com/wp-content/uploads/2024/06/Rib-Cookoff-July-2024.jpeg
END:VEVENT
BEGIN:VEVENT
DTSTART;TZID=America/New_York:20240714T110000
DTEND;TZID=America/New_York:20240714T150000
DTSTAMP:20260423T111314
CREATED:20240310T150939Z
LAST-MODIFIED:20260206T221046Z
UID:10004505-1720954800-1720969200@jfkicksrestaurant.com
SUMMARY:$20 Bottomless Mimosas and Sangrias
DESCRIPTION:$20 Bottomless Mimosas and Sangrias Sundays 11am-3pm! We open at 11am on Sundays.
URL:https://jfkicksrestaurant.com/event/20-bottomless-mimosas-and-sangrias/2024-07-14/
CATEGORIES:Drinks
ATTACH;FMTTYPE=image/jpeg:https://jfkicksrestaurant.com/wp-content/uploads/2024/03/Bottomless-Mimosa-June-2025.jpeg
END:VEVENT
BEGIN:VEVENT
DTSTART;TZID=America/New_York:20240707T110000
DTEND;TZID=America/New_York:20240707T150000
DTSTAMP:20260423T111314
CREATED:20240310T150939Z
LAST-MODIFIED:20260206T221046Z
UID:10004504-1720350000-1720364400@jfkicksrestaurant.com
SUMMARY:$20 Bottomless Mimosas and Sangrias
DESCRIPTION:$20 Bottomless Mimosas and Sangrias Sundays 11am-3pm! We open at 11am on Sundays.
URL:https://jfkicksrestaurant.com/event/20-bottomless-mimosas-and-sangrias/2024-07-07/
CATEGORIES:Drinks
ATTACH;FMTTYPE=image/jpeg:https://jfkicksrestaurant.com/wp-content/uploads/2024/03/Bottomless-Mimosa-June-2025.jpeg
END:VEVENT
BEGIN:VEVENT
DTSTART;VALUE=DATE:20240704
DTEND;VALUE=DATE:20240706
DTSTAMP:20260423T111314
CREATED:20240701T152303Z
LAST-MODIFIED:20240702T121421Z
UID:10005440-1720058400-1720144799@jfkicksrestaurant.com
SUMMARY:July 4th at JF Kicks
DESCRIPTION:American Classics Themed Open Mic with Mike & Sebastian 8pm-12am \n~ Specials on Hot Dogs\, Burgers\, Ribs\, and Pulled Pork Sliders \n~ Domestic Buckets for $17.76 \n~ Red\, White & Blue Shooters aka BombPops & Jello Shots
URL:https://jfkicksrestaurant.com/event/july-4th-at-jf-kicks/
CATEGORIES:Community,Drinks,Food,Music
ATTACH;FMTTYPE=image/jpeg:https://jfkicksrestaurant.com/wp-content/uploads/2024/07/JF-Kicks-4th-of-July-2024.jpg
END:VEVENT
BEGIN:VEVENT
DTSTART;TZID=America/New_York:20240630T110000
DTEND;TZID=America/New_York:20240630T150000
DTSTAMP:20260423T111314
CREATED:20240310T150939Z
LAST-MODIFIED:20260206T221046Z
UID:10004503-1719745200-1719759600@jfkicksrestaurant.com
SUMMARY:$20 Bottomless Mimosas and Sangrias
DESCRIPTION:$20 Bottomless Mimosas and Sangrias Sundays 11am-3pm! We open at 11am on Sundays.
URL:https://jfkicksrestaurant.com/event/20-bottomless-mimosas-and-sangrias/2024-06-30/
CATEGORIES:Drinks
ATTACH;FMTTYPE=image/jpeg:https://jfkicksrestaurant.com/wp-content/uploads/2024/03/Bottomless-Mimosa-June-2025.jpeg
END:VEVENT
BEGIN:VEVENT
DTSTART;TZID=America/New_York:20240623T110000
DTEND;TZID=America/New_York:20240623T150000
DTSTAMP:20260423T111314
CREATED:20240310T150939Z
LAST-MODIFIED:20260206T221046Z
UID:10004502-1719140400-1719154800@jfkicksrestaurant.com
SUMMARY:$20 Bottomless Mimosas and Sangrias
DESCRIPTION:$20 Bottomless Mimosas and Sangrias Sundays 11am-3pm! We open at 11am on Sundays.
URL:https://jfkicksrestaurant.com/event/20-bottomless-mimosas-and-sangrias/2024-06-23/
CATEGORIES:Drinks
ATTACH;FMTTYPE=image/jpeg:https://jfkicksrestaurant.com/wp-content/uploads/2024/03/Bottomless-Mimosa-June-2025.jpeg
END:VEVENT
BEGIN:VEVENT
DTSTART;TZID=America/New_York:20240616T110000
DTEND;TZID=America/New_York:20240616T150000
DTSTAMP:20260423T111314
CREATED:20240310T150939Z
LAST-MODIFIED:20260206T221046Z
UID:10004501-1718535600-1718550000@jfkicksrestaurant.com
SUMMARY:$20 Bottomless Mimosas and Sangrias
DESCRIPTION:$20 Bottomless Mimosas and Sangrias Sundays 11am-3pm! We open at 11am on Sundays.
URL:https://jfkicksrestaurant.com/event/20-bottomless-mimosas-and-sangrias/2024-06-16/
CATEGORIES:Drinks
ATTACH;FMTTYPE=image/jpeg:https://jfkicksrestaurant.com/wp-content/uploads/2024/03/Bottomless-Mimosa-June-2025.jpeg
END:VEVENT
BEGIN:VEVENT
DTSTART;TZID=America/New_York:20240609T110000
DTEND;TZID=America/New_York:20240609T150000
DTSTAMP:20260423T111314
CREATED:20240310T150939Z
LAST-MODIFIED:20260206T221046Z
UID:10004500-1717930800-1717945200@jfkicksrestaurant.com
SUMMARY:$20 Bottomless Mimosas and Sangrias
DESCRIPTION:$20 Bottomless Mimosas and Sangrias Sundays 11am-3pm! We open at 11am on Sundays.
URL:https://jfkicksrestaurant.com/event/20-bottomless-mimosas-and-sangrias/2024-06-09/
CATEGORIES:Drinks
ATTACH;FMTTYPE=image/jpeg:https://jfkicksrestaurant.com/wp-content/uploads/2024/03/Bottomless-Mimosa-June-2025.jpeg
END:VEVENT
BEGIN:VEVENT
DTSTART;TZID=America/New_York:20240602T110000
DTEND;TZID=America/New_York:20240602T150000
DTSTAMP:20260423T111314
CREATED:20240310T150939Z
LAST-MODIFIED:20260206T221046Z
UID:10004499-1717326000-1717340400@jfkicksrestaurant.com
SUMMARY:$20 Bottomless Mimosas and Sangrias
DESCRIPTION:$20 Bottomless Mimosas and Sangrias Sundays 11am-3pm! We open at 11am on Sundays.
URL:https://jfkicksrestaurant.com/event/20-bottomless-mimosas-and-sangrias/2024-06-02/
CATEGORIES:Drinks
ATTACH;FMTTYPE=image/jpeg:https://jfkicksrestaurant.com/wp-content/uploads/2024/03/Bottomless-Mimosa-June-2025.jpeg
END:VEVENT
BEGIN:VEVENT
DTSTART;TZID=America/New_York:20240526T110000
DTEND;TZID=America/New_York:20240526T150000
DTSTAMP:20260423T111314
CREATED:20240310T150939Z
LAST-MODIFIED:20260206T221046Z
UID:10004498-1716721200-1716735600@jfkicksrestaurant.com
SUMMARY:$20 Bottomless Mimosas and Sangrias
DESCRIPTION:$20 Bottomless Mimosas and Sangrias Sundays 11am-3pm! We open at 11am on Sundays.
URL:https://jfkicksrestaurant.com/event/20-bottomless-mimosas-and-sangrias/2024-05-26/
CATEGORIES:Drinks
ATTACH;FMTTYPE=image/jpeg:https://jfkicksrestaurant.com/wp-content/uploads/2024/03/Bottomless-Mimosa-June-2025.jpeg
END:VEVENT
BEGIN:VEVENT
DTSTART;TZID=America/New_York:20240519T110000
DTEND;TZID=America/New_York:20240519T150000
DTSTAMP:20260423T111314
CREATED:20240310T150939Z
LAST-MODIFIED:20260206T221046Z
UID:10004497-1716116400-1716130800@jfkicksrestaurant.com
SUMMARY:$20 Bottomless Mimosas and Sangrias
DESCRIPTION:$20 Bottomless Mimosas and Sangrias Sundays 11am-3pm! We open at 11am on Sundays.
URL:https://jfkicksrestaurant.com/event/20-bottomless-mimosas-and-sangrias/2024-05-19/
CATEGORIES:Drinks
ATTACH;FMTTYPE=image/jpeg:https://jfkicksrestaurant.com/wp-content/uploads/2024/03/Bottomless-Mimosa-June-2025.jpeg
END:VEVENT
END:VCALENDAR