BEGIN:VCALENDAR
VERSION:2.0
PRODID:-//JF Kicks Restaurant - ECPv6.15.18//NONSGML v1.0//EN
CALSCALE:GREGORIAN
METHOD:PUBLISH
X-ORIGINAL-URL:https://jfkicksrestaurant.com
X-WR-CALDESC:Events for JF Kicks Restaurant
REFRESH-INTERVAL;VALUE=DURATION:PT1H
X-Robots-Tag:noindex
X-PUBLISHED-TTL:PT1H
BEGIN:VTIMEZONE
TZID:America/New_York
BEGIN:DAYLIGHT
TZOFFSETFROM:-0500
TZOFFSETTO:-0400
TZNAME:EDT
DTSTART:20240310T070000
END:DAYLIGHT
BEGIN:STANDARD
TZOFFSETFROM:-0400
TZOFFSETTO:-0500
TZNAME:EST
DTSTART:20241103T060000
END:STANDARD
BEGIN:DAYLIGHT
TZOFFSETFROM:-0500
TZOFFSETTO:-0400
TZNAME:EDT
DTSTART:20250309T070000
END:DAYLIGHT
BEGIN:STANDARD
TZOFFSETFROM:-0400
TZOFFSETTO:-0500
TZNAME:EST
DTSTART:20251102T060000
END:STANDARD
BEGIN:DAYLIGHT
TZOFFSETFROM:-0500
TZOFFSETTO:-0400
TZNAME:EDT
DTSTART:20260308T070000
END:DAYLIGHT
BEGIN:STANDARD
TZOFFSETFROM:-0400
TZOFFSETTO:-0500
TZNAME:EST
DTSTART:20261101T060000
END:STANDARD
END:VTIMEZONE
BEGIN:VEVENT
DTSTART;TZID=America/New_York:20250906T140000
DTEND;TZID=America/New_York:20250906T163000
DTSTAMP:20260423T125037
CREATED:20250901T225613Z
LAST-MODIFIED:20250901T225614Z
UID:10008092-1757167200-1757176200@jfkicksrestaurant.com
SUMMARY:Blood Drive
DESCRIPTION:Our blood drive is set for Saturday\, September 6th from 2:00 PM to 4:30 PM with a goal of 5 donors. All donors will receive a OneBlood gift\, $20 e-Gift Card and a Free Pint of Beer Coupon! Plus\, a wellness checkup including blood pressure\, temperature\, iron count\, pulse and cholesterol screening! \nThe current blood supply is nearing low and we could really use your help! Each donation goes a long way in helping us in our lifesaving mission. We hope we can count you in! \nHere is the donor link where you can make appointments: https://www.oneblood.org/donate-now/scheduler.html?locationId=1671216 \nAppointments are not required\, but are encouraged\, however\, as they allow us to plan for the drive to ensure that it runs as smoothly as possible. \nReminder: OneBlood encourages all donors to eat at a meal at least 3 hours before donating and to stay hydrated throughout the day.
URL:https://jfkicksrestaurant.com/event/blood-drive/
LOCATION:Parking Lot
CATEGORIES:Community
ATTACH;FMTTYPE=image/jpeg:https://jfkicksrestaurant.com/wp-content/uploads/2025/09/Blood-Drive-09-06-2025.jpg
END:VEVENT
END:VCALENDAR