BEGIN:VCALENDAR
VERSION:2.0
PRODID:-//JF Kicks Restaurant - ECPv6.15.18//NONSGML v1.0//EN
CALSCALE:GREGORIAN
METHOD:PUBLISH
X-WR-CALNAME:JF Kicks Restaurant
X-ORIGINAL-URL:https://jfkicksrestaurant.com
X-WR-CALDESC:Events for JF Kicks Restaurant
REFRESH-INTERVAL;VALUE=DURATION:PT1H
X-Robots-Tag:noindex
X-PUBLISHED-TTL:PT1H
BEGIN:VTIMEZONE
TZID:America/New_York
BEGIN:DAYLIGHT
TZOFFSETFROM:-0500
TZOFFSETTO:-0400
TZNAME:EDT
DTSTART:20230312T070000
END:DAYLIGHT
BEGIN:STANDARD
TZOFFSETFROM:-0400
TZOFFSETTO:-0500
TZNAME:EST
DTSTART:20231105T060000
END:STANDARD
BEGIN:DAYLIGHT
TZOFFSETFROM:-0500
TZOFFSETTO:-0400
TZNAME:EDT
DTSTART:20240310T070000
END:DAYLIGHT
BEGIN:STANDARD
TZOFFSETFROM:-0400
TZOFFSETTO:-0500
TZNAME:EST
DTSTART:20241103T060000
END:STANDARD
BEGIN:DAYLIGHT
TZOFFSETFROM:-0500
TZOFFSETTO:-0400
TZNAME:EDT
DTSTART:20250309T070000
END:DAYLIGHT
BEGIN:STANDARD
TZOFFSETFROM:-0400
TZOFFSETTO:-0500
TZNAME:EST
DTSTART:20251102T060000
END:STANDARD
BEGIN:DAYLIGHT
TZOFFSETFROM:-0500
TZOFFSETTO:-0400
TZNAME:EDT
DTSTART:20260308T070000
END:DAYLIGHT
BEGIN:STANDARD
TZOFFSETFROM:-0400
TZOFFSETTO:-0500
TZNAME:EST
DTSTART:20261101T060000
END:STANDARD
END:VTIMEZONE
BEGIN:VEVENT
DTSTART;TZID=America/New_York:20250531T150000
DTEND;TZID=America/New_York:20250531T190000
DTSTAMP:20260420T121450
CREATED:20250525T102757Z
LAST-MODIFIED:20250525T102757Z
UID:10003162-1748703600-1748718000@jfkicksrestaurant.com
SUMMARY:Classic Car Show
DESCRIPTION:Come on out for the Classic Car Show\, the last Saturday every month from 3-7pm! We’ve got a DJ in the parking lot. Show up with a classic car and get a free 1/4 lb cheeseburger with chips and a non-alcoholic beverage.
URL:https://jfkicksrestaurant.com/event/classic-car-show-2/2025-05-31/
LOCATION:Parking Lot
CATEGORIES:Cars
ATTACH;FMTTYPE=image/jpeg:https://jfkicksrestaurant.com/wp-content/uploads/2024/01/Classic-Car-Show.jpg
END:VEVENT
BEGIN:VEVENT
DTSTART;TZID=America/New_York:20250426T150000
DTEND;TZID=America/New_York:20250426T190000
DTSTAMP:20260420T121450
CREATED:20240115T132345Z
LAST-MODIFIED:20240830T191025Z
UID:10003161-1745679600-1745694000@jfkicksrestaurant.com
SUMMARY:Classic Car Show
DESCRIPTION:Come on out for the Classic Car Show\, the last Saturday every month from 3-7pm! We’ve got a DJ in the parking lot. Show up with a classic car and get a free 1/4 lb cheeseburger with chips and a non-alcoholic beverage.
URL:https://jfkicksrestaurant.com/event/classic-car-show/2025-04-26/
LOCATION:Parking Lot
CATEGORIES:Cars
ATTACH;FMTTYPE=image/jpeg:https://jfkicksrestaurant.com/wp-content/uploads/2024/01/Classic-Car-Show.jpg
END:VEVENT
BEGIN:VEVENT
DTSTART;TZID=America/New_York:20250329T150000
DTEND;TZID=America/New_York:20250329T190000
DTSTAMP:20260420T121450
CREATED:20240115T132345Z
LAST-MODIFIED:20240830T191025Z
UID:10003160-1743260400-1743274800@jfkicksrestaurant.com
SUMMARY:Classic Car Show
DESCRIPTION:Come on out for the Classic Car Show\, the last Saturday every month from 3-7pm! We’ve got a DJ in the parking lot. Show up with a classic car and get a free 1/4 lb cheeseburger with chips and a non-alcoholic beverage.
URL:https://jfkicksrestaurant.com/event/classic-car-show/2025-03-29/
LOCATION:Parking Lot
CATEGORIES:Cars
ATTACH;FMTTYPE=image/jpeg:https://jfkicksrestaurant.com/wp-content/uploads/2024/01/Classic-Car-Show.jpg
END:VEVENT
BEGIN:VEVENT
DTSTART;TZID=America/New_York:20250222T150000
DTEND;TZID=America/New_York:20250222T190000
DTSTAMP:20260420T121450
CREATED:20240115T132345Z
LAST-MODIFIED:20240830T191025Z
UID:10003159-1740236400-1740250800@jfkicksrestaurant.com
SUMMARY:Classic Car Show
DESCRIPTION:Come on out for the Classic Car Show\, the last Saturday every month from 3-7pm! We’ve got a DJ in the parking lot. Show up with a classic car and get a free 1/4 lb cheeseburger with chips and a non-alcoholic beverage.
URL:https://jfkicksrestaurant.com/event/classic-car-show/2025-02-22/
LOCATION:Parking Lot
CATEGORIES:Cars
ATTACH;FMTTYPE=image/jpeg:https://jfkicksrestaurant.com/wp-content/uploads/2024/01/Classic-Car-Show.jpg
END:VEVENT
BEGIN:VEVENT
DTSTART;TZID=America/New_York:20250125T150000
DTEND;TZID=America/New_York:20250125T190000
DTSTAMP:20260420T121450
CREATED:20240115T132345Z
LAST-MODIFIED:20240830T191025Z
UID:10003158-1737817200-1737831600@jfkicksrestaurant.com
SUMMARY:Classic Car Show
DESCRIPTION:Come on out for the Classic Car Show\, the last Saturday every month from 3-7pm! We’ve got a DJ in the parking lot. Show up with a classic car and get a free 1/4 lb cheeseburger with chips and a non-alcoholic beverage.
URL:https://jfkicksrestaurant.com/event/classic-car-show/2025-01-25/
LOCATION:Parking Lot
CATEGORIES:Cars
ATTACH;FMTTYPE=image/jpeg:https://jfkicksrestaurant.com/wp-content/uploads/2024/01/Classic-Car-Show.jpg
END:VEVENT
BEGIN:VEVENT
DTSTART;TZID=America/New_York:20241228T150000
DTEND;TZID=America/New_York:20241228T190000
DTSTAMP:20260420T121450
CREATED:20240115T132345Z
LAST-MODIFIED:20240830T191025Z
UID:10003157-1735398000-1735412400@jfkicksrestaurant.com
SUMMARY:Classic Car Show
DESCRIPTION:Come on out for the Classic Car Show\, the last Saturday every month from 3-7pm! We’ve got a DJ in the parking lot. Show up with a classic car and get a free 1/4 lb cheeseburger with chips and a non-alcoholic beverage.
URL:https://jfkicksrestaurant.com/event/classic-car-show/2024-12-28/
LOCATION:Parking Lot
CATEGORIES:Cars
ATTACH;FMTTYPE=image/jpeg:https://jfkicksrestaurant.com/wp-content/uploads/2024/01/Classic-Car-Show.jpg
END:VEVENT
BEGIN:VEVENT
DTSTART;TZID=America/New_York:20241130T150000
DTEND;TZID=America/New_York:20241130T190000
DTSTAMP:20260420T121450
CREATED:20240115T132345Z
LAST-MODIFIED:20240830T191025Z
UID:10003156-1732978800-1732993200@jfkicksrestaurant.com
SUMMARY:Classic Car Show
DESCRIPTION:Come on out for the Classic Car Show\, the last Saturday every month from 3-7pm! We’ve got a DJ in the parking lot. Show up with a classic car and get a free 1/4 lb cheeseburger with chips and a non-alcoholic beverage.
URL:https://jfkicksrestaurant.com/event/classic-car-show/2024-11-30/
LOCATION:Parking Lot
CATEGORIES:Cars
ATTACH;FMTTYPE=image/jpeg:https://jfkicksrestaurant.com/wp-content/uploads/2024/01/Classic-Car-Show.jpg
END:VEVENT
BEGIN:VEVENT
DTSTART;TZID=America/New_York:20241026T150000
DTEND;TZID=America/New_York:20241026T190000
DTSTAMP:20260420T121450
CREATED:20240115T132345Z
LAST-MODIFIED:20240830T191025Z
UID:10003155-1729954800-1729969200@jfkicksrestaurant.com
SUMMARY:Classic Car Show
DESCRIPTION:Come on out for the Classic Car Show\, the last Saturday every month from 3-7pm! We’ve got a DJ in the parking lot. Show up with a classic car and get a free 1/4 lb cheeseburger with chips and a non-alcoholic beverage.
URL:https://jfkicksrestaurant.com/event/classic-car-show/2024-10-26/
LOCATION:Parking Lot
CATEGORIES:Cars
ATTACH;FMTTYPE=image/jpeg:https://jfkicksrestaurant.com/wp-content/uploads/2024/01/Classic-Car-Show.jpg
END:VEVENT
BEGIN:VEVENT
DTSTART;TZID=America/New_York:20240928T150000
DTEND;TZID=America/New_York:20240928T190000
DTSTAMP:20260420T121450
CREATED:20240115T132345Z
LAST-MODIFIED:20240830T191025Z
UID:10003154-1727535600-1727550000@jfkicksrestaurant.com
SUMMARY:Classic Car Show
DESCRIPTION:Come on out for the Classic Car Show\, the last Saturday every month from 3-7pm! We’ve got a DJ in the parking lot. Show up with a classic car and get a free 1/4 lb cheeseburger with chips and a non-alcoholic beverage.
URL:https://jfkicksrestaurant.com/event/classic-car-show/2024-09-28/
LOCATION:Parking Lot
CATEGORIES:Cars
ATTACH;FMTTYPE=image/jpeg:https://jfkicksrestaurant.com/wp-content/uploads/2024/01/Classic-Car-Show.jpg
END:VEVENT
BEGIN:VEVENT
DTSTART;TZID=America/New_York:20240831T150000
DTEND;TZID=America/New_York:20240831T190000
DTSTAMP:20260420T121450
CREATED:20240115T132345Z
LAST-MODIFIED:20240830T191025Z
UID:10003153-1725116400-1725130800@jfkicksrestaurant.com
SUMMARY:Classic Car Show
DESCRIPTION:Come on out for the Classic Car Show\, the last Saturday every month from 3-7pm! We’ve got a DJ in the parking lot. Show up with a classic car and get a free 1/4 lb cheeseburger with chips and a non-alcoholic beverage.
URL:https://jfkicksrestaurant.com/event/classic-car-show/2024-08-31/
LOCATION:Parking Lot
CATEGORIES:Cars
ATTACH;FMTTYPE=image/jpeg:https://jfkicksrestaurant.com/wp-content/uploads/2024/01/Classic-Car-Show.jpg
END:VEVENT
BEGIN:VEVENT
DTSTART;TZID=America/New_York:20240727T150000
DTEND;TZID=America/New_York:20240727T190000
DTSTAMP:20260420T121450
CREATED:20240115T132345Z
LAST-MODIFIED:20240830T191025Z
UID:10003152-1722092400-1722106800@jfkicksrestaurant.com
SUMMARY:Classic Car Show
DESCRIPTION:Come on out for the Classic Car Show\, the last Saturday every month from 3-7pm! We’ve got a DJ in the parking lot. Show up with a classic car and get a free 1/4 lb cheeseburger with chips and a non-alcoholic beverage.
URL:https://jfkicksrestaurant.com/event/classic-car-show/2024-07-27/
LOCATION:Parking Lot
CATEGORIES:Cars
ATTACH;FMTTYPE=image/jpeg:https://jfkicksrestaurant.com/wp-content/uploads/2024/01/Classic-Car-Show.jpg
END:VEVENT
BEGIN:VEVENT
DTSTART;TZID=America/New_York:20240629T150000
DTEND;TZID=America/New_York:20240629T190000
DTSTAMP:20260420T121450
CREATED:20240115T132345Z
LAST-MODIFIED:20240830T191025Z
UID:10003151-1719673200-1719687600@jfkicksrestaurant.com
SUMMARY:Classic Car Show
DESCRIPTION:Come on out for the Classic Car Show\, the last Saturday every month from 3-7pm! We’ve got a DJ in the parking lot. Show up with a classic car and get a free 1/4 lb cheeseburger with chips and a non-alcoholic beverage.
URL:https://jfkicksrestaurant.com/event/classic-car-show/2024-06-29/
LOCATION:Parking Lot
CATEGORIES:Cars
ATTACH;FMTTYPE=image/jpeg:https://jfkicksrestaurant.com/wp-content/uploads/2024/01/Classic-Car-Show.jpg
END:VEVENT
BEGIN:VEVENT
DTSTART;TZID=America/New_York:20240525T150000
DTEND;TZID=America/New_York:20240525T190000
DTSTAMP:20260420T121450
CREATED:20240115T132345Z
LAST-MODIFIED:20240830T191025Z
UID:10003150-1716649200-1716663600@jfkicksrestaurant.com
SUMMARY:Classic Car Show
DESCRIPTION:Come on out for the Classic Car Show\, the last Saturday every month from 3-7pm! We’ve got a DJ in the parking lot. Show up with a classic car and get a free 1/4 lb cheeseburger with chips and a non-alcoholic beverage.
URL:https://jfkicksrestaurant.com/event/classic-car-show/2024-05-25/
LOCATION:Parking Lot
CATEGORIES:Cars
ATTACH;FMTTYPE=image/jpeg:https://jfkicksrestaurant.com/wp-content/uploads/2024/01/Classic-Car-Show.jpg
END:VEVENT
BEGIN:VEVENT
DTSTART;TZID=America/New_York:20240427T150000
DTEND;TZID=America/New_York:20240427T190000
DTSTAMP:20260420T121450
CREATED:20240115T132345Z
LAST-MODIFIED:20240830T191025Z
UID:10003149-1714230000-1714244400@jfkicksrestaurant.com
SUMMARY:Classic Car Show
DESCRIPTION:Come on out for the Classic Car Show\, the last Saturday every month from 3-7pm! We’ve got a DJ in the parking lot. Show up with a classic car and get a free 1/4 lb cheeseburger with chips and a non-alcoholic beverage.
URL:https://jfkicksrestaurant.com/event/classic-car-show/2024-04-27/
LOCATION:Parking Lot
CATEGORIES:Cars
ATTACH;FMTTYPE=image/jpeg:https://jfkicksrestaurant.com/wp-content/uploads/2024/01/Classic-Car-Show.jpg
END:VEVENT
BEGIN:VEVENT
DTSTART;TZID=America/New_York:20240330T150000
DTEND;TZID=America/New_York:20240330T190000
DTSTAMP:20260420T121450
CREATED:20240115T132345Z
LAST-MODIFIED:20240830T191025Z
UID:10003148-1711810800-1711825200@jfkicksrestaurant.com
SUMMARY:Classic Car Show
DESCRIPTION:Come on out for the Classic Car Show\, the last Saturday every month from 3-7pm! We’ve got a DJ in the parking lot. Show up with a classic car and get a free 1/4 lb cheeseburger with chips and a non-alcoholic beverage.
URL:https://jfkicksrestaurant.com/event/classic-car-show/2024-03-30/
LOCATION:Parking Lot
CATEGORIES:Cars
ATTACH;FMTTYPE=image/jpeg:https://jfkicksrestaurant.com/wp-content/uploads/2024/01/Classic-Car-Show.jpg
END:VEVENT
BEGIN:VEVENT
DTSTART;TZID=America/New_York:20240224T150000
DTEND;TZID=America/New_York:20240224T190000
DTSTAMP:20260420T121450
CREATED:20240115T132345Z
LAST-MODIFIED:20240830T191025Z
UID:10003147-1708786800-1708801200@jfkicksrestaurant.com
SUMMARY:Classic Car Show
DESCRIPTION:Come on out for the Classic Car Show\, the last Saturday every month from 3-7pm! We’ve got a DJ in the parking lot. Show up with a classic car and get a free 1/4 lb cheeseburger with chips and a non-alcoholic beverage.
URL:https://jfkicksrestaurant.com/event/classic-car-show/2024-02-24/
LOCATION:Parking Lot
CATEGORIES:Cars
ATTACH;FMTTYPE=image/jpeg:https://jfkicksrestaurant.com/wp-content/uploads/2024/01/Classic-Car-Show.jpg
END:VEVENT
BEGIN:VEVENT
DTSTART;TZID=America/New_York:20240127T150000
DTEND;TZID=America/New_York:20240127T190000
DTSTAMP:20260420T121450
CREATED:20240115T132345Z
LAST-MODIFIED:20240830T191025Z
UID:10003146-1706367600-1706382000@jfkicksrestaurant.com
SUMMARY:Classic Car Show
DESCRIPTION:Come on out for the Classic Car Show\, the last Saturday every month from 3-7pm! We’ve got a DJ in the parking lot. Show up with a classic car and get a free 1/4 lb cheeseburger with chips and a non-alcoholic beverage.
URL:https://jfkicksrestaurant.com/event/classic-car-show/2024-01-27/
LOCATION:Parking Lot
CATEGORIES:Cars
ATTACH;FMTTYPE=image/jpeg:https://jfkicksrestaurant.com/wp-content/uploads/2024/01/Classic-Car-Show.jpg
END:VEVENT
END:VCALENDAR