BEGIN:VCALENDAR
VERSION:2.0
PRODID:-//JF Kicks Restaurant - ECPv6.15.18//NONSGML v1.0//EN
CALSCALE:GREGORIAN
METHOD:PUBLISH
X-ORIGINAL-URL:https://jfkicksrestaurant.com
X-WR-CALDESC:Events for JF Kicks Restaurant
REFRESH-INTERVAL;VALUE=DURATION:PT1H
X-Robots-Tag:noindex
X-PUBLISHED-TTL:PT1H
BEGIN:VTIMEZONE
TZID:America/New_York
BEGIN:DAYLIGHT
TZOFFSETFROM:-0500
TZOFFSETTO:-0400
TZNAME:EDT
DTSTART:20250309T070000
END:DAYLIGHT
BEGIN:STANDARD
TZOFFSETFROM:-0400
TZOFFSETTO:-0500
TZNAME:EST
DTSTART:20251102T060000
END:STANDARD
BEGIN:DAYLIGHT
TZOFFSETFROM:-0500
TZOFFSETTO:-0400
TZNAME:EDT
DTSTART:20260308T070000
END:DAYLIGHT
BEGIN:STANDARD
TZOFFSETFROM:-0400
TZOFFSETTO:-0500
TZNAME:EST
DTSTART:20261101T060000
END:STANDARD
BEGIN:DAYLIGHT
TZOFFSETFROM:-0500
TZOFFSETTO:-0400
TZNAME:EDT
DTSTART:20270314T070000
END:DAYLIGHT
BEGIN:STANDARD
TZOFFSETFROM:-0400
TZOFFSETTO:-0500
TZNAME:EST
DTSTART:20271107T060000
END:STANDARD
END:VTIMEZONE
BEGIN:VEVENT
DTSTART;TZID=America/New_York:20260215T110000
DTEND;TZID=America/New_York:20260215T150000
DTSTAMP:20260420T180519
CREATED:20260212T221516Z
LAST-MODIFIED:20260212T221518Z
UID:10009369-1771153200-1771167600@jfkicksrestaurant.com
SUMMARY:💖 Galentine's Day 💖
DESCRIPTION:💖💜💖 Celebrate Galentine’s Day at JF Kicks on Sunday\, February 15! Join us for an afternoon of fun\, friends\, cocktails\, and painting. \n** 11am – 3pm **\nEnjoy endless Sangrias and Mimosas for $20 and Absolut Tabasco Bloody Mary made with Dill Pickle Zing Zang Bloody Mary mix for $6.75! \n** 1pm – 3pm **\n$20 Glass Painting. It’s fun for all ages. The $20 fee includes supplies and 2 pieces of glassware to paint whatever your heart desires. Please RSVP email tamra@jfkicksrestaurant.com
URL:https://jfkicksrestaurant.com/event/%f0%9f%92%96-galentines-day-%f0%9f%92%96/
CATEGORIES:Arts & Crafts,Community,Drinks,Holiday
ATTACH;FMTTYPE=image/jpeg:https://jfkicksrestaurant.com/wp-content/uploads/2026/02/GalentinesDay2026.jpg
END:VEVENT
END:VCALENDAR