BEGIN:VCALENDAR
VERSION:2.0
PRODID:-//JF Kicks Restaurant - ECPv6.15.18//NONSGML v1.0//EN
CALSCALE:GREGORIAN
METHOD:PUBLISH
X-WR-CALNAME:JF Kicks Restaurant
X-ORIGINAL-URL:https://jfkicksrestaurant.com
X-WR-CALDESC:Events for JF Kicks Restaurant
REFRESH-INTERVAL;VALUE=DURATION:PT1H
X-Robots-Tag:noindex
X-PUBLISHED-TTL:PT1H
BEGIN:VTIMEZONE
TZID:America/New_York
BEGIN:DAYLIGHT
TZOFFSETFROM:-0500
TZOFFSETTO:-0400
TZNAME:EDT
DTSTART:20240310T070000
END:DAYLIGHT
BEGIN:STANDARD
TZOFFSETFROM:-0400
TZOFFSETTO:-0500
TZNAME:EST
DTSTART:20241103T060000
END:STANDARD
BEGIN:DAYLIGHT
TZOFFSETFROM:-0500
TZOFFSETTO:-0400
TZNAME:EDT
DTSTART:20250309T070000
END:DAYLIGHT
BEGIN:STANDARD
TZOFFSETFROM:-0400
TZOFFSETTO:-0500
TZNAME:EST
DTSTART:20251102T060000
END:STANDARD
BEGIN:DAYLIGHT
TZOFFSETFROM:-0500
TZOFFSETTO:-0400
TZNAME:EDT
DTSTART:20260308T070000
END:DAYLIGHT
BEGIN:STANDARD
TZOFFSETFROM:-0400
TZOFFSETTO:-0500
TZNAME:EST
DTSTART:20261101T060000
END:STANDARD
END:VTIMEZONE
BEGIN:VEVENT
DTSTART;VALUE=DATE:20251025
DTEND;VALUE=DATE:20251027
DTSTAMP:20260423T191222
CREATED:20250906T165304Z
LAST-MODIFIED:20250906T165304Z
UID:10008448-1761357600-1761443999@jfkicksrestaurant.com
SUMMARY:College Football Specials
DESCRIPTION:Check out our Saturday College Football specials: \n\nHalf-Priced Peel n’ Eat Shrimp\n$5 Jack Daniels\n$4 Shot Specials\n$18.95 Domestic Buckets\n$24.95 Import Buckets\n$28.95 Seltzer Buckets\n$6.50 Tito’s Zing Zang Bloody Marys
URL:https://jfkicksrestaurant.com/event/college-football-specials/2025-10-25/
CATEGORIES:Drinks,Food,Sports
ATTACH;FMTTYPE=image/jpeg:https://jfkicksrestaurant.com/wp-content/uploads/2025/09/Saturday-College-Football-Specials-Sept-2025-cropped.jpg
END:VEVENT
BEGIN:VEVENT
DTSTART;TZID=America/New_York:20251025T110000
DTEND;TZID=America/New_York:20251025T150000
DTSTAMP:20260423T191222
CREATED:20240115T134039Z
LAST-MODIFIED:20241116T043704Z
UID:10005577-1761390000-1761404400@jfkicksrestaurant.com
SUMMARY:Shaved Prime Rib Sandwich Lunch Special
DESCRIPTION:Try our Saturday lunch special\, Shaved Prime Rib on a garlic grilled hoagie with horsey sauce\, onions\, mushrooms\, and cheddarjack cheese served with side of fries for $12.95.
URL:https://jfkicksrestaurant.com/event/shaved-prime-rib-sandwich-lunch-special/2025-10-25/
CATEGORIES:Food
ATTACH;FMTTYPE=image/jpeg:https://jfkicksrestaurant.com/wp-content/uploads/2024/01/Shaved-Prime-Rib-Sandwich-.jpg
END:VEVENT
BEGIN:VEVENT
DTSTART;TZID=America/New_York:20251025T140000
DTEND;TZID=America/New_York:20251025T170000
DTSTAMP:20260423T191222
CREATED:20251006T131352Z
LAST-MODIFIED:20251012T150122Z
UID:10008529-1761400800-1761411600@jfkicksrestaurant.com
SUMMARY:Trunk-or-Treat
DESCRIPTION:We’re hosting a dog and family friendly Trunk or Treat that will be a spooky good time for all! It’s open to the public and there’s no cover charge. Local vendors will be here giving out candy and dog treats. Plus there will be a 50-50 Raffle! \nSponsored by 4 Lucky Dogs Pet Rescue
URL:https://jfkicksrestaurant.com/event/trunk-or-treat/
CATEGORIES:Holiday
ATTACH;FMTTYPE=image/jpeg:https://jfkicksrestaurant.com/wp-content/uploads/2025/10/Trunk-O-Treat-2025.jpg
END:VEVENT
BEGIN:VEVENT
DTSTART;TZID=America/New_York:20251025T160000
DTEND;TZID=America/New_York:20251025T210000
DTSTAMP:20260423T191222
CREATED:20231220T071858Z
LAST-MODIFIED:20240115T134139Z
UID:10003310-1761408000-1761426000@jfkicksrestaurant.com
SUMMARY:Half Priced Peel-N-Eat Shrimp Dinner Special
DESCRIPTION:Saturdays we offer Half Priced Peel-N-Eat Shrimp from 4-9pm!
URL:https://jfkicksrestaurant.com/event/half-price-peel-n-eat-shrimp/2025-10-25/
CATEGORIES:Food
ATTACH;FMTTYPE=image/jpeg:https://jfkicksrestaurant.com/wp-content/uploads/2023/12/410739926_777516257729740_5467180394573693269_n.jpg
END:VEVENT
BEGIN:VEVENT
DTSTART;TZID=America/New_York:20251025T200000
DTEND;TZID=America/New_York:20251025T235900
DTSTAMP:20260423T191222
CREATED:20250925T174538Z
LAST-MODIFIED:20250925T174538Z
UID:10008527-1761422400-1761436740@jfkicksrestaurant.com
SUMMARY:Bag-O-Trix
DESCRIPTION:Bag-O-Trix brings country rock to the Kicks Stage!
URL:https://jfkicksrestaurant.com/event/bag-o-trix-7/
LOCATION:Inside Main Stage
CATEGORIES:Music
ATTACH;FMTTYPE=image/jpeg:https://jfkicksrestaurant.com/wp-content/uploads/2024/07/Bag-O-Trix.jpg
END:VEVENT
BEGIN:VEVENT
DTSTART;TZID=America/New_York:20251025T210000
DTEND;TZID=America/New_York:20251025T230000
DTSTAMP:20260423T191222
CREATED:20250923T163434Z
LAST-MODIFIED:20250923T163434Z
UID:10008476-1761426000-1761433200@jfkicksrestaurant.com
SUMMARY:Comedy Night
DESCRIPTION:Get ready to laugh! Comedy Night by Cannonball Comedy brings Florida’s funniest comics for a night you won’t want to miss!
URL:https://jfkicksrestaurant.com/event/comedy-night/
LOCATION:Inside Main Stage
CATEGORIES:Comedy
ATTACH;FMTTYPE=image/jpeg:https://jfkicksrestaurant.com/wp-content/uploads/2025/09/Comedy-Night-Oct-25.jpg
END:VEVENT
END:VCALENDAR