BEGIN:VCALENDAR
VERSION:2.0
PRODID:-//JF Kicks Restaurant - ECPv6.15.18//NONSGML v1.0//EN
CALSCALE:GREGORIAN
METHOD:PUBLISH
X-ORIGINAL-URL:https://jfkicksrestaurant.com
X-WR-CALDESC:Events for JF Kicks Restaurant
REFRESH-INTERVAL;VALUE=DURATION:PT1H
X-Robots-Tag:noindex
X-PUBLISHED-TTL:PT1H
BEGIN:VTIMEZONE
TZID:America/New_York
BEGIN:DAYLIGHT
TZOFFSETFROM:-0500
TZOFFSETTO:-0400
TZNAME:EDT
DTSTART:20240310T070000
END:DAYLIGHT
BEGIN:STANDARD
TZOFFSETFROM:-0400
TZOFFSETTO:-0500
TZNAME:EST
DTSTART:20241103T060000
END:STANDARD
BEGIN:DAYLIGHT
TZOFFSETFROM:-0500
TZOFFSETTO:-0400
TZNAME:EDT
DTSTART:20250309T070000
END:DAYLIGHT
BEGIN:STANDARD
TZOFFSETFROM:-0400
TZOFFSETTO:-0500
TZNAME:EST
DTSTART:20251102T060000
END:STANDARD
BEGIN:DAYLIGHT
TZOFFSETFROM:-0500
TZOFFSETTO:-0400
TZNAME:EDT
DTSTART:20260308T070000
END:DAYLIGHT
BEGIN:STANDARD
TZOFFSETFROM:-0400
TZOFFSETTO:-0500
TZNAME:EST
DTSTART:20261101T060000
END:STANDARD
END:VTIMEZONE
BEGIN:VEVENT
DTSTART;VALUE=DATE:20251004
DTEND;VALUE=DATE:20251006
DTSTAMP:20260423T191233
CREATED:20250906T165304Z
LAST-MODIFIED:20250906T165304Z
UID:10008445-1759543200-1759629599@jfkicksrestaurant.com
SUMMARY:College Football Specials
DESCRIPTION:Check out our Saturday College Football specials: \n\nHalf-Priced Peel n’ Eat Shrimp\n$5 Jack Daniels\n$4 Shot Specials\n$18.95 Domestic Buckets\n$24.95 Import Buckets\n$28.95 Seltzer Buckets\n$6.50 Tito’s Zing Zang Bloody Marys
URL:https://jfkicksrestaurant.com/event/college-football-specials/2025-10-04/
CATEGORIES:Drinks,Food,Sports
ATTACH;FMTTYPE=image/jpeg:https://jfkicksrestaurant.com/wp-content/uploads/2025/09/Saturday-College-Football-Specials-Sept-2025-cropped.jpg
END:VEVENT
BEGIN:VEVENT
DTSTART;TZID=America/New_York:20251004T110000
DTEND;TZID=America/New_York:20251004T150000
DTSTAMP:20260423T191233
CREATED:20240115T134039Z
LAST-MODIFIED:20241116T043704Z
UID:10005574-1759575600-1759590000@jfkicksrestaurant.com
SUMMARY:Shaved Prime Rib Sandwich Lunch Special
DESCRIPTION:Try our Saturday lunch special\, Shaved Prime Rib on a garlic grilled hoagie with horsey sauce\, onions\, mushrooms\, and cheddarjack cheese served with side of fries for $12.95.
URL:https://jfkicksrestaurant.com/event/shaved-prime-rib-sandwich-lunch-special/2025-10-04/
CATEGORIES:Food
ATTACH;FMTTYPE=image/jpeg:https://jfkicksrestaurant.com/wp-content/uploads/2024/01/Shaved-Prime-Rib-Sandwich-.jpg
END:VEVENT
BEGIN:VEVENT
DTSTART;TZID=America/New_York:20251004T160000
DTEND;TZID=America/New_York:20251004T210000
DTSTAMP:20260423T191233
CREATED:20231220T071858Z
LAST-MODIFIED:20240115T134139Z
UID:10003307-1759593600-1759611600@jfkicksrestaurant.com
SUMMARY:Half Priced Peel-N-Eat Shrimp Dinner Special
DESCRIPTION:Saturdays we offer Half Priced Peel-N-Eat Shrimp from 4-9pm!
URL:https://jfkicksrestaurant.com/event/half-price-peel-n-eat-shrimp/2025-10-04/
CATEGORIES:Food
ATTACH;FMTTYPE=image/jpeg:https://jfkicksrestaurant.com/wp-content/uploads/2023/12/410739926_777516257729740_5467180394573693269_n.jpg
END:VEVENT
BEGIN:VEVENT
DTSTART;TZID=America/New_York:20251004T193000
DTEND;TZID=America/New_York:20251004T223000
DTSTAMP:20260423T191233
CREATED:20250923T163824Z
LAST-MODIFIED:20250923T163824Z
UID:10008477-1759606200-1759617000@jfkicksrestaurant.com
SUMMARY:Minnesota Golden Gophers vs. Ohio State Buckeyes
DESCRIPTION:JF Kicks is proud to be the home of the Suncoast Ohio State Alumni! Watch the Ohio State Buckeyes take on the Minnesota Golden Gophers Saturday Night. We’ll have football food and drink specials too.
URL:https://jfkicksrestaurant.com/event/minnesota-golden-gophers-vs-ohio-state-buckeyes/
CATEGORIES:Sports
ATTACH;FMTTYPE=image/jpeg:https://jfkicksrestaurant.com/wp-content/uploads/2025/09/Ohio-State-Football-Suncoast-Alumni-Fall-2025.jpg
END:VEVENT
END:VCALENDAR