BEGIN:VCALENDAR
VERSION:2.0
PRODID:-//JF Kicks Restaurant - ECPv6.15.18//NONSGML v1.0//EN
CALSCALE:GREGORIAN
METHOD:PUBLISH
X-WR-CALNAME:JF Kicks Restaurant
X-ORIGINAL-URL:https://jfkicksrestaurant.com
X-WR-CALDESC:Events for JF Kicks Restaurant
REFRESH-INTERVAL;VALUE=DURATION:PT1H
X-Robots-Tag:noindex
X-PUBLISHED-TTL:PT1H
BEGIN:VTIMEZONE
TZID:America/New_York
BEGIN:DAYLIGHT
TZOFFSETFROM:-0500
TZOFFSETTO:-0400
TZNAME:EDT
DTSTART:20240310T070000
END:DAYLIGHT
BEGIN:STANDARD
TZOFFSETFROM:-0400
TZOFFSETTO:-0500
TZNAME:EST
DTSTART:20241103T060000
END:STANDARD
BEGIN:DAYLIGHT
TZOFFSETFROM:-0500
TZOFFSETTO:-0400
TZNAME:EDT
DTSTART:20250309T070000
END:DAYLIGHT
BEGIN:STANDARD
TZOFFSETFROM:-0400
TZOFFSETTO:-0500
TZNAME:EST
DTSTART:20251102T060000
END:STANDARD
BEGIN:DAYLIGHT
TZOFFSETFROM:-0500
TZOFFSETTO:-0400
TZNAME:EDT
DTSTART:20260308T070000
END:DAYLIGHT
BEGIN:STANDARD
TZOFFSETFROM:-0400
TZOFFSETTO:-0500
TZNAME:EST
DTSTART:20261101T060000
END:STANDARD
END:VTIMEZONE
BEGIN:VEVENT
DTSTART;VALUE=DATE:20250822
DTEND;VALUE=DATE:20250824
DTSTAMP:20260424T074543
CREATED:20240115T130234Z
LAST-MODIFIED:20250901T230000Z
UID:10008178-1755828000-1755914399@jfkicksrestaurant.com
SUMMARY:All You Can Eat Fish & Chips
DESCRIPTION:Delicious\, crispy All You Can Eat Fish & Chips for $14.95 every Friday all day!
URL:https://jfkicksrestaurant.com/event/all-you-can-eat-fish-chips/2025-08-22/
CATEGORIES:Food
ATTACH;FMTTYPE=image/jpeg:https://jfkicksrestaurant.com/wp-content/uploads/2024/01/All-You-Can-Eat-Fish-n-Chips-January-2025.jpg.jpeg
END:VEVENT
BEGIN:VEVENT
DTSTART;TZID=America/New_York:20250822T190000
DTEND;TZID=America/New_York:20250822T230000
DTSTAMP:20260424T074543
CREATED:20250812T002209Z
LAST-MODIFIED:20250812T002209Z
UID:10007026-1755889200-1755903600@jfkicksrestaurant.com
SUMMARY:James Oberlin
DESCRIPTION:Enjoy live music from guitar player James Oberlin on the Kicks patio!
URL:https://jfkicksrestaurant.com/event/james-oberlin/
LOCATION:Outdoor Covered Patio Stage
CATEGORIES:Music
ATTACH;FMTTYPE=image/jpeg:https://jfkicksrestaurant.com/wp-content/uploads/2025/08/James-Oberlin.jpg
END:VEVENT
BEGIN:VEVENT
DTSTART;TZID=America/New_York:20250822T210000
DTEND;TZID=America/New_York:20250823T010000
DTSTAMP:20260424T074543
CREATED:20250117T142331Z
LAST-MODIFIED:20250117T142331Z
UID:10006101-1755896400-1755910800@jfkicksrestaurant.com
SUMMARY:Karaoke Night
DESCRIPTION:Join us for Karaoke Night with Johnny Q inside from 9pm to 1am every Friday night! There is no cover\, and we have food and drink specials.
URL:https://jfkicksrestaurant.com/event/karaoke-fridays/2025-08-22/
LOCATION:Inside Main Stage
CATEGORIES:Music
ATTACH;FMTTYPE=image/jpeg:https://jfkicksrestaurant.com/wp-content/uploads/2025/01/Karaoke-Night-Friday-January-2025.jpg.jpeg
END:VEVENT
END:VCALENDAR