BEGIN:VCALENDAR
VERSION:2.0
PRODID:-//JF Kicks Restaurant - ECPv6.15.18//NONSGML v1.0//EN
CALSCALE:GREGORIAN
METHOD:PUBLISH
X-ORIGINAL-URL:https://jfkicksrestaurant.com
X-WR-CALDESC:Events for JF Kicks Restaurant
REFRESH-INTERVAL;VALUE=DURATION:PT1H
X-Robots-Tag:noindex
X-PUBLISHED-TTL:PT1H
BEGIN:VTIMEZONE
TZID:America/New_York
BEGIN:DAYLIGHT
TZOFFSETFROM:-0500
TZOFFSETTO:-0400
TZNAME:EDT
DTSTART:20240310T070000
END:DAYLIGHT
BEGIN:STANDARD
TZOFFSETFROM:-0400
TZOFFSETTO:-0500
TZNAME:EST
DTSTART:20241103T060000
END:STANDARD
BEGIN:DAYLIGHT
TZOFFSETFROM:-0500
TZOFFSETTO:-0400
TZNAME:EDT
DTSTART:20250309T070000
END:DAYLIGHT
BEGIN:STANDARD
TZOFFSETFROM:-0400
TZOFFSETTO:-0500
TZNAME:EST
DTSTART:20251102T060000
END:STANDARD
BEGIN:DAYLIGHT
TZOFFSETFROM:-0500
TZOFFSETTO:-0400
TZNAME:EDT
DTSTART:20260308T070000
END:DAYLIGHT
BEGIN:STANDARD
TZOFFSETFROM:-0400
TZOFFSETTO:-0500
TZNAME:EST
DTSTART:20261101T060000
END:STANDARD
END:VTIMEZONE
BEGIN:VEVENT
DTSTART;TZID=America/New_York:20250327T140000
DTEND;TZID=America/New_York:20250327T220000
DTSTAMP:20260419T164601
CREATED:20250325T213048Z
LAST-MODIFIED:20250325T213137Z
UID:10006443-1743084000-1743112800@jfkicksrestaurant.com
SUMMARY:MLB Opening Day
DESCRIPTION:Baseball’s back! Celebrate MLB’s opening day of the baseball season at Kicks! \n⚾ Hot boiled peanuts\n⚾ Chili Dogs\n⚾ Hand Dipped Corn Dogs\n⚾ Hot Dog Bar\n⚾ Drink and Shot Specials\n⚾ And more!
URL:https://jfkicksrestaurant.com/event/mlb-opening-day/
CATEGORIES:Drinks,Food,Sports
ATTACH;FMTTYPE=image/jpeg:https://jfkicksrestaurant.com/wp-content/uploads/2025/03/Baseball-game-day-poster-downsized.jpg
END:VEVENT
BEGIN:VEVENT
DTSTART;TZID=America/New_York:20250327T160000
DTEND;TZID=America/New_York:20250327T220000
DTSTAMP:20260419T164601
CREATED:20240320T135813Z
LAST-MODIFIED:20250829T151627Z
UID:10001640-1743091200-1743112800@jfkicksrestaurant.com
SUMMARY:Steak Night
DESCRIPTION:$2 off Steak with Fries and Green Beans 4-10pm on Thursdays! Upgrade to mashed potatoes and asparagus. Valid for dine-in and to-go orders placed on our website (jfkicksrestaurant.com) only. Not valid for orders placed on any other to-go or delivery websites.
URL:https://jfkicksrestaurant.com/event/steak-night-2/2025-03-27/
CATEGORIES:Food
ATTACH;FMTTYPE=image/jpeg:https://jfkicksrestaurant.com/wp-content/uploads/2024/01/2-off-Steak-Night-March-2024.jpeg
END:VEVENT
BEGIN:VEVENT
DTSTART;TZID=America/New_York:20250327T190000
DTEND;TZID=America/New_York:20250327T220000
DTSTAMP:20260419T164601
CREATED:20250128T223614Z
LAST-MODIFIED:20250128T223614Z
UID:10006346-1743102000-1743112800@jfkicksrestaurant.com
SUMMARY:Kicks & Keys Piano Night
DESCRIPTION:Thursday nights are Piano Nights at JF Kicks! “That Piano Chick” Julie Legner presents an All Request Piano Night! Bring your requests and your friends and get ready to hear all your favorite songs. Martini and Appetizer specials\, plus a full food and drink menu.
URL:https://jfkicksrestaurant.com/event/kicks-keys-piano-night/2025-03-27/
LOCATION:Inside Main Stage
CATEGORIES:Music
ATTACH;FMTTYPE=image/jpeg:https://jfkicksrestaurant.com/wp-content/uploads/2025/01/Kicks-Keys.jpeg
END:VEVENT
END:VCALENDAR